BEGIN:VCALENDAR
VERSION:2.0
PRODID:-//Hull&#039;s Angels Wargaming Club - ECPv6.15.20//NONSGML v1.0//EN
CALSCALE:GREGORIAN
METHOD:PUBLISH
X-ORIGINAL-URL:https://hullsangels.com
X-WR-CALDESC:Events for Hull&#039;s Angels Wargaming Club
REFRESH-INTERVAL;VALUE=DURATION:PT1H
X-Robots-Tag:noindex
X-PUBLISHED-TTL:PT1H
BEGIN:VTIMEZONE
TZID:UTC
BEGIN:STANDARD
TZOFFSETFROM:+0000
TZOFFSETTO:+0000
TZNAME:UTC
DTSTART:20230101T000000
END:STANDARD
END:VTIMEZONE
BEGIN:VEVENT
DTSTART;TZID=UTC:20240601T000000
DTEND;TZID=UTC:20241231T235959
DTSTAMP:20260421T104655
CREATED:20240402T210410Z
LAST-MODIFIED:20241209T160112Z
UID:1233-1717200000-1735689599@hullsangels.com
SUMMARY:Membership 2024
DESCRIPTION:Hull’s Angels is ran by the community for the community. \n\n\n\nThe club is owned by the members\, with the day to day operations ran by an elected group of committee members. \n\n\n\nThe committee members and event organisers are all volunteers\, which helps keep our entry fees low. \n\n\n\nThe club’s goal is to make the gaming community in Hull and East Yorkshire the best it can be\, and offer a safe and comfortable environment for everyone to enjoy with great facilities. \n\n\n\nA Hull’s Angels Membership allows you be part of that journey. \n\n\n\n\n\nMember Benefits\n\n\n\nBeing a member gives you the following benefits for the remainder of 2024: \n\n\n\n \n\n\n\n\nSave £1 on the club entry fee each time you visit – meaning after 3 visits it has paid for itself!\n\n\n\nAccess to a Monthly entry fee (£15) for unlimited visits during that month \n\n\n\nYou’ll be eligible to vote at our Annual General Meetings where we decide the future and direction of the club\n\n\n\n\nEven if you can’t visit that often\, you can still purchase a membership to support the club and access the local business discounts: \n\n\n\n\nDiscounts at local hobby stores and cafes such as Mighty Lancer Games\, Hull Pops\, Bad Wolf Gaming\, and The Game Shack Beverley.\n\n\n\nThe Vanus Temple – save 15% on commissions.\n\n\n\nBattle Prints – save 10% on 3D printed alternative miniatures.\n\n\n\nAnd more to come!\n\n\n\n\nSo\, sign up today and help support Hull’s Angels! \n\n\n\n\nAll memberships expire at the same time\, regardless of when purchased. \n\n\n\nNormally our memberships run for a set 12 month period – to bring this into a simpler format for us to manage and for members to remember\, this membership will be a half-year membership expiring in December 2024\, so from January 2025 we can offer memberships that run the full calendar year of January to December. \n\n\n\n\n2024 membership is now closed. Click here for 2025 membership \n\n\n\n\nMembership Terms and conditions:\n\n\n\n\nYou must be aged 18+ to become a member\n\n\n\nMember Benefits are subject to change at any time\n\n\n\nA full description on what it means to be a member can be found in the club constitution
URL:https://hullsangels.com/event/membership-june-2024/
ATTACH;FMTTYPE=image/png:https://hullsangels.com/wp-content/uploads/2024/04/AF1QipNo27ixbqSeQ73igznk5uiwMoP19pnFoiKRtHrvw6130-h1534.png
END:VEVENT
BEGIN:VEVENT
DTSTART;TZID=UTC:20240903T180000
DTEND;TZID=UTC:20240929T140000
DTSTAMP:20260421T104655
CREATED:20240902T102910Z
LAST-MODIFIED:20240902T102937Z
UID:3277-1725386400-1727618400@hullsangels.com
SUMMARY:Speed Painting Challenge 2024
DESCRIPTION:To celebrate the launch of our new Painting Corner we’re running a Speed Painting challenge! \n\n\n\nYou’ll have 30 minutes to paint one of four miniatures using the 10 paints and brushes provided – all for free using one of our new painting desks! \n\n\n\nThe miniatures you can choose from are a Necron Warrior\, a Space Marine\, a Kruleboyz Gutrippa or a Stormcast Eternal. We only have a limited amount of each miniature\, so if you’ve got a favourite don’t delay! \n\n\n\n\n\n\n\nAt the end of September we’ll take photos of all the entries and then do an online voting on our Facebook page.  \n\n\n\nThe winner will receive a £20 Mighty Lancer Games Gift Voucher! \n\n\n\n \n\n\n\n\n\n\n\nRules\n\n\n\n\nEach individual can only enter once.\n\n\n\nOnly the miniatures and paints provided can be used.\n\n\n\nThe prize is a £20 gift voucher for use at Mighty Lancer Games. No cash alternative will be offered.\n\n\n\nEntrees must be registered using the QR code available in the club. Your name and email will only be used for this painting competition unless you opt in to our newsletter.\n\n\n\nVoting will be by members of the public on our Facebook page. The image with the most Likes will be the winner. Your name or email will not appear on the Facebook page alongside your miniature. \n\n\n\nThe challenge runs between 2nd September 2024 until the 29th September 2024
URL:https://hullsangels.com/event/speed-painting-challenge-2024/
LOCATION:Hull’s Angels Gaming Club\, 4-5 Whitefriargate\, Kingston Upon Hull\, HU1 2ER\, United Kingdom
CATEGORIES:Painting Competition
ATTACH;FMTTYPE=image/png:https://hullsangels.com/wp-content/uploads/2024/09/painting_FBBanner.png
END:VEVENT
BEGIN:VEVENT
DTSTART;TZID=UTC:20240910T180000
DTEND;TZID=UTC:20241008T233000
DTSTAMP:20260421T104655
CREATED:20240830T091336Z
LAST-MODIFIED:20240830T095454Z
UID:3184-1725991200-1728430200@hullsangels.com
SUMMARY:WHTOW: Painting Competition - Heroes and Wizards
DESCRIPTION:Take part in our first Warhammer The Old World Painting Competition series! As part of our Rallying Cry! events and meet-ups\, this painting challenge lets you take part even if you don’t play! \n\n\n\n\nThe category for this challenge is Foot Heroes and Wizards! \n\n\n\nFor each challenge in this series there will be a Hull’s Angels trophy up for grabs\, which will be awarded at the Rallying Cry! meet up in December. \n\n\n\nEntry is free\, but to gain access to the online submission portal you will need to register using our ticket system below. Once you’ve registered an email will be sent with a link to the online submission portal. \n\n\n\nRules:\n\n\n\n\nYou must have painted the miniature yourself.\n\n\n\nThe miniature must be Warhammer: The Old World themed.\n\n\n\nAfter the submission deadline the photos will be uploaded to our Facebook page where the public will vote on their favourites – we will include you name alongside your photo.\n\n\n\nThe deadline for this category is October 8th 2024 11:59pm\n\n\n\n\n\n\n\n\n\n\n\n\nThe Painting Corner\n\n\n\n\n\nIf you’re not able to paint at home\, or prefer to paint in the company of others\, then our dedicated painting space is for you!  \n\n\n\nWe have desks\, chairs\, lamps\, water cups and palettes available to use – and at a reduced club entry fee!
URL:https://hullsangels.com/event/whtow-painting-competition-heroes-and-wizards/
CATEGORIES:Painting Competition,Warhammer The Old World
ATTACH;FMTTYPE=image/jpeg:https://hullsangels.com/wp-content/uploads/2024/08/old-world-meet-up2-scaled.jpg
END:VEVENT
BEGIN:VEVENT
DTSTART;TZID=UTC:20240922T090000
DTEND;TZID=UTC:20240922T180000
DTSTAMP:20260421T104655
CREATED:20240201T111142Z
LAST-MODIFIED:20240902T133201Z
UID:705-1726995600-1727028000@hullsangels.com
SUMMARY:HABBL Super Sevens Tournament
DESCRIPTION:HABBL is proud to present our first Super Sevens Blood Bowl tournament! \n\n\n\nBlood Bowl 7’s is a variant of the traditional 11’s game\, played on a smaller pitch and with only 7 players. However\, compared to standard 7’s this event promises to be bloodier\, more brutal\, and present a different challenge for both new and experienced coaches.  \n\n\n\nWe will be providing pitches so all you need to bring is your team and some luck! \n\n\n\n\nEvent Essentials\n\n\n\nWhen: Sunday 22nd September 2024 from 9:00am \n\n\n\nWhere: Hull’s Angels Tabletop Gaming Club \n\n\n\nGame Format: Blood Bowl Sevens \n\n\n\nTeam Draft Budget: Draft your team as per the standardexhibition Blood Bowl 7’s rules found in Deathzone with the following changes: \n\n\n\n\nEach team has a draft budget of 750\,000 gold pieces\n\n\n\nInstead of up to 4 players that are not Linemen\, you may have up to 5!\n\n\n\n\n \n\n\n\nSkill Selection: All teams will be allowed to give their players a number of additional skills as listed below. These skills do not affect Team Value in any way. \n\n\n\n\nTier 1: 2 Primary Skills\n\n\n\nTier 2: 2 Primary Skills and 1 Secondary Skill\n\n\n\nTier 3: 2 Primary Skills and 2 Secondary Skills\n\n\n\nNotes:\n\nNo player may receive more than 1 Skill\n\n\n\nA Primary Skill may be selected instead of a Secondary\n\n\n\n\n\n\nNumber of games: Five \n\n\n\nPainting requirement: Painted Teams \n\n\n\nNumber of Tickets: 24 \n\n\n\n\nDownload Event Pack\n\n\n\n\n\nDownload 7’s Cheat Sheet\n\n\n\n\n\n\n\nThis is NAF sanctioned event \n\n\n\n\n\n\n\n\n\n\n\n\n\n\n\n\nHull’s Angels is home to the Bob Bifford’s Blood Bowl Bingo! This is an optional fun extra at our events that has no impact on the results of the games but can win you some additional swag! \n\n\n\nFor each row you complete you can claim yourself a prize from Bob’s Swag Pile (such as stickers\, art prints\, magnets\, slam coasters) and if you complete the entire sheet you’ll win the top prize – the ogre sized Big Bob Bifford Medal! \n\n\n\n\n			\n				\n			\n		The Big Bob Bifford Medal!
URL:https://hullsangels.com/event/habbl-super-sevens-tournament/
LOCATION:Hull’s Angels Gaming Club\, 4-5 Whitefriargate\, Kingston Upon Hull\, HU1 2ER\, United Kingdom
CATEGORIES:Blood Bowl
ATTACH;FMTTYPE=image/png:https://hullsangels.com/wp-content/uploads/2023/12/Generic_Event_images_BB.png
END:VEVENT
BEGIN:VEVENT
DTSTART;TZID=UTC:20240922T100000
DTEND;TZID=UTC:20240922T170000
DTSTAMP:20260421T104655
CREATED:20240916T102841Z
LAST-MODIFIED:20240916T162941Z
UID:3464-1726999200-1727024400@hullsangels.com
SUMMARY:Weekend Gaming - Sunday 22nd October
DESCRIPTION:The club will be open for gaming! You can play any game using our extensive range of scenery and boards! \n\n\n\nPlease note there may be another event happening at the same time at the club – check our events calendar to see what’s happening. Standard club fees apply.
URL:https://hullsangels.com/event/weekend-gaming-sunday-22nd-october/
LOCATION:Hull’s Angels Gaming Club\, 4-5 Whitefriargate\, Kingston Upon Hull\, HU1 2ER\, United Kingdom
CATEGORIES:Weekend Gaming
ATTACH;FMTTYPE=image/png:https://hullsangels.com/wp-content/uploads/2024/08/Event_generic_weekend_gaming.png
END:VEVENT
END:VCALENDAR