BEGIN:VCALENDAR
VERSION:2.0
PRODID:-//Hull&#039;s Angels Wargaming Club - ECPv6.15.20//NONSGML v1.0//EN
CALSCALE:GREGORIAN
METHOD:PUBLISH
X-ORIGINAL-URL:https://hullsangels.com
X-WR-CALDESC:Events for Hull&#039;s Angels Wargaming Club
REFRESH-INTERVAL;VALUE=DURATION:PT1H
X-Robots-Tag:noindex
X-PUBLISHED-TTL:PT1H
BEGIN:VTIMEZONE
TZID:UTC
BEGIN:STANDARD
TZOFFSETFROM:+0000
TZOFFSETTO:+0000
TZNAME:UTC
DTSTART:20230101T000000
END:STANDARD
END:VTIMEZONE
BEGIN:VTIMEZONE
TZID:Europe/London
BEGIN:DAYLIGHT
TZOFFSETFROM:+0000
TZOFFSETTO:+0100
TZNAME:BST
DTSTART:20230326T010000
END:DAYLIGHT
BEGIN:STANDARD
TZOFFSETFROM:+0100
TZOFFSETTO:+0000
TZNAME:GMT
DTSTART:20231029T010000
END:STANDARD
BEGIN:DAYLIGHT
TZOFFSETFROM:+0000
TZOFFSETTO:+0100
TZNAME:BST
DTSTART:20240331T010000
END:DAYLIGHT
BEGIN:STANDARD
TZOFFSETFROM:+0100
TZOFFSETTO:+0000
TZNAME:GMT
DTSTART:20241027T010000
END:STANDARD
BEGIN:DAYLIGHT
TZOFFSETFROM:+0000
TZOFFSETTO:+0100
TZNAME:BST
DTSTART:20250330T010000
END:DAYLIGHT
BEGIN:STANDARD
TZOFFSETFROM:+0100
TZOFFSETTO:+0000
TZNAME:GMT
DTSTART:20251026T010000
END:STANDARD
END:VTIMEZONE
BEGIN:VEVENT
DTSTART;TZID=UTC:20240601T000000
DTEND;TZID=UTC:20241231T235959
DTSTAMP:20260421T143928
CREATED:20240402T210410Z
LAST-MODIFIED:20241209T160112Z
UID:1233-1717200000-1735689599@hullsangels.com
SUMMARY:Membership 2024
DESCRIPTION:Hull’s Angels is ran by the community for the community. \n\n\n\nThe club is owned by the members\, with the day to day operations ran by an elected group of committee members. \n\n\n\nThe committee members and event organisers are all volunteers\, which helps keep our entry fees low. \n\n\n\nThe club’s goal is to make the gaming community in Hull and East Yorkshire the best it can be\, and offer a safe and comfortable environment for everyone to enjoy with great facilities. \n\n\n\nA Hull’s Angels Membership allows you be part of that journey. \n\n\n\n\n\nMember Benefits\n\n\n\nBeing a member gives you the following benefits for the remainder of 2024: \n\n\n\n \n\n\n\n\nSave £1 on the club entry fee each time you visit – meaning after 3 visits it has paid for itself!\n\n\n\nAccess to a Monthly entry fee (£15) for unlimited visits during that month \n\n\n\nYou’ll be eligible to vote at our Annual General Meetings where we decide the future and direction of the club\n\n\n\n\nEven if you can’t visit that often\, you can still purchase a membership to support the club and access the local business discounts: \n\n\n\n\nDiscounts at local hobby stores and cafes such as Mighty Lancer Games\, Hull Pops\, Bad Wolf Gaming\, and The Game Shack Beverley.\n\n\n\nThe Vanus Temple – save 15% on commissions.\n\n\n\nBattle Prints – save 10% on 3D printed alternative miniatures.\n\n\n\nAnd more to come!\n\n\n\n\nSo\, sign up today and help support Hull’s Angels! \n\n\n\n\nAll memberships expire at the same time\, regardless of when purchased. \n\n\n\nNormally our memberships run for a set 12 month period – to bring this into a simpler format for us to manage and for members to remember\, this membership will be a half-year membership expiring in December 2024\, so from January 2025 we can offer memberships that run the full calendar year of January to December. \n\n\n\n\n2024 membership is now closed. Click here for 2025 membership \n\n\n\n\nMembership Terms and conditions:\n\n\n\n\nYou must be aged 18+ to become a member\n\n\n\nMember Benefits are subject to change at any time\n\n\n\nA full description on what it means to be a member can be found in the club constitution
URL:https://hullsangels.com/event/membership-june-2024/
ATTACH;FMTTYPE=image/png:https://hullsangels.com/wp-content/uploads/2024/04/AF1QipNo27ixbqSeQ73igznk5uiwMoP19pnFoiKRtHrvw6130-h1534.png
END:VEVENT
BEGIN:VEVENT
DTSTART;TZID=Europe/London:20241221T080000
DTEND;TZID=Europe/London:20241221T200000
DTSTAMP:20260421T143928
CREATED:20241114T105108Z
LAST-MODIFIED:20241211T110544Z
UID:4095-1734768000-1734811200@hullsangels.com
SUMMARY:The Big Game 5 - Erasing Your Mistakes
DESCRIPTION:The fifth event in our ‘Big Game’ series. A custom narrative Warhammer 40\,000 Apocalypse game for crazy people with huge armies. Continue the story of Sephirus and impact what happens in our next narrative campaign day event. \n\n\n\n\nEvent Essentials\n\n\n\nWhen: 21st December 2024 \n\n\n\nStart Time: 08:00 \n\n\n\nFinish Time: 20:00 (or earlier if the game is over) \n\n\n\nTicket Price: £5 \n\n\n\nNumber of Tickets: 12 (4 imperium\, 4 chaos\, 4 xenos) \n\n\n\nPainting Requirements: Fully painted and based \n\n\n\n\n\nThe Story So Far…\n\n\n\nThe Imperium is still reeling from the loss of Sephrirus and the STC machine that was found there. The forces of Chaos revel in their victory\, despite the loss of their demonic overlord. \n\n\n\nIn tatters\, those forces loyal to The Emperor that still remain have fled to the fortress world of Fortrin’s Forge. There they seek to employ a new weapon: a weapon powerful enough to destroy the beleaguered world of Sephrirus and all the forces who still walk its surface in one sudden move – erasing forever the mistakes that had been made there. \n\n\n\nHowever\, Fortrin’s Forge was already being besieged. Do the forces assailing it understand the weapon at its core or are they simply attempting to destroy the imperial remnants? Only time will tell. \n\n\n\nHeroes step forwards to prove there is light left in the darkness. Sephirius is gone but the war continues… \n\n\n\n\n\nEVENT RULES\n\n\n\n\nArmy Rules: \n\n\n\nEach player brings roughly 4000-5000 points of their army. \n\n\n\nThe game uses open war narrative rules and so you may bring whatever you like – there is no rule of three. You may bring models from different codexes/indexes if you wish but they must still all fit into either xenos\, imperium or chaos. Every model from one codex/index must use the same detachment e.g. all your space marines must use the gladius detachment (if that’s what you pick) and you may not use any other for any other space marines you bring. \n\n\n\nEach player will have one warlord (pick the character that makes the most sense narratively). Each team will also select a warmaster\, who is in overall command of the team. \n\n\n\nYour army must be fully painted and correctly based. \n\n\n\nThis is a narrative mission about the story of your characters. Therefore\, you may not bring named characters (e.g. no primarchs). C’tan shards are not named characters – but only one of each ‘named’ one may be used across all Necron players (if there are any) \n\n\n\nYou may bring legend units (provided they are not named characters). \n\n\n\n\n\nMission rules: \n\n\n\nThe game use a custom narrative rule set that players at previous Big Games will already know. \n\n\n\n\nDeployment is done by all players at the same time. Each team will secretly select a number of minutes from 1 to 20. This is how much time they will have to set up their entire army. The team on each board with the lowest number will go first. (Team Imperium must select one number despite being split across two boards). Any units not set up in time are placed in strategic reserve.\n\n\n\nUnits coming in from strategic reserves may enter from any board edge and in the enemy deployment zone at any turn. All reserves must be on the table by the end of Turn 3 or count as destroyed. The team going second may bring in reserves from Turn 1.\n\n\n\nAircraft may start the game on the board\, deployed as normal.\n\n\n\nThe following stratagems may not be used: command re-roll\, counter-offensive\, insane bravery\, fire overwatch\, rapid ingress.\n\n\n\nEach player will be given 20 command points at the start of the game. You may not generate more for any reason.\n\n\n\nYou may use the same stratagem more than once in a phase. However\, the cost of this stratagem doubles each time you use it. (e.g. a 1cp stratagem will cost 2cp the second time\, 4 the third etc…)\n\n\n\nAll Team Imperium players will start and finish their turns at the same time. Team Chaos and Team Xenos will do the same. However\, some players may find they are ready to start the next phase before others – this is acceptable\, provided you have checked with your teammates. You may not be available to watch dice rolls done against your units but someone from your team must watch every enemy dice roll. Unless you give permission\, you should roll all saves for your own units. You may also allow others to move\, fire and even charge/fight with your units if you wish.\n\n\n\nThe game is designed to be fun for all players\, so the organiser may make changes throughout the game to keep things fun\, for example I may allow a player to bring on dead units if they are getting destroyed. \n\n\n\n\n\n\nVictory Conditions: \n\n\n\n\nThere are a number of objective markers on each board. Players that hold an objective at the end of their command phase earn their team 5 Victory Points if it is your deployment zone\, 10 victory points if it is in no man’s land and 15 victory points if it is the enemy deployment zone.\n\n\n\nKilling an enemy Warlord is worth 10 victory points and killing the enemy war master is worth 20 victory points.\n\n\n\nEach player will also have a secret objective. If they manage to keep this secret and achieve this by the end of the game\, each one is worth 10 victory points.\n\n\n\nThe team with the most victory points at the end of the game wins.\n\n\n\n\n\n\nEvent Schedule: \n\n\n\n8.00 – 8.30 – arrive and get your army ready in a staging zone \n\n\n\n8.30-9.15 – Briefing and deployment \n\n\n\n9.15-12.00 – Game \n\n\n\n12.00-12.30 – Lunch \n\n\n\n12.30 – 20.00 – Game \n\n\n\n20.00 – End of the game \n\n\n\nThe game ends if any of these requirements are met: \n\n\n\n\nFive turns for all teams are completed.\n\n\n\nIt reaches 20.00\n\n\n\nThe outcome is obvious and the majority to vote to end the game\n\n\n\n\n\n\nAwards \n\n\n\nEveryone at this event is a winner but there are no prizes to be won. \n\n\n\n\n\n\n\n\n\n\n\n\n\n\n\n\n\n\n\n\nQuestions?\n\n\n\nIf you’ve got any questions about this event that aren’t answered in the event pack or below\, please get in touch! \n\n\n\n\n\nAbout the Venue\n\n\n\nHull’s Angels Tabletop Gaming Club is ran by the community\, for the community. Our committee members and event organisers are all volunteers\, which helps keep our entry fees low.  \n\n\n\nOur goal is the make the gaming community in Hull and East Yorkshire the best it can be\, and offer a safe and comfortable environment for everyone to enjoy with great facilities.  \n\n\n\nFood and Drinks\n\n\n\nFood will not be provided for this event\, however the club is located right in the middle of Hull City Center which is home to all kinds of bars\, restaurants and takeaways.The club has a front counter which sells hot and cold drinks\, snacks\, hobby supplies\, dice\, and sprays! All sales from these help keep the club open. \n\n\n\nAge Restrictions\n\n\n\nTo attend an event you must be 18 or over.  \n\n\n\nDisabled Access\n\n\n\nThe club is situated on the first floor up a flight of stairs. Unfortunately we have no disabled access right now – this is something we’re working on. \n\n\n\nEach of gaming tables are designed to be stood at while playing\, or sat on stools at. If you have accessibility requirements and would prefer a lower table with chairs please let us know and we can provide one for your visit. \n\n\n\nFacilities\n\n\n\nThe club has toilet facilities for both male\, female and disabled visitors. \n\n\n\nWhere to Find Us and Parking\n\n\n\nInformation on the best places to park for the event can be found here \n\n\n\n\n	\n		\n\n	\n\n\n\n\n	\n\n\n\n\nRefund Policy\n\n\n\nTickets can be refunded up to 7 days before the event starts unless the event is cancelled\, where a full refund will be issued. If you turn up after the safety briefing at the start of the event\, you may be turned away without a refund. Hull’s Angels is not responsible for any additional costs (such as travel or accommodation) that may occur if an event is cancelled. To request a refund please contact us.
URL:https://hullsangels.com/event/the-big-game-5-erasing-your-mistakes/
LOCATION:Hull’s Angels Gaming Club\, 4-5 Whitefriargate\, Kingston Upon Hull\, HU1 2ER\, United Kingdom
CATEGORIES:Warhammer 40k
ATTACH;FMTTYPE=image/png:https://hullsangels.com/wp-content/uploads/2024/11/apoc_banner.png
END:VEVENT
END:VCALENDAR