BEGIN:VCALENDAR
VERSION:2.0
PRODID:-//Hull&#039;s Angels Wargaming Club - ECPv6.15.20//NONSGML v1.0//EN
CALSCALE:GREGORIAN
METHOD:PUBLISH
X-WR-CALNAME:Hull&#039;s Angels Wargaming Club
X-ORIGINAL-URL:https://hullsangels.com
X-WR-CALDESC:Events for Hull&#039;s Angels Wargaming Club
REFRESH-INTERVAL;VALUE=DURATION:PT1H
X-Robots-Tag:noindex
X-PUBLISHED-TTL:PT1H
BEGIN:VTIMEZONE
TZID:Europe/London
BEGIN:DAYLIGHT
TZOFFSETFROM:+0000
TZOFFSETTO:+0100
TZNAME:BST
DTSTART:20240331T010000
END:DAYLIGHT
BEGIN:STANDARD
TZOFFSETFROM:+0100
TZOFFSETTO:+0000
TZNAME:GMT
DTSTART:20241027T010000
END:STANDARD
BEGIN:DAYLIGHT
TZOFFSETFROM:+0000
TZOFFSETTO:+0100
TZNAME:BST
DTSTART:20250330T010000
END:DAYLIGHT
BEGIN:STANDARD
TZOFFSETFROM:+0100
TZOFFSETTO:+0000
TZNAME:GMT
DTSTART:20251026T010000
END:STANDARD
BEGIN:DAYLIGHT
TZOFFSETFROM:+0000
TZOFFSETTO:+0100
TZNAME:BST
DTSTART:20260329T010000
END:DAYLIGHT
BEGIN:STANDARD
TZOFFSETFROM:+0100
TZOFFSETTO:+0000
TZNAME:GMT
DTSTART:20261025T010000
END:STANDARD
END:VTIMEZONE
BEGIN:VEVENT
DTSTART;TZID=Europe/London:20250103T183000
DTEND;TZID=Europe/London:20250103T220000
DTSTAMP:20260421T142515
CREATED:20241211T104352Z
LAST-MODIFIED:20250103T151204Z
UID:4576-1735929000-1735941600@hullsangels.com
SUMMARY:Warhammer 40\,000 Beginner's Evening - January 3rd
DESCRIPTION:If you’ve ever fancied getting started with Warhammer 40\,00\, or getting back into it if you’ve not played for a while\, then this is the event for you! \n\n\n\nThis event is for newer players to play games of Warhammer 40\,000 helped by a team of veterans who will answer questions and run you through games. \n\n\n\n\nEvent Essentials\n\n\n\nWhen: Friday 3rd January 2025 \n\n\n\nStart Time: 18:30 \n\n\n\nFinish Time: 22.00 \n\n\n\nTicket Price: The event is free! \n\n\n\nWhat you’ll need: See below \n\n\n\nNumber of Tickets: 24 (8 more added) \n\n\n\n\nTurn up with a 1000 point army and we will pair you up with an opponent who is also a beginner (where possible). \n\n\n\nYour table will be placed by a game between 40k veterans who know the rules very well. They will be there to help you get started and answer any of your questions. \n\n\n\nIf you are a brand new player and need more help there will also be team members on hand to run you and your opponent through a full game. \n\n\n\nDon’t have an army ready but want to learn the game? No problem. There will be a small selection of armies that you can borrow to play your game. \n\n\n\nIt is recommended that you download the Warhammer 40\,000 app onto your phone in order to help you play.  \n\n\n\nWhilst there will be a small selection of these available to borrow if required\, please bring a tape measure\, dice and any other materials you need to play.
URL:https://hullsangels.com/event/warhammer-40000-beginners-evening-january-3rd/
LOCATION:Hull’s Angels Gaming Club\, 4-5 Whitefriargate\, Kingston Upon Hull\, HU1 2ER\, United Kingdom
CATEGORIES:Warhammer 40k
ATTACH;FMTTYPE=image/png:https://hullsangels.com/wp-content/uploads/2024/08/40k_beginners_banner.png
END:VEVENT
END:VCALENDAR