BEGIN:VCALENDAR
VERSION:2.0
PRODID:-//Hull&#039;s Angels Wargaming Club - ECPv6.15.20//NONSGML v1.0//EN
CALSCALE:GREGORIAN
METHOD:PUBLISH
X-WR-CALNAME:Hull&#039;s Angels Wargaming Club
X-ORIGINAL-URL:https://hullsangels.com
X-WR-CALDESC:Events for Hull&#039;s Angels Wargaming Club
REFRESH-INTERVAL;VALUE=DURATION:PT1H
X-Robots-Tag:noindex
X-PUBLISHED-TTL:PT1H
BEGIN:VTIMEZONE
TZID:Europe/London
BEGIN:DAYLIGHT
TZOFFSETFROM:+0000
TZOFFSETTO:+0100
TZNAME:BST
DTSTART:20240331T010000
END:DAYLIGHT
BEGIN:STANDARD
TZOFFSETFROM:+0100
TZOFFSETTO:+0000
TZNAME:GMT
DTSTART:20241027T010000
END:STANDARD
BEGIN:DAYLIGHT
TZOFFSETFROM:+0000
TZOFFSETTO:+0100
TZNAME:BST
DTSTART:20250330T010000
END:DAYLIGHT
BEGIN:STANDARD
TZOFFSETFROM:+0100
TZOFFSETTO:+0000
TZNAME:GMT
DTSTART:20251026T010000
END:STANDARD
BEGIN:DAYLIGHT
TZOFFSETFROM:+0000
TZOFFSETTO:+0100
TZNAME:BST
DTSTART:20260329T010000
END:DAYLIGHT
BEGIN:STANDARD
TZOFFSETFROM:+0100
TZOFFSETTO:+0000
TZNAME:GMT
DTSTART:20261025T010000
END:STANDARD
END:VTIMEZONE
BEGIN:VEVENT
DTSTART;TZID=Europe/London:20250123T180000
DTEND;TZID=Europe/London:20250123T220000
DTSTAMP:20260421T155839
CREATED:20241211T105636Z
LAST-MODIFIED:20250102T191021Z
UID:4580-1737655200-1737669600@hullsangels.com
SUMMARY:Frostgrave Introductory Night
DESCRIPTION:Welcome to Felstad the home of the best modern fantasy skirmish war game\, FROSTGRAVE. \n\n\n\nFrostgrave is an easy to pick up\, low barrier to entry skirmish game designed to be played in 90-120 mins with 2 or more players. \n\n\n\nYou command a wizard\, his apprentice and 8 hired mercenaries to delve into an ancient frozen city once frozen in time by a cataclysmic magical event.  But now\, the city is thawing along with all the treasures it holds.  An impossible to miss opportunity awaits those brave\, bold and stupid enough to plunder its ruins. \n\n\n\n\nEvent Essentials\n\n\n\nWhen: Thursday 23rd January 2025 \n\n\n\nWhere: Hull’s Angels Tabletop Gaming Club \n\n\n\nWhat: You can come play a short intro game with help from experienced players of the game to teach you the basics of how to play.  Or come and play a casual one off game\, if you already know how. \n\n\n\nHow: Frostgrave is a model agnostic game\, using 2 characters\, 8 soldier models and a single D20.  But don’t worry\, everything you need for this intro night will be provided if you don’t have it. \n\n\n\nPainting Requirement: None \n\n\n\nTicket Price: Free if you’re new to the club\, otherwise usual entry fees apply. No need to book just turn up but you can use the RSVP feature below to get an email reminder closer to the date. \n\n\n\nJoin the Community: Feel free to join the new Hulls Angels Frostgrave Chat and ask questions \n\n\n\nhttps://m.me/ch/AbalPQqjb4geavq0/
URL:https://hullsangels.com/event/frostgrave-introductory-night/
LOCATION:Hull’s Angels Gaming Club\, 4-5 Whitefriargate\, Kingston Upon Hull\, HU1 2ER\, United Kingdom
CATEGORIES:Other
ATTACH;FMTTYPE=image/png:https://hullsangels.com/wp-content/uploads/2024/12/frostgrave_intro_FBBanner.png
END:VEVENT
END:VCALENDAR