BEGIN:VCALENDAR
VERSION:2.0
PRODID:-//Hull&#039;s Angels Wargaming Club - ECPv6.15.20//NONSGML v1.0//EN
CALSCALE:GREGORIAN
METHOD:PUBLISH
X-WR-CALNAME:Hull&#039;s Angels Wargaming Club
X-ORIGINAL-URL:https://hullsangels.com
X-WR-CALDESC:Events for Hull&#039;s Angels Wargaming Club
REFRESH-INTERVAL;VALUE=DURATION:PT1H
X-Robots-Tag:noindex
X-PUBLISHED-TTL:PT1H
BEGIN:VTIMEZONE
TZID:Europe/London
BEGIN:DAYLIGHT
TZOFFSETFROM:+0000
TZOFFSETTO:+0100
TZNAME:BST
DTSTART:20240331T010000
END:DAYLIGHT
BEGIN:STANDARD
TZOFFSETFROM:+0100
TZOFFSETTO:+0000
TZNAME:GMT
DTSTART:20241027T010000
END:STANDARD
BEGIN:DAYLIGHT
TZOFFSETFROM:+0000
TZOFFSETTO:+0100
TZNAME:BST
DTSTART:20250330T010000
END:DAYLIGHT
BEGIN:STANDARD
TZOFFSETFROM:+0100
TZOFFSETTO:+0000
TZNAME:GMT
DTSTART:20251026T010000
END:STANDARD
BEGIN:DAYLIGHT
TZOFFSETFROM:+0000
TZOFFSETTO:+0100
TZNAME:BST
DTSTART:20260329T010000
END:DAYLIGHT
BEGIN:STANDARD
TZOFFSETFROM:+0100
TZOFFSETTO:+0000
TZNAME:GMT
DTSTART:20261025T010000
END:STANDARD
END:VTIMEZONE
BEGIN:VEVENT
DTSTART;TZID=Europe/London:20250329T093000
DTEND;TZID=Europe/London:20250329T171500
DTSTAMP:20260421T183233
CREATED:20250224T162717Z
LAST-MODIFIED:20250327T091347Z
UID:5730-1743240600-1743268500@hullsangels.com
SUMMARY:Warhammer Age of Sigmar: Dawnbringer’s Reckoning
DESCRIPTION:Prove your tactical genius in our relaxed 1000pt Warhammer Age of Sigmar tournament!  \n\n\n\nDesigned for players new to the tournament environment\, each round has plenty of time to get to grips with the game and to reflect on your choices as a strategic general.  \n\n\n\n\nEvent Essentials\n\n\n\nWhen: Saturday 29th March 2025 from 9:30am \n\n\n\nWhere: Hull’s Angels Tabletop Gaming Club \n\n\n\nBattle Size: 1000pts \n\n\n\nBoard Size: 60”x44” \n\n\n\nBattleplans: Revealed on the day  \n\n\n\nNumber of games: Three \n\n\n\nPainting Requirement: No painting requirement \n\n\n\nTicket Price: £15 – available from March 1st from 10:00am \n\n\n\n\nDownload Event Pack\n\n\n\nLongshanks Event Link\n\n\n\n\n\n\nPremium Ticket!\n\n\n\nUpgrade your experience with a Hull’s Angels Premium Ticket! Only a single Premium ticket is available per event!  \n\n\n\n\nA set table all day – no moving your stuff around between games! The Event Organiser will make any necessary table changes between rounds for you.\n\n\n\nSide table for your stuff – Extra space to put your miniatures and books during the game.\n\n\n\n3 Free Drinks – one free hot or cold drink* per round.*not energy drinks or alcohol\n\n\n\n\n\n\n\n\n\n\n\n\n\n\n\n\nQuestions?\n\n\n\nIf you’ve got any questions about this event that aren’t answered in the event pack or below\, please get in touch! \n\n\n\n\n\nAbout the Venue\n\n\n\nHull’s Angels Tabletop Gaming Club is ran by the community\, for the community. Our committee members and event organisers are all volunteers\, which helps keep our entry fees low.  \n\n\n\nOur goal is the make the gaming community in Hull and East Yorkshire the best it can be\, and offer a safe and comfortable environment for everyone to enjoy with great facilities.  \n\n\n\nFood and Drinks\n\n\n\nFood will not be provided for this event\, however the club is located right in the middle of Hull City Center which is home to all kinds of bars\, restaurants and takeaways.The club has a front counter which sells hot and cold drinks\, snacks\, hobby supplies\, dice\, and sprays! All sales from these help keep the club open. \n\n\n\nAge Restrictions\n\n\n\nTo attend an event you must be 18 or over.  \n\n\n\nDisabled Access\n\n\n\nThe club is situated on the first floor up a flight of stairs. Unfortunately we have no disabled access right now – this is something we’re working on. \n\n\n\nEach of gaming tables are designed to be stood at while playing\, or sat on stools at. If you have accessibility requirements and would prefer a lower table with chairs please let us know and we can provide one for your visit. \n\n\n\nFacilities\n\n\n\nThe club has toilet facilities for both male\, female and disabled visitors. \n\n\n\nWhere to Find Us and Parking\n\n\n\nInformation on the best places to park for the event can be found here \n\n\n\n\n	\n		\n\n	\n\n\n\n\n	\n\n\n\n\nRefund Policy\n\n\n\nTickets can be refunded up to 7 days before the event starts unless the event is cancelled\, where a full refund will be issued. If you turn up after the safety briefing at the start of the event\, you may be turned away without a refund. Hull’s Angels is not responsible for any additional costs (such as travel or accommodation) that may occur if an event is cancelled. To request a refund please contact us.
URL:https://hullsangels.com/event/dawnbringers-reckoning/
LOCATION:Hull’s Angels Gaming Club\, 4-5 Whitefriargate\, Kingston Upon Hull\, HU1 2ER\, United Kingdom
CATEGORIES:Warhammer Age of Sigmar
ATTACH;FMTTYPE=image/png:https://hullsangels.com/wp-content/uploads/2025/02/Aos_March_FBBanner_39_39.png
END:VEVENT
BEGIN:VEVENT
DTSTART;TZID=Europe/London:20250329T093000
DTEND;TZID=Europe/London:20250329T171500
DTSTAMP:20260421T183233
CREATED:20250224T164034Z
LAST-MODIFIED:20250328T134922Z
UID:5763-1743240600-1743268500@hullsangels.com
SUMMARY:Warhammer 40\,000: War for Alveus Prime
DESCRIPTION:Prove your tactical genius in our relaxed 1000pt Warhammer 40\,000 tournament!  \n\n\n\nDesigned for players new to the tournament environment\, each round has plenty of time to get to grips with the game and to reflect on your choices as a strategic general.  \n\n\n\n\nEvent Essentials\n\n\n\nWhen: Saturday 29th March 2025 from 9:30am \n\n\n\nWhere: Hull’s Angels Tabletop Gaming Club \n\n\n\nBattle Size: 1000pts \n\n\n\nBoard Size: 60”x44” \n\n\n\nMissions: Revealed on the day  \n\n\n\nNumber of games: Three \n\n\n\nPainting Requirement: No painting requirement \n\n\n\nTicket Price: £15 – available from March 1st from 10:00am \n\n\n\nEvent Pack Update 26/2/25 Min 2 Battleline units\, max 2 of each non-battleline units. \n\n\n\n\nDownload Event Pack\n\n\n\nBCP Link\n\n\n\n\n\n\nPremium Ticket!\n\n\n\nUpgrade your experience with a Hull’s Angels Premium Ticket! Only a single Premium ticket is available per event!  \n\n\n\n\nA set table all day – no moving your stuff around between games! The Event Organiser will make any necessary table changes between rounds for you.\n\n\n\nSide table for your stuff – Extra space to put your miniatures and books during the game.\n\n\n\n3 Free Drinks – one free hot or cold drink* per round.*not energy drinks or alcohol\n\n\n\n\n\n\n\n\n\n\n\n\n\n\n\n\nQuestions?\n\n\n\nIf you’ve got any questions about this event that aren’t answered in the event pack or below\, please get in touch! \n\n\n\n\n\nAbout the Venue\n\n\n\nHull’s Angels Tabletop Gaming Club is ran by the community\, for the community. Our committee members and event organisers are all volunteers\, which helps keep our entry fees low.  \n\n\n\nOur goal is the make the gaming community in Hull and East Yorkshire the best it can be\, and offer a safe and comfortable environment for everyone to enjoy with great facilities.  \n\n\n\nFood and Drinks\n\n\n\nFood will not be provided for this event\, however the club is located right in the middle of Hull City Center which is home to all kinds of bars\, restaurants and takeaways.The club has a front counter which sells hot and cold drinks\, snacks\, hobby supplies\, dice\, and sprays! All sales from these help keep the club open. \n\n\n\nAge Restrictions\n\n\n\nTo attend an event you must be 18 or over.  \n\n\n\nDisabled Access\n\n\n\nThe club is situated on the first floor up a flight of stairs. Unfortunately we have no disabled access right now – this is something we’re working on. \n\n\n\nEach of gaming tables are designed to be stood at while playing\, or sat on stools at. If you have accessibility requirements and would prefer a lower table with chairs please let us know and we can provide one for your visit. \n\n\n\nFacilities\n\n\n\nThe club has toilet facilities for both male\, female and disabled visitors. \n\n\n\nWhere to Find Us and Parking\n\n\n\nInformation on the best places to park for the event can be found here \n\n\n\n\n	\n		\n\n	\n\n\n\n\n	\n\n\n\n\nRefund Policy\n\n\n\nTickets can be refunded up to 7 days before the event starts unless the event is cancelled\, where a full refund will be issued. If you turn up after the safety briefing at the start of the event\, you may be turned away without a refund. Hull’s Angels is not responsible for any additional costs (such as travel or accommodation) that may occur if an event is cancelled. To request a refund please contact us.
URL:https://hullsangels.com/event/war-for-alveus-prime/
LOCATION:Hull’s Angels Gaming Club\, 4-5 Whitefriargate\, Kingston Upon Hull\, HU1 2ER\, United Kingdom
CATEGORIES:Warhammer 40k
ATTACH;FMTTYPE=image/png:https://hullsangels.com/wp-content/uploads/2025/02/40k_march_FBBanner_39_40.png
END:VEVENT
END:VCALENDAR