BEGIN:VCALENDAR
VERSION:2.0
PRODID:-//Hull&#039;s Angels Wargaming Club - ECPv6.15.20//NONSGML v1.0//EN
CALSCALE:GREGORIAN
METHOD:PUBLISH
X-WR-CALNAME:Hull&#039;s Angels Wargaming Club
X-ORIGINAL-URL:https://hullsangels.com
X-WR-CALDESC:Events for Hull&#039;s Angels Wargaming Club
REFRESH-INTERVAL;VALUE=DURATION:PT1H
X-Robots-Tag:noindex
X-PUBLISHED-TTL:PT1H
BEGIN:VTIMEZONE
TZID:Europe/London
BEGIN:DAYLIGHT
TZOFFSETFROM:+0000
TZOFFSETTO:+0100
TZNAME:BST
DTSTART:20240331T010000
END:DAYLIGHT
BEGIN:STANDARD
TZOFFSETFROM:+0100
TZOFFSETTO:+0000
TZNAME:GMT
DTSTART:20241027T010000
END:STANDARD
BEGIN:DAYLIGHT
TZOFFSETFROM:+0000
TZOFFSETTO:+0100
TZNAME:BST
DTSTART:20250330T010000
END:DAYLIGHT
BEGIN:STANDARD
TZOFFSETFROM:+0100
TZOFFSETTO:+0000
TZNAME:GMT
DTSTART:20251026T010000
END:STANDARD
BEGIN:DAYLIGHT
TZOFFSETFROM:+0000
TZOFFSETTO:+0100
TZNAME:BST
DTSTART:20260329T010000
END:DAYLIGHT
BEGIN:STANDARD
TZOFFSETFROM:+0100
TZOFFSETTO:+0000
TZNAME:GMT
DTSTART:20261025T010000
END:STANDARD
END:VTIMEZONE
BEGIN:VEVENT
DTSTART;TZID=Europe/London:20250424T180000
DTEND;TZID=Europe/London:20250424T220000
DTSTAMP:20260421T195758
CREATED:20250409T102715Z
LAST-MODIFIED:20250409T102720Z
UID:6402-1745517600-1745532000@hullsangels.com
SUMMARY:"Other Games" Meetup - April
DESCRIPTION:Too many games to play\, not enough time? Then this meetup is for you!  \n\n\n\nBlow the dust off those “other games” that you own and get playing!  \n\n\n\n\n\nEach month we’ll have a specific theme and there’ll be no more than one league/campaign running at a time for games that fall under this category.  \n\n\n\n\n\nThis Month’s Theme:\n\n\n\nStar Wars Shatterpoint! \n\n\n\nExisting player? Put a message in the Facebook chat that you’re looking for a game! \n\n\n\nNew player? We’re happy to run you through a demo game – just put a message in the chat so we know you’re coming! \n\n\n\nThis month’s theme not for you? Not a problem\, just post in the relevant chat for the game you want to play and see if anyone is available! \n\n\n\n\n\nCommunity Chats\n\n\n\nWe have dedicated chats for a wide variety of games on our Facebook Group:https://www.facebook.com/groups/hullsangels \n\n\n\n\nFrostgrave\n\n\n\nHalo: Flashpoint\n\n\n\nMalifaux\n\n\n\nMarvel Crisis Protocol\n\n\n\nMoonstone\n\n\n\nMordheim\n\n\n\nNecromunda\n\n\n\nStar Wars Shatterpoint\n\n\n\nTrench Crusade\n\n\n\nWarhammer Underworlds\n\n\n\n\nIf the game you want to play is not on the list\, or you’re interested in running/demoing something that you think would fit into this category\, please get in touch! We’re more than happy to help new and existing games flourish.
URL:https://hullsangels.com/event/other-games-meetup-april/
LOCATION:Hull’s Angels Gaming Club\, 4-5 Whitefriargate\, Kingston Upon Hull\, HU1 2ER\, United Kingdom
CATEGORIES:Other Games,Star Wars Shatterpoint
ATTACH;FMTTYPE=image/png:https://hullsangels.com/wp-content/uploads/2025/04/April_OtherGames_Banner_44.png
END:VEVENT
END:VCALENDAR