BEGIN:VCALENDAR
VERSION:2.0
PRODID:-//Hull&#039;s Angels Wargaming Club - ECPv6.15.20//NONSGML v1.0//EN
CALSCALE:GREGORIAN
METHOD:PUBLISH
X-ORIGINAL-URL:https://hullsangels.com
X-WR-CALDESC:Events for Hull&#039;s Angels Wargaming Club
REFRESH-INTERVAL;VALUE=DURATION:PT1H
X-Robots-Tag:noindex
X-PUBLISHED-TTL:PT1H
BEGIN:VTIMEZONE
TZID:Europe/London
BEGIN:DAYLIGHT
TZOFFSETFROM:+0000
TZOFFSETTO:+0100
TZNAME:BST
DTSTART:20240331T010000
END:DAYLIGHT
BEGIN:STANDARD
TZOFFSETFROM:+0100
TZOFFSETTO:+0000
TZNAME:GMT
DTSTART:20241027T010000
END:STANDARD
BEGIN:DAYLIGHT
TZOFFSETFROM:+0000
TZOFFSETTO:+0100
TZNAME:BST
DTSTART:20250330T010000
END:DAYLIGHT
BEGIN:STANDARD
TZOFFSETFROM:+0100
TZOFFSETTO:+0000
TZNAME:GMT
DTSTART:20251026T010000
END:STANDARD
BEGIN:DAYLIGHT
TZOFFSETFROM:+0000
TZOFFSETTO:+0100
TZNAME:BST
DTSTART:20260329T010000
END:DAYLIGHT
BEGIN:STANDARD
TZOFFSETFROM:+0100
TZOFFSETTO:+0000
TZNAME:GMT
DTSTART:20261025T010000
END:STANDARD
END:VTIMEZONE
BEGIN:VEVENT
DTSTART;TZID=Europe/London:20250823T090000
DTEND;TZID=Europe/London:20250823T181500
DTSTAMP:20260422T023025
CREATED:20250614T191440Z
LAST-MODIFIED:20250807T203255Z
UID:6978-1755939600-1755972900@hullsangels.com
SUMMARY:Hull and Back Again
DESCRIPTION:Welcome to “Hull and Back Again: A Hobbit’s Journey\,” a single day GBHL80 600-point Middle-earth Strategy Battle Game tournament. Join us for a day of tactical battles\, stunning armies\, and the chance to chronicle your hobbit’s epic adventure across the battlefields of Middle-earth! \n\n\n\n\nEvent Essentials\n\n\n\nWhen: Saturday 23rd August 2025 from 9:00am \n\n\n\nWhere: Hull’s Angels Tabletop Gaming Club \n\n\n\nArmy Size: 600pts \n\n\n\nBoard Size: 48” x 48” \n\n\n\nScenarios: All 4 rounds will be played using the Matched Play system for choosing scenarios. \n\n\n\nNumber of games: Four \n\n\n\nTicket Price: £20 per player. There are 36 tickets available for this event.Tickets can be purchased from 21/6/2025 at 10am \n\n\n\n\nDownload Event Pack\n\n\n\n\n\nLongshanks Link\n\n\n\n\n\n\nHobbit Miniature\n\n\n\nAs you’ll need one for the event\, a single 3d printed hobbit miniature is provided with your ticket – this will be posted out to you to the address provided when you purchase a ticket. If you’re wanting to use your own miniature and don’t need us to post one out just select the relevant ticket below.  \n\n\n\nThere’s also a separate hobby award for the Best Hobbit! \n\n\n\nCutoff for a ticket that includes a Hobbit miniature is August 15th – so that we can post it to you in time! \n\n\n\n\n\n\n\n\n\n\n\n\n\n\n\nRefund Policy\n\n\n\nTickets can be refunded up to 7 days before the event starts unless the event is cancelled\, where a refund with a deduction of £5 (for the cost of supplying and posting out of the Hobbit miniature if selected) will be issued. Hull’s Angels is not responsible for any additional costs (such as travel or accommodation) that may occur if an event is cancelled. To request a refund please contact us. \n\n\n\nAge Restrictions\n\n\n\nTo attend an event you must be 18 or over.  \n\n\n\nDisabled Access\n\n\n\nThe club is situated on the first floor up a flight of stairs. Unfortunately we have no disabled access right now – this is something we’re working on.
URL:https://hullsangels.com/event/hull-and-back-again-lotr/
LOCATION:Hull’s Angels Gaming Club\, 4-5 Whitefriargate\, Kingston Upon Hull\, HU1 2ER\, United Kingdom
CATEGORIES:Middle Earth
ATTACH;FMTTYPE=image/png:https://hullsangels.com/wp-content/uploads/2025/06/ME_Aug_banner_26-scaled.png
END:VEVENT
END:VCALENDAR