BEGIN:VCALENDAR
VERSION:2.0
PRODID:-//Hull&#039;s Angels Wargaming Club - ECPv6.15.20//NONSGML v1.0//EN
CALSCALE:GREGORIAN
METHOD:PUBLISH
X-ORIGINAL-URL:https://hullsangels.com
X-WR-CALDESC:Events for Hull&#039;s Angels Wargaming Club
REFRESH-INTERVAL;VALUE=DURATION:PT1H
X-Robots-Tag:noindex
X-PUBLISHED-TTL:PT1H
BEGIN:VTIMEZONE
TZID:Europe/London
BEGIN:DAYLIGHT
TZOFFSETFROM:+0000
TZOFFSETTO:+0100
TZNAME:BST
DTSTART:20240331T010000
END:DAYLIGHT
BEGIN:STANDARD
TZOFFSETFROM:+0100
TZOFFSETTO:+0000
TZNAME:GMT
DTSTART:20241027T010000
END:STANDARD
BEGIN:DAYLIGHT
TZOFFSETFROM:+0000
TZOFFSETTO:+0100
TZNAME:BST
DTSTART:20250330T010000
END:DAYLIGHT
BEGIN:STANDARD
TZOFFSETFROM:+0100
TZOFFSETTO:+0000
TZNAME:GMT
DTSTART:20251026T010000
END:STANDARD
BEGIN:DAYLIGHT
TZOFFSETFROM:+0000
TZOFFSETTO:+0100
TZNAME:BST
DTSTART:20260329T010000
END:DAYLIGHT
BEGIN:STANDARD
TZOFFSETFROM:+0100
TZOFFSETTO:+0000
TZNAME:GMT
DTSTART:20261025T010000
END:STANDARD
END:VTIMEZONE
BEGIN:VEVENT
DTSTART;TZID=Europe/London:20251115T090000
DTEND;TZID=Europe/London:20251115T190000
DTSTAMP:20260422T070334
CREATED:20250904T091909Z
LAST-MODIFIED:20251023T155209Z
UID:7909-1763197200-1763233200@hullsangels.com
SUMMARY:MESBG: One Does Not Simply Walk Into Hull
DESCRIPTION:Join us again at Hull’s Angels for another jaunt through Middle Earth. We’ll be playing 3 games at 1000 points. Perfect for getting Thorin’s Company or the Black Riders out in all their glory\, or 77 wargs if you’re feeling that way inclined! \n\n\n\n\nEvent Essentials\n\n\n\nSystem: Middle Earth Strategy Battle Game (GBHL90) \n\n\n\nWhen: Saturday 15th November \n\n\n\nWhere: Hull’s Angels Tabletop Gaming Club \n\n\n\nBattle Size: 1000pts \n\n\n\nBoard Size: 6×4 \n\n\n\nScenarios: Matched Play Guide  \n\n\n\nNumber of games: 3 \n\n\n\nPainting Requirement: Fully painted and based \n\n\n\n\nDownload Event Pack\n\n\n\n\n\nLongshanks Links\n\n\n\n\n\n\n\n\n\n\n\n\nAdditional Sunday Gaming\n\n\n\nThe club will also be open from 10:00-17:00 on Sunday for gaming. If you’re staying over Saturday night\, come by for some extra MESBG (or any other system that tickles your fancy). You can arrange games with folks during the event\, via our Facebook event\, our community chats on Facebook\, or just rock up on the day! (Standard Club fees apply) \n\n\n\n\n\nAlcohol at this Event\n\n\n\nTo raise some additional funds for the club\, there will be an alcohol licence in place for this event.  \n\n\n\nWe will have a selection of lagers and ciders available. If there is something specific that you’d like us to stock\, please let us know.  \n\n\n\nPlease refrain from bringing external alcoholic drinks into the venue. We reserve the right to refuse to serve someone alcohol. \n\n\n\n\n\nQuestions?\n\n\n\nIf you’ve got any questions about this event that aren’t answered in the event pack or below\, please get in touch! \n\n\n\n\n\nAbout the Venue\n\n\n\nHull’s Angels Tabletop Gaming Club is ran by the community\, for the community. Our committee members and event organisers are all volunteers\, which helps keep our entry fees low.  \n\n\n\nOur goal is the make the gaming community in Hull and East Yorkshire the best it can be\, and offer a safe and comfortable environment for everyone to enjoy with great facilities.  \n\n\n\nFood and Drinks\n\n\n\nFood will not be provided for this event\, however the club is located right in the middle of Hull City Center which is home to all kinds of bars\, restaurants and takeaways.The club has a front counter which sells hot and cold drinks\, snacks\, hobby supplies\, dice\, and sprays! All sales from these help keep the club open. \n\n\n\nAge Restrictions\n\n\n\nTo attend an event you must be 18 or over.  \n\n\n\nDisabled Access\n\n\n\nThe club is situated on the first floor up a flight of stairs. Unfortunately we have no disabled access right now – this is something we’re working on. \n\n\n\nEach of gaming tables are designed to be stood at while playing\, or sat on stools at. If you have accessibility requirements and would prefer a lower table with chairs please let us know and we can provide one for your visit. \n\n\n\nFacilities\n\n\n\nThe club has toilet facilities for both male\, female and disabled visitors. \n\n\n\nWhere to Find Us and Parking\n\n\n\nInformation on the best places to park for the event can be found here \n\n\n\n\n	\n		\n\n	\n\n\n\n\n	\n\n\n\n\nRefund Policy\n\n\n\nTickets can be refunded up to 7 days before the event starts unless the event is cancelled\, where a full refund will be issued. If you turn up after the safety briefing at the start of the event\, you may be turned away without a refund. Hull’s Angels is not responsible for any additional costs (such as travel or accommodation) that may occur if an event is cancelled. To request a refund please contact us.
URL:https://hullsangels.com/event/mesbg-one-does-not-simply-walk/
CATEGORIES:Middle Earth
ATTACH;FMTTYPE=image/png:https://hullsangels.com/wp-content/uploads/2025/09/ME_Nov_1day_09.png
END:VEVENT
END:VCALENDAR