BEGIN:VCALENDAR
VERSION:2.0
PRODID:-//Hull&#039;s Angels Wargaming Club - ECPv6.15.20//NONSGML v1.0//EN
CALSCALE:GREGORIAN
METHOD:PUBLISH
X-ORIGINAL-URL:https://hullsangels.com
X-WR-CALDESC:Events for Hull&#039;s Angels Wargaming Club
REFRESH-INTERVAL;VALUE=DURATION:PT1H
X-Robots-Tag:noindex
X-PUBLISHED-TTL:PT1H
BEGIN:VTIMEZONE
TZID:Europe/London
BEGIN:DAYLIGHT
TZOFFSETFROM:+0000
TZOFFSETTO:+0100
TZNAME:BST
DTSTART:20240331T010000
END:DAYLIGHT
BEGIN:STANDARD
TZOFFSETFROM:+0100
TZOFFSETTO:+0000
TZNAME:GMT
DTSTART:20241027T010000
END:STANDARD
BEGIN:DAYLIGHT
TZOFFSETFROM:+0000
TZOFFSETTO:+0100
TZNAME:BST
DTSTART:20250330T010000
END:DAYLIGHT
BEGIN:STANDARD
TZOFFSETFROM:+0100
TZOFFSETTO:+0000
TZNAME:GMT
DTSTART:20251026T010000
END:STANDARD
BEGIN:DAYLIGHT
TZOFFSETFROM:+0000
TZOFFSETTO:+0100
TZNAME:BST
DTSTART:20260329T010000
END:DAYLIGHT
BEGIN:STANDARD
TZOFFSETFROM:+0100
TZOFFSETTO:+0000
TZNAME:GMT
DTSTART:20261025T010000
END:STANDARD
END:VTIMEZONE
BEGIN:VEVENT
DTSTART;TZID=Europe/London:20251122T083000
DTEND;TZID=Europe/London:20251122T181500
DTSTAMP:20260422T070222
CREATED:20251006T090426Z
LAST-MODIFIED:20251006T091608Z
UID:8150-1763800200-1763835300@hullsangels.com
SUMMARY:Onslaught Tournament
DESCRIPTION:Join us for something a bit different and take part in five 500pt games of fast paced\, brutal Warhammer 40\,000 action! With list restrictions and different missions to normal\, this event is sure to test your skills as a worthy general! \n\n\n\n\nEvent Essentials\n\n\n\nSystem: Warhammer 40\,000 \n\n\n\nWhen: Saturday 22nd November 2025 from 8:30am \n\n\n\nWhere: Hull’s Angels Tabletop Gaming Club \n\n\n\nBattle Size: 500pts – see list restrictions \n\n\n\nBoard Size: 30”x44” \n\n\n\nMissions: Combat Patrol Missions (but not rules) \n\n\n\nNumber of games: 5 \n\n\n\nPainting Requirement: Fully painted and based \n\n\n\nOrganiser: Paul H \n\n\n\n\nDownload Event Pack\n\n\n\n\n\n\nList Building Restrictions\n\n\n\nMust include at least one character who is designated to be your Warlord. \n\n\n\nNo epic heroes. \n\n\n\nMust include two battleline units. These units gain “Objective Secured” as per the rules in Combat Patrol (see right). \n\n\n\nAll units must be toughness 9 or lower. \n\n\n\nDetachments and Enhancements are allowed. \n\n\n\nAll other standard list building rules for a Warhammer 40\,000 Matched Play Game apply. \n\n\n\nSee the event pack for the missions being used. \n\n\n\n\n\nPremium Ticket!\n\n\n\nUpgrade your experience with a Hull’s Angels Premium Ticket! Only a single Premium ticket is available per event!  \n\n\n\n\nA set table all day – no moving your stuff around between games! The Event Organiser will make any necessary table changes between rounds for you.\n\n\n\nSide table for your stuff – Extra space to put your miniatures and books during the game.\n\n\n\n3 Free Drinks – one free hot or cold drink* per round.*not energy drinks or alcohol\n\n\n\n\n\n\n\n\n\n\n\n\n\n\n\n\nQuestions?\n\n\n\nIf you’ve got any questions about this event that aren’t answered in the event pack or below\, please get in touch! \n\n\n\n\n\nAbout the Venue\n\n\n\nHull’s Angels Tabletop Gaming Club is ran by the community\, for the community. Our committee members and event organisers are all volunteers\, which helps keep our entry fees low.  \n\n\n\nOur goal is the make the gaming community in Hull and East Yorkshire the best it can be\, and offer a safe and comfortable environment for everyone to enjoy with great facilities.  \n\n\n\nFood and Drinks\n\n\n\nFood will not be provided for this event\, however the club is located right in the middle of Hull City Center which is home to all kinds of bars\, restaurants and takeaways.The club has a front counter which sells hot and cold drinks\, snacks\, hobby supplies\, dice\, and sprays! All sales from these help keep the club open. \n\n\n\nAge Restrictions\n\n\n\nTo attend an event you must be 18 or over.  \n\n\n\nDisabled Access\n\n\n\nThe club is situated on the first floor up a flight of stairs. Unfortunately we have no disabled access right now – this is something we’re working on. \n\n\n\nEach of gaming tables are designed to be stood at while playing\, or sat on stools at. If you have accessibility requirements and would prefer a lower table with chairs please let us know and we can provide one for your visit. \n\n\n\nFacilities\n\n\n\nThe club has toilet facilities for both male\, female and disabled visitors. \n\n\n\nWhere to Find Us and Parking\n\n\n\nInformation on the best places to park for the event can be found here \n\n\n\n\n	\n		\n\n	\n\n\n\n\n	\n\n\n\n\nRefund Policy\n\n\n\nTickets can be refunded up to 7 days before the event starts unless the event is cancelled\, where a full refund will be issued. If you turn up after the safety briefing at the start of the event\, you may be turned away without a refund. Hull’s Angels is not responsible for any additional costs (such as travel or accommodation) that may occur if an event is cancelled. To request a refund please contact us.
URL:https://hullsangels.com/event/onslaught-tournament-2025/
CATEGORIES:Warhammer 40k
ATTACH;FMTTYPE=image/png:https://hullsangels.com/wp-content/uploads/2025/10/40k-500pts-Nov-2025_banner_04.png
END:VEVENT
END:VCALENDAR