BEGIN:VCALENDAR
VERSION:2.0
PRODID:-//Hull&#039;s Angels Wargaming Club - ECPv6.15.20//NONSGML v1.0//EN
CALSCALE:GREGORIAN
METHOD:PUBLISH
X-WR-CALNAME:Hull&#039;s Angels Wargaming Club
X-ORIGINAL-URL:https://hullsangels.com
X-WR-CALDESC:Events for Hull&#039;s Angels Wargaming Club
REFRESH-INTERVAL;VALUE=DURATION:PT1H
X-Robots-Tag:noindex
X-PUBLISHED-TTL:PT1H
BEGIN:VTIMEZONE
TZID:UTC
BEGIN:STANDARD
TZOFFSETFROM:+0000
TZOFFSETTO:+0000
TZNAME:UTC
DTSTART:20230101T000000
END:STANDARD
END:VTIMEZONE
BEGIN:VEVENT
DTSTART;TZID=UTC:20240324T084500
DTEND;TZID=UTC:20240324T183000
DTSTAMP:20260425T175458
CREATED:20240222T095752Z
LAST-MODIFIED:20240403T173833Z
UID:948-1711269900-1711305000@hullsangels.com
SUMMARY:The HABBL Spring Slam
DESCRIPTION:The HABBL Spring Slam is a single day Blood Bowl tournament hosted at Hull’s Angels gaming club. Assemble your team and join us for a day of jaw-dropping touchdowns\, bone-breaking blocks and all-round fantasy football enjoyment!  \n\n\n\nA perfect chance to warm up for the upcoming HABBL MMXXIV in May\, meet new faces\, practice with your team\, and win some prizes! \n\n\n\nThis event is NAF sanctioned! \n\n\n\n\nDownload Event Pack
URL:https://hullsangels.com/event/the-habbl-spring-slam/
LOCATION:Hull’s Angels Gaming Club\, 4-5 Whitefriargate\, Kingston Upon Hull\, HU1 2ER\, United Kingdom
CATEGORIES:Blood Bowl
ATTACH;FMTTYPE=image/png:https://hullsangels.com/wp-content/uploads/2023/12/Generic_Event_images_BB.png
END:VEVENT
END:VCALENDAR