BEGIN:VCALENDAR
VERSION:2.0
PRODID:-//Hull&#039;s Angels Wargaming Club - ECPv6.15.20//NONSGML v1.0//EN
CALSCALE:GREGORIAN
METHOD:PUBLISH
X-ORIGINAL-URL:https://hullsangels.com
X-WR-CALDESC:Events for Hull&#039;s Angels Wargaming Club
REFRESH-INTERVAL;VALUE=DURATION:PT1H
X-Robots-Tag:noindex
X-PUBLISHED-TTL:PT1H
BEGIN:VTIMEZONE
TZID:UTC
BEGIN:STANDARD
TZOFFSETFROM:+0000
TZOFFSETTO:+0000
TZNAME:UTC
DTSTART:20230101T000000
END:STANDARD
END:VTIMEZONE
BEGIN:VEVENT
DTSTART;TZID=UTC:20240618T183000
DTEND;TZID=UTC:20240618T220000
DTSTAMP:20260425T140033
CREATED:20240610T074322Z
LAST-MODIFIED:20240610T074327Z
UID:1960-1718735400-1718748000@hullsangels.com
SUMMARY:Blood Bowl Beginners Evening
DESCRIPTION:EXPERIENCE THE ULTIMATE GAME OF FANTASY FOOTBALL\n\n\n\n“Welcome\, sports fans!” \n\n\n\nBlood Bowl is the game of ultra-violent sports mayhem\, where you take on the role of coach for a motley team of players battling for gridiron supremacy. \n\n\n\nThe action is fast and furious\, but if you keep your head in the game\, then fame\, wealth\, and glory may await… \n\n\n\nBlood Bowl is set in a fantasy world of Humans\, Orks\, Elves\, Dwarves\, and Ogers who sometimes stop squabbling among themselves for just long enough to settle old scores – and make money – on the Blood Bowl pitch. \n\n\n\nCome along to our beginners evening where we’ll have everything you need to play through a half of the best sports game there is!
URL:https://hullsangels.com/event/blood-bowl-beginners-evening/
LOCATION:Hull’s Angels Gaming Club\, 4-5 Whitefriargate\, Kingston Upon Hull\, HU1 2ER\, United Kingdom
CATEGORIES:Blood Bowl
ATTACH;FMTTYPE=image/png:https://hullsangels.com/wp-content/uploads/2024/06/Event_generic_FBBanner2.png
END:VEVENT
END:VCALENDAR