BEGIN:VCALENDAR
VERSION:2.0
PRODID:-//Hull&#039;s Angels Wargaming Club - ECPv6.15.20//NONSGML v1.0//EN
CALSCALE:GREGORIAN
METHOD:PUBLISH
X-ORIGINAL-URL:https://hullsangels.com
X-WR-CALDESC:Events for Hull&#039;s Angels Wargaming Club
REFRESH-INTERVAL;VALUE=DURATION:PT1H
X-Robots-Tag:noindex
X-PUBLISHED-TTL:PT1H
BEGIN:VTIMEZONE
TZID:UTC
BEGIN:STANDARD
TZOFFSETFROM:+0000
TZOFFSETTO:+0000
TZNAME:UTC
DTSTART:20230101T000000
END:STANDARD
END:VTIMEZONE
BEGIN:VEVENT
DTSTART;TZID=UTC:20240707T090000
DTEND;TZID=UTC:20240707T183000
DTSTAMP:20260425T140249
CREATED:20240325T110644Z
LAST-MODIFIED:20240705T093801Z
UID:1161-1720342800-1720377000@hullsangels.com
SUMMARY:The HABBL Stunty Cup
DESCRIPTION:The HABBL Stunty Cup is a one day Blood Bowl tournament hosted at Hull’s Angels gaming club. The Stunty Cup is a special event where only players with the Stunty rule are allowed – and of course their muscle\, the Big Guys! \n\n\n\n\n\nAssemble your Stunty team and join us for a day of jaw-dropping touchdowns\, bone-breaking blocks and all-round fantasy football enjoyment! We will be providing pitches so all you need to bring is your team and some luck! \n\n\n\n\n\n\n\n\n\n\n\n\nEvent Essentials\n\n\n\nTeam Draft Budget: TV110 (1.1 million gold crowns) \n\n\n\nNumber of games: 3 \n\n\n\nTeam Selection: See Allowed Teams below. Teams may be selected from the Blood Bowl The Official Rules and Matched Play Guide\, in addition to current and in print supplements\, Spike! Journals\, and all up-to-date FAQs and Errata. Publications released up to one week prior to the event may also be used. All contents from Blood Bowl Death Zone are NOT in use at this event. Additionally no teams may use Mercenaries. \n\n\n\nSwag: Everyone will receive a pair of HABBL Stunty Cup 2024 dice\, a dice bag and a keyring! \n\n\n\nAllowed Teams:\n\n\n\n\nBlack Orcs –  Goblins & Troll only ( may take 0-16 goblins rather than 0-12) \n\n\n\nGnomes\n\n\n\nGoblins\n\n\n\nHalflings\n\n\n\nOgres\n\n\n\nLizardmen – Skinks + Kroxigor only\n\n\n\nSnotlings \n\n\n\nUnderworld Deniziens – no Skaven!\n\n\n\n\nSkill Selection:\n\n\n\nAll teams count as Tier 3 for skill selection and will have 10 skill points to spend as per the Matched Play guide (See event pack) \n\n\n\nAllowed Star Players:\n\n\n\n(Star Players can only be included in the teams they can normally play for) \n\n\n\n\nAkhorne the Squirrel\n\n\n\nDribl & Drull\n\n\n\nFungus the Loon\n\n\n\nGlotl Stop\n\n\n\nGrak & Crumbleberry\n\n\n\nNobbla Blackwart\n\n\n\nPuggy Baconbreath\n\n\n\nRipper Bolgrot\n\n\n\nRumbelow Sheepskin\n\n\n\nScrappa Sorehead\n\n\n\nSkrorg Snowpelt\n\n\n\nThe Black Gobbo\n\n\n\nZolcath the Zoat \n\n\n\nRodney Roachbait \n\n\n\nAny additional Star Players that are suitably big or small that are released before the event!\n\n\n\nIf any stars are added to the Mega-Star list before the event (Such as Cindy Piewhistle) they will be removed from the above list.\n\n\n\n\n\nDownload Event Pack\n\n\n\n\n\n\n\nThis is NAF sanctioned event \n\n\n\n\n\n\n\n\n\n\n\n\n\n\n\n\nHull’s Angels is home to the Bob Bifford’s Blood Bowl Bingo! This is an optional fun extra at our events that has no impact on the results of the games but can win you some additional swag! \n\n\n\nFor each row you complete you can claim yourself a prize from Bob’s Swag Pile (such as stickers\, art prints\, magnets\, slam coasters) and if you complete the entire sheet you’ll win the top prize – the ogre sized Big Bob Bifford Medal! \n\n\n\n\n			\n				\n			\n		The Big Bob Bifford Medal!
URL:https://hullsangels.com/event/the-habbl-stunty-cup/
LOCATION:Hull’s Angels Gaming Club\, 4-5 Whitefriargate\, Kingston Upon Hull\, HU1 2ER\, United Kingdom
CATEGORIES:Blood Bowl
ATTACH;FMTTYPE=image/png:https://hullsangels.com/wp-content/uploads/2023/12/Generic_Event_images_BB.png
END:VEVENT
END:VCALENDAR