BEGIN:VCALENDAR
VERSION:2.0
PRODID:-//Hull&#039;s Angels Wargaming Club - ECPv6.15.20//NONSGML v1.0//EN
CALSCALE:GREGORIAN
METHOD:PUBLISH
X-WR-CALNAME:Hull&#039;s Angels Wargaming Club
X-ORIGINAL-URL:https://hullsangels.com
X-WR-CALDESC:Events for Hull&#039;s Angels Wargaming Club
REFRESH-INTERVAL;VALUE=DURATION:PT1H
X-Robots-Tag:noindex
X-PUBLISHED-TTL:PT1H
BEGIN:VTIMEZONE
TZID:UTC
BEGIN:STANDARD
TZOFFSETFROM:+0000
TZOFFSETTO:+0000
TZNAME:UTC
DTSTART:20230101T000000
END:STANDARD
END:VTIMEZONE
BEGIN:VEVENT
DTSTART;TZID=UTC:20240801T183000
DTEND;TZID=UTC:20240801T220000
DTSTAMP:20260425T123001
CREATED:20240612T082222Z
LAST-MODIFIED:20240731T082323Z
UID:2002-1722537000-1722549600@hullsangels.com
SUMMARY:HABB7’s Evening Tournament
DESCRIPTION:The HABB7’s is a Blood Bowl 7’s tournament hosted at Hull’s Angels gaming club during the evening. Assemble your team and join us for a day of jaw-dropping touchdowns\, bone-breaking blocks and all-round fantasy football enjoyment!  \n\n\n\nWe will be providing pitches so all you need to bring is your team and some luck! \n\n\n\n\nEvent Essentials\n\n\n\nWhen: Thursday 1st Aug 2024 from 6:30pm \n\n\n\nWhere: Hull’s Angels Tabletop Gaming Club \n\n\n\nGame Format: Blood Bowl Sevens \n\n\n\nTeam Draft Budget: Draft your team as per the standardexhibition Blood Bowl 7’s rules found in Deathzone \n\n\n\nNumber of games: Three\, each game lasts 1 hour \n\n\n\nPainting requirement: None! \n\n\n\nNumber of Tickets: 16 \n\n\n\n\nDownload Event Pack\n\n\n\n\n\nDownload 7’s Cheat Sheet\n\n\n\n\n\n\n\nThis is NAF sanctioned event \n\n\n\n\n\n\n\n\n\n\n\n\n\n\n\n\nHull’s Angels is home to the Bob Bifford’s Blood Bowl Bingo! This is an optional fun extra at our events that has no impact on the results of the games but can win you some additional swag! \n\n\n\nFor each row you complete you can claim yourself a prize from Bob’s Swag Pile (such as stickers\, art prints\, magnets\, slam coasters) and if you complete the entire sheet you’ll win the top prize – the ogre sized Big Bob Bifford Medal! \n\n\n\n\n			\n				\n			\n		The Big Bob Bifford Medal!
URL:https://hullsangels.com/event/habb7s-evening-aug/
LOCATION:Hull’s Angels Gaming Club\, 4-5 Whitefriargate\, Kingston Upon Hull\, HU1 2ER\, United Kingdom
CATEGORIES:Blood Bowl
ATTACH;FMTTYPE=image/png:https://hullsangels.com/wp-content/uploads/2023/12/Generic_Event_images_BB.png
END:VEVENT
END:VCALENDAR