BEGIN:VCALENDAR
VERSION:2.0
PRODID:-//Hull&#039;s Angels Wargaming Club - ECPv6.15.20//NONSGML v1.0//EN
CALSCALE:GREGORIAN
METHOD:PUBLISH
X-ORIGINAL-URL:https://hullsangels.com
X-WR-CALDESC:Events for Hull&#039;s Angels Wargaming Club
REFRESH-INTERVAL;VALUE=DURATION:PT1H
X-Robots-Tag:noindex
X-PUBLISHED-TTL:PT1H
BEGIN:VTIMEZONE
TZID:Europe/London
BEGIN:DAYLIGHT
TZOFFSETFROM:+0000
TZOFFSETTO:+0100
TZNAME:BST
DTSTART:20240331T010000
END:DAYLIGHT
BEGIN:STANDARD
TZOFFSETFROM:+0100
TZOFFSETTO:+0000
TZNAME:GMT
DTSTART:20241027T010000
END:STANDARD
BEGIN:DAYLIGHT
TZOFFSETFROM:+0000
TZOFFSETTO:+0100
TZNAME:BST
DTSTART:20250330T010000
END:DAYLIGHT
BEGIN:STANDARD
TZOFFSETFROM:+0100
TZOFFSETTO:+0000
TZNAME:GMT
DTSTART:20251026T010000
END:STANDARD
BEGIN:DAYLIGHT
TZOFFSETFROM:+0000
TZOFFSETTO:+0100
TZNAME:BST
DTSTART:20260329T010000
END:DAYLIGHT
BEGIN:STANDARD
TZOFFSETFROM:+0100
TZOFFSETTO:+0000
TZNAME:GMT
DTSTART:20261025T010000
END:STANDARD
BEGIN:DAYLIGHT
TZOFFSETFROM:+0000
TZOFFSETTO:+0100
TZNAME:BST
DTSTART:20270328T010000
END:DAYLIGHT
BEGIN:STANDARD
TZOFFSETFROM:+0100
TZOFFSETTO:+0000
TZNAME:GMT
DTSTART:20271031T010000
END:STANDARD
END:VTIMEZONE
BEGIN:VEVENT
DTSTART;TZID=Europe/London:20251207T090000
DTEND;TZID=Europe/London:20251207T183000
DTSTAMP:20260425T155102
CREATED:20241111T132622Z
LAST-MODIFIED:20251124T083041Z
UID:4036-1765098000-1765132200@hullsangels.com
SUMMARY:It’s Beginning To Look a Lot Like HABBL-MAS! 2025!
DESCRIPTION:HABBL-MAS is a fun focussed Blood Bowl tournament with a few additional festive twists. We’ll be providing the pitches\, so all you need to bring is your team\, some festive spirit\, and some luck!With the new edition potentially definitely coming out before this event\, this could be your first event using the shiny new rules – a Christmas gift indeed! \n\n\n\n\nEvent Essentials\n\n\n\nWhen: Sunday 7th December 2025 from 9:00am \n\n\n\nWhere: Hull’s Angels Tabletop Gaming Club \n\n\n\nOrganiser: TimDaBoss \n\n\n\nGame Format: Blood Bowl 11’s \n\n\n\nTeam Draft Budget: A generous 1.4 million Gold Pieces to allow you to use all of your toys! \n\n\n\nSkill Selection: Standard Matched Play Skill Selection \n\n\n\nNumber of games: Three \n\n\n\nPainting requirement: Fully painted teams \n\n\n\nSwag: Everyone will receive a swag bag which includes a pair of HABBL-MAS dice and other goodies! \n\n\n\nFestive Twists!\n\n\n\nUpon arrival you’ll be given a Naughty or Nice swag bag –  inside there will be some additional festive twists that add to the games\, most won’t influence your team draft too much but as this one does\, we’re giving you a sneak peak so you can make the most of them: \n\n\n\nSnowballs!At the start of each drive\, give one player a Snowball-Bomb token. While that players has the token they may use the Throw Bomb special action. Once the player has thrown their bomb\, remove the token. (The token will be in your Swag Bag – we recommend you have someone with a decent passing ability to make the most of it!) \n\n\n\n\n\n\n\nDoughnald Star Player! \n\n\n\nEach player will receive a Doughnald star player\, he’s not part of your roster and is set up every drive regardless of how many times he’s been reduced to a pile of crumbs! There will be a prize for the most Doughnald Casualties! \n\n\n\n\n\n\n\nUpdated Monday 24th November \n\n\n\n\nDownload Event Pack\n\n\n\n\n\n\n\n\n\n\n\n\n\n\n\n\nHull’s Angels is home to the Bob Bifford’s Blood Bowl Bingo! This is an optional fun extra at our events that has no impact on the results of the games but can win you some additional swag! \n\n\n\nFor each row you complete you can claim yourself a prize from Bob’s Swag Pile (such as stickers\, art prints\, magnets\, slam coasters) and if you complete the entire sheet you’ll win the top prize – the ogre sized Big Bob Bifford Medal! \n\n\n\n\n			\n				\n			\n		The Big Bob Bifford Medal!\n\n\n\n\n\n			\n				\n			\n		\n\n\n\n\n			\n				\n			\n		\n\n\n\n\n\n\n\nNAF Sanctioned \n\n\n\n\n\n\n\nPart of the East Yorkshire Tournament Series \n\n\n\n\n\n\n\n\n\n\n\n\nQuestions?\n\n\n\nIf you’ve got any questions about this event that aren’t answered in the event pack or below\, please get in touch! \n\n\n\n\n\nAbout the Venue\n\n\n\nHull’s Angels Tabletop Gaming Club is ran by the community\, for the community. Our committee members and event organisers are all volunteers\, which helps keep our entry fees low.  \n\n\n\nOur goal is the make the gaming community in Hull and East Yorkshire the best it can be\, and offer a safe and comfortable environment for everyone to enjoy with great facilities.  \n\n\n\nFood and Drinks\n\n\n\nFood will not be provided for this event\, however the club is located right in the middle of Hull City Center which is home to all kinds of bars\, restaurants and takeaways.The club has a front counter which sells hot and cold drinks\, snacks\, hobby supplies\, dice\, and sprays! All sales from these help keep the club open. \n\n\n\nAge Restrictions\n\n\n\nTo attend an event you must be 18 or over.  \n\n\n\nDisabled Access\n\n\n\nThe club is situated on the first floor up a flight of stairs. Unfortunately we have no disabled access right now – this is something we’re working on. \n\n\n\nEach of gaming tables are designed to be stood at while playing\, or sat on stools at. If you have accessibility requirements and would prefer a lower table with chairs please let us know and we can provide one for your visit. \n\n\n\nFacilities\n\n\n\nThe club has toilet facilities for both male\, female and disabled visitors. \n\n\n\nWhere to Find Us and Parking\n\n\n\nInformation on the best places to park for the event can be found here \n\n\n\n\n	\n	\n\n	\n		Hull’s Angels Gaming Club\n	\n\n	\n						\n				\n\n4-5 Whitefriargate\n	\n		\n		Kingston Upon Hull\,\n\n\n	HU1 2ER\n\n	United Kingdom\n\n\n\n									+ Google Map							\n		\n		\n					View Venue Website\n			\n	\n	\n\n	\n\n\n\n\n	\n\n\n\n\nRefund Policy\n\n\n\nTickets can be refunded up to 7 days before the event starts unless the event is cancelled\, where a full refund will be issued. If you turn up after the safety briefing at the start of the event\, you may be turned away without a refund. Hull’s Angels is not responsible for any additional costs (such as travel or accommodation) that may occur if an event is cancelled. To request a refund please contact us.
URL:https://hullsangels.com/event/habbl-mas-2025/
CATEGORIES:Blood Bowl
ATTACH;FMTTYPE=image/png:https://hullsangels.com/wp-content/uploads/2024/11/HABBLMAS_FBBanner_2025_New_02.png
END:VEVENT
BEGIN:VEVENT
DTSTART;TZID=Europe/London:20260607T090000
DTEND;TZID=Europe/London:20260607T180000
DTSTAMP:20260425T155102
CREATED:20260309T201513Z
LAST-MODIFIED:20260317T200759Z
UID:9664-1780822800-1780855200@hullsangels.com
SUMMARY:HABBL CUP MMXXVI
DESCRIPTION:Back again for 2026\, this is a resurrection 11s tournament!3 games of brutal Bloodbowl action over a single day tournament. Who will rise to the top and add their name to the prestigious HABBL Cup? And who will take home a new wooden kitchen implement! \n\n\n\n\nEvent Essentials\n\n\n\nWhen: Sunday 7th June 2025 from 9:00am \n\n\n\nWhere: Hull’s Angels Tabletop Gaming Club \n\n\n\nOrganiser: sbarnett1982 \n\n\n\nGame Format: Blood Bowl Elevens \n\n\n\nTeam Draft Budget: 1\,060K – 1\,140K (Depending on Tier – See Below) \n\n\n\nNumber of games: 3 \n\n\n\nPainting requirement: Fully painted Teams \n\n\n\nNumber of Tickets: 36 \n\n\n\nWhat to Bring: Your Models\, Team Draft List\, Dice\, Templates & Rulebooks. You DO NOT need to bring a pitch. \n\n\n\nNumber of Tickets: 36 \n\n\n\n\nDownload Event Pack\n\n\n\n\n\n\nTeam Building\n\n\n\nWhen drafting your team\, follow the rules listed on pages 84-91 of the Blood Bowl Rulebook\, with the following exceptions:1. The “Team Budget” for your players\, support staff and re-rolls and your “Skill gold” to purchase player advancements is noted below and based on the Tier of your team.2. Coaches may spend their “Team Budget” gold pieces on any Inducements allowed at the event.3. Coaches may spend their ”Team Budget” gold pieces on additional Dedicated Fans\, up to a maximum of 6\, at the cost of 10\,000 gold pieces per Dedicated Fan purchased.4. Any “Team Budget” gold pieces not spent will be lost\, and you will not be able to choose any additional Inducements to make up any difference between your Team Value and that of your opponent.5. The Star Player Fee listed below should come out of the SKILL budget. The hiring fee still needs to be paid from the TEAM budget for the normal hiring fee for that star player. The Maximum Player count of 16 should INCLUDE the Star Players hired. \n\n\n\nTier 1: Old World Alliance\, Wood ElvesTeam Budget – 1\,060KSkill Budget – 120KNo Star Players \n\n\n\nTier 2: Amazons\, Orcs\, Shambling Undead\, Skaven\, Underworld DenizensTeam Budget – 1\,070KSkill Budget – 140KNo Star Players \n\n\n\nTier 3: Dark Elves\, Humans\, High Elves\, Lizardmen\, Necromantic Horror\, Norse VampiresTeam Budget – 1\,080KSkill Budget – 160KNo Star Players \n\n\n\nTier 4: Chaos Chosen\, Dwarves\, Imperial Nobility\, Nurgle\, Slann\, Tomb KingsTeam Budget – 1\,100KSkill Budget – 190KNo Star Players \n\n\n\nTier 5: Black Orcs\, Bretonians\, Chaos Dwarves\, Chaos Renegades\, Elven Union\, Goblins\, Khorne\, SnotlingsTeam Budget – 1\,120KSkill Budget – 220K0-2 Star Players (50K Skill Fee each)0-1 Megastar (100K Skill Fee) \n\n\n\nTier 6: Gnomes\, Halflings\, OgresTeam Budget – 1\,140KSkill Budget – 240K0-2 Star Players (40K Skill Fee each)0-1 Megastar (80K Skill Fee) \n\n\n\n\n\nEXTRA INFO\n\n\n\nPlease see the below event pack for:Skill Budget BreakdownAllowed InducementsAllowed Star Players \n\n\n\n\nDownload Event Pack\n\n\n\n\n\n\n\n\n\n\n\n\n\n\n\n\nQuestions?\n\n\n\nIf you’ve got any questions about this event that aren’t answered in the event pack or below\, please get in touch! \n\n\n\n\n\nAbout the Venue\n\n\n\nHull’s Angels Tabletop Gaming Club is ran by the community\, for the community. Our committee members and event organisers are all volunteers\, which helps keep our entry fees low.  \n\n\n\nOur goal is the make the gaming community in Hull and East Yorkshire the best it can be\, and offer a safe and comfortable environment for everyone to enjoy with great facilities.  \n\n\n\nFood and Drinks\n\n\n\nFood will not be provided for this event\, however the club is located right in the middle of Hull City Center which is home to all kinds of bars\, restaurants and takeaways.The club has a front counter which sells hot and cold drinks\, snacks\, hobby supplies\, dice\, and sprays! All sales from these help keep the club open. \n\n\n\nAge Restrictions\n\n\n\nTo attend an event you must be 18 or over.  \n\n\n\nDisabled Access\n\n\n\nThe club is situated on the first floor up a flight of stairs. Unfortunately we have no disabled access right now – this is something we’re working on. \n\n\n\nEach of gaming tables are designed to be stood at while playing\, or sat on stools at. If you have accessibility requirements and would prefer a lower table with chairs please let us know and we can provide one for your visit. \n\n\n\nFacilities\n\n\n\nThe club has toilet facilities for both male\, female and disabled visitors. \n\n\n\nWhere to Find Us and Parking\n\n\n\nInformation on the best places to park for the event can be found here \n\n\n\n\n	\n	\n\n	\n		Hull’s Angels Gaming Club\n	\n\n	\n						\n				\n\n4-5 Whitefriargate\n	\n		\n		Kingston Upon Hull\,\n\n\n	HU1 2ER\n\n	United Kingdom\n\n\n\n									+ Google Map							\n		\n		\n					View Venue Website\n			\n	\n	\n\n	\n\n\n\n\n	\n\n\n\n\nRefund Policy\n\n\n\nTickets can be refunded up to 7 days before the event starts unless the event is cancelled\, where a full refund will be issued. If you turn up after the safety briefing at the start of the event\, you may be turned away without a refund. Hull’s Angels is not responsible for any additional costs (such as travel or accommodation) that may occur if an event is cancelled. To request a refund please contact us.
URL:https://hullsangels.com/event/habbl-cup-mmxxvi/
CATEGORIES:Blood Bowl
ATTACH;FMTTYPE=image/png:https://hullsangels.com/wp-content/uploads/2026/03/HABBL-CUP-26-1.png
END:VEVENT
END:VCALENDAR