BEGIN:VCALENDAR
VERSION:2.0
PRODID:-//Hull&#039;s Angels Wargaming Club - ECPv6.15.20//NONSGML v1.0//EN
CALSCALE:GREGORIAN
METHOD:PUBLISH
X-ORIGINAL-URL:https://hullsangels.com
X-WR-CALDESC:Events for Hull&#039;s Angels Wargaming Club
REFRESH-INTERVAL;VALUE=DURATION:PT1H
X-Robots-Tag:noindex
X-PUBLISHED-TTL:PT1H
BEGIN:VTIMEZONE
TZID:UTC
BEGIN:STANDARD
TZOFFSETFROM:+0000
TZOFFSETTO:+0000
TZNAME:UTC
DTSTART:20230101T000000
END:STANDARD
END:VTIMEZONE
BEGIN:VEVENT
DTSTART;TZID=UTC:20240630T100000
DTEND;TZID=UTC:20240630T133000
DTSTAMP:20260421T163249
CREATED:20240407T154526Z
LAST-MODIFIED:20240611T090505Z
UID:1329-1719741600-1719754200@hullsangels.com
SUMMARY:Bring and Buy June 2024
DESCRIPTION:Welcome to Hull’s Angels June Tabletop Bring and Buy sale! – Home of all your wargaming bargains. \n\n\n\nA Warboot is an indoor carboot sale / bring & buy for all things wargaming\, board gaming\, card gaming and modelling. All you do is book a table and you can sell as much as you like! No transaction fees or commission to worry about. \n\n\n\nIt’s free if you want to come in and look around. \n\n\n\nPrice per 6×4 foot table – £6.00 You can share tables between friends as you like\, as long as everything you have fits on your booked space. If you need to find someone to share with\, please post on our Hull’s Angels Community group on Facebook.  \n\n\n\nTables can be refunded up until 48 hours before the event\, at which point they will be refunded only on the basis that we can sell the table onto someone else. Table space is limited to 18 tables so please book early to avoid disappointment.  \n\n\n\n\nClub opens for sellers set-up: 9:00 am \n\n\n\nClub opens to the public: 10 am \n\n\n\nClub closes approx 1:30 pm depending on attendance. \n\n\n\n\nRemember: it’s free to come in and look around\, you only need to pay if you are selling – click the RSVP to be sent an email reminder closer to the event!
URL:https://hullsangels.com/event/bring-and-buy-june-2024/
LOCATION:Hull’s Angels Gaming Club\, 4-5 Whitefriargate\, Kingston Upon Hull\, HU1 2ER\, United Kingdom
CATEGORIES:Bring and Buy
ATTACH;FMTTYPE=image/png:https://hullsangels.com/wp-content/uploads/2023/12/Generic_Event_images_BNB.png
END:VEVENT
END:VCALENDAR