BEGIN:VCALENDAR
VERSION:2.0
PRODID:-//Hull&#039;s Angels Wargaming Club - ECPv6.15.20//NONSGML v1.0//EN
CALSCALE:GREGORIAN
METHOD:PUBLISH
X-WR-CALNAME:Hull&#039;s Angels Wargaming Club
X-ORIGINAL-URL:https://hullsangels.com
X-WR-CALDESC:Events for Hull&#039;s Angels Wargaming Club
REFRESH-INTERVAL;VALUE=DURATION:PT1H
X-Robots-Tag:noindex
X-PUBLISHED-TTL:PT1H
BEGIN:VTIMEZONE
TZID:UTC
BEGIN:STANDARD
TZOFFSETFROM:+0000
TZOFFSETTO:+0000
TZNAME:UTC
DTSTART:20230101T000000
END:STANDARD
END:VTIMEZONE
BEGIN:VEVENT
DTSTART;TZID=UTC:20241112T080000
DTEND;TZID=UTC:20241210T235900
DTSTAMP:20260422T101816
CREATED:20240830T091335Z
LAST-MODIFIED:20240830T095422Z
UID:3205-1731398400-1733875140@hullsangels.com
SUMMARY:WHTOW: Painting Competition - Monsters and Machines
DESCRIPTION:Take part in our first Warhammer The Old World Painting Competition series! As part of our Rallying Cry! events and meet-ups\, this painting challenge lets you take part even if you don’t play! \n\n\n\n\nThe category for this challenge is Monsters and Machines! \n\n\n\nFor each challenge in this series there will be a Hull’s Angels trophy up for grabs\, which will be awarded at the Rallying Cry! meet up in December. \n\n\n\nEntry is free\, but to gain access to the online submission portal you will need to register using our ticket system below. Once you’ve registered an email will be sent with a link to the online submission portal. \n\n\n\nRules:\n\n\n\n\nYou must have painted the miniature yourself.\n\n\n\nThe miniature must be Warhammer: The Old World themed.\n\n\n\nAfter the submission deadline the photos will be uploaded to our Facebook page where the public will vote on their favourites – we will include you name alongside your photo.\n\n\n\nThe deadline for this category is December 10th 2024 11:59pm\n\n\n\n\n\n\n\n\n\n\n\n\nThe Painting Corner\n\n\n\n\n\nIf you’re not able to paint at home\, or prefer to paint in the company of others\, then our dedicated painting space is for you!  \n\n\n\nWe have desks\, chairs\, lamps\, water cups and palettes available to use – and at a reduced club entry fee!
URL:https://hullsangels.com/event/whtow-painting-competition-monsters-and-machines/
CATEGORIES:Painting Competition,Warhammer The Old World
ATTACH;FMTTYPE=image/jpeg:https://hullsangels.com/wp-content/uploads/2024/08/old-world-meet-up2-scaled.jpg
END:VEVENT
END:VCALENDAR