BEGIN:VCALENDAR
VERSION:2.0
PRODID:-//Hull&#039;s Angels Wargaming Club - ECPv6.15.20//NONSGML v1.0//EN
CALSCALE:GREGORIAN
METHOD:PUBLISH
X-WR-CALNAME:Hull&#039;s Angels Wargaming Club
X-ORIGINAL-URL:https://hullsangels.com
X-WR-CALDESC:Events for Hull&#039;s Angels Wargaming Club
REFRESH-INTERVAL;VALUE=DURATION:PT1H
X-Robots-Tag:noindex
X-PUBLISHED-TTL:PT1H
BEGIN:VTIMEZONE
TZID:UTC
BEGIN:STANDARD
TZOFFSETFROM:+0000
TZOFFSETTO:+0000
TZNAME:UTC
DTSTART:20230101T000000
END:STANDARD
END:VTIMEZONE
BEGIN:VEVENT
DTSTART;TZID=UTC:20240414T100000
DTEND;TZID=UTC:20240414T170000
DTSTAMP:20260419T211059
CREATED:20240407T115629Z
LAST-MODIFIED:20240407T125251Z
UID:1325-1713088800-1713114000@hullsangels.com
SUMMARY:Open Gaming Sunday 14th April
DESCRIPTION:Open for gaming from 10am – 5pm \n\n\n\nOpen gaming alongside another event. \n\n\n\nPlay whatever system you want! \n\n\n\nRegular fees will apply\, so £3.50 for members\, £4.50 for non-members.
URL:https://hullsangels.com/event/open-gaming-sunday-14th-april/
LOCATION:Hull’s Angels Gaming Club\, 4-5 Whitefriargate\, Kingston Upon Hull\, HU1 2ER\, United Kingdom
CATEGORIES:Weekend Gaming
ATTACH;FMTTYPE=image/png:https://hullsangels.com/wp-content/uploads/2024/01/Generic_Event_images_Open_Gaming.png
END:VEVENT
BEGIN:VEVENT
DTSTART;TZID=UTC:20240413T083000
DTEND;TZID=UTC:20240414T083000
DTSTAMP:20260419T211059
CREATED:20240305T131153Z
LAST-MODIFIED:20240405T090037Z
UID:1036-1712997000-1713083400@hullsangels.com
SUMMARY:The Pandamonium GT
DESCRIPTION:Hull’s Angels\, in association with Dead Red Gaming\, is hosting A 2 day\, 5 game Warhammer 40\,00 Grand Tournament – UKTC and ITT. \n\n\n\nTickets are available until the 10th April.The Draw for pairings will go live 11th April. \n\n\n\n\nDownload Event Pack
URL:https://hullsangels.com/event/the-pandamonium-gt/
LOCATION:Hull’s Angels Gaming Club\, 4-5 Whitefriargate\, Kingston Upon Hull\, HU1 2ER\, United Kingdom
CATEGORIES:Warhammer 40k
ATTACH;FMTTYPE=image/png:https://hullsangels.com/wp-content/uploads/2023/12/Generic_Event_images_DRG.png
END:VEVENT
BEGIN:VEVENT
DTSTART;TZID=UTC:20240407T090000
DTEND;TZID=UTC:20240407T193000
DTSTAMP:20260419T211059
CREATED:20240126T101628Z
LAST-MODIFIED:20240403T173809Z
UID:637-1712480400-1712518200@hullsangels.com
SUMMARY:Trouble in Old Town
DESCRIPTION:We are back once again with our 2000pt tournament; Trouble in Old Town!  \n\n\n\nGreat for beginners and experienced players alike\, we hope you can join us for 3 great\, fast\, and exciting games of Warhammer Age of Sigmar! \n\n\n\n\nDownload Event Pack
URL:https://hullsangels.com/event/trouble-in-old-town/
LOCATION:Hull’s Angels Gaming Club\, 4-5 Whitefriargate\, Kingston Upon Hull\, HU1 2ER\, United Kingdom
CATEGORIES:Warhammer Age of Sigmar
ATTACH;FMTTYPE=image/png:https://hullsangels.com/wp-content/uploads/2023/12/Generic_Event_images_AoS.png
END:VEVENT
BEGIN:VEVENT
DTSTART;TZID=UTC:20240324T100000
DTEND;TZID=UTC:20240324T170000
DTSTAMP:20260419T211059
CREATED:20240311T085612Z
LAST-MODIFIED:20240403T173509Z
UID:1077-1711274400-1711299600@hullsangels.com
SUMMARY:Open Gaming 24th March
DESCRIPTION:Open for gaming from 10am – 5pm \n\n\n\nPlenty of tables\, so there’s no need to book in advance. \n\n\n\nPlay whatever system you want! \n\n\n\nRegular fees will apply\, so £3.50 for members\, £4.50 for non-members.
URL:https://hullsangels.com/event/open-gaming-24th-march/
LOCATION:Hull’s Angels Gaming Club\, 4-5 Whitefriargate\, Kingston Upon Hull\, HU1 2ER\, United Kingdom
CATEGORIES:Weekend Gaming
ATTACH;FMTTYPE=image/png:https://hullsangels.com/wp-content/uploads/2024/01/Generic_Event_images_Open_Gaming.png
END:VEVENT
BEGIN:VEVENT
DTSTART;TZID=UTC:20240324T084500
DTEND;TZID=UTC:20240324T183000
DTSTAMP:20260419T211059
CREATED:20240222T095752Z
LAST-MODIFIED:20240403T173833Z
UID:948-1711269900-1711305000@hullsangels.com
SUMMARY:The HABBL Spring Slam
DESCRIPTION:The HABBL Spring Slam is a single day Blood Bowl tournament hosted at Hull’s Angels gaming club. Assemble your team and join us for a day of jaw-dropping touchdowns\, bone-breaking blocks and all-round fantasy football enjoyment!  \n\n\n\nA perfect chance to warm up for the upcoming HABBL MMXXIV in May\, meet new faces\, practice with your team\, and win some prizes! \n\n\n\nThis event is NAF sanctioned! \n\n\n\n\nDownload Event Pack
URL:https://hullsangels.com/event/the-habbl-spring-slam/
LOCATION:Hull’s Angels Gaming Club\, 4-5 Whitefriargate\, Kingston Upon Hull\, HU1 2ER\, United Kingdom
CATEGORIES:Blood Bowl
ATTACH;FMTTYPE=image/png:https://hullsangels.com/wp-content/uploads/2023/12/Generic_Event_images_BB.png
END:VEVENT
BEGIN:VEVENT
DTSTART;TZID=UTC:20240317T100000
DTEND;TZID=UTC:20240317T170000
DTSTAMP:20260419T211059
CREATED:20240311T085432Z
LAST-MODIFIED:20240403T173510Z
UID:1074-1710669600-1710694800@hullsangels.com
SUMMARY:Open Gaming 17th March
DESCRIPTION:Open for gaming from 10am – 5pm \n\n\n\nPlenty of tables\, so there’s no need to book in advance. \n\n\n\nPlay whatever system you want! \n\n\n\nRegular fees will apply\, so £3.50 for members\, £4.50 for non-members.
URL:https://hullsangels.com/event/open-gaming-17th-march/
LOCATION:Hull’s Angels Gaming Club\, 4-5 Whitefriargate\, Kingston Upon Hull\, HU1 2ER\, United Kingdom
CATEGORIES:Weekend Gaming
ATTACH;FMTTYPE=image/png:https://hullsangels.com/wp-content/uploads/2024/01/Generic_Event_images_Open_Gaming.png
END:VEVENT
BEGIN:VEVENT
DTSTART;TZID=UTC:20240317T083000
DTEND;TZID=UTC:20240317T183000
DTSTAMP:20260419T211059
CREATED:20240202T190521Z
LAST-MODIFIED:20240403T173510Z
UID:761-1710664200-1710700200@hullsangels.com
SUMMARY:The Whitefriargate Opens GBHL80
DESCRIPTION:The Whitefriargate Opens is a 1 day\, 5 round escalation GBHL80 event for Middle Earth Strategy Battle Game.Tickets will be available from February 12\, 2024 at 6:00pm. \n\n\n\nEvent Essentials \n\n\n\n\nList submission due 10th March by 23:59. Players must submit a 200pt\, 400pt and 600pt list (each list has to be comprised of all elements from the previous point limit). \n\n\n\nList restrictions: \n\nNo Legendary Legions. \n\n\n\nNo allies\, single army list only. \n\n\n\nNo named characters. \n\n\n\nMust have a Captain-tier model as your leader. Any rules that would prevent this (such as Heroic tier) are ignored. Full list of Captain-tier models will be in the rulepack but its as it sounds (2\,1\,1 Marchers). \n\n\n\n\n\nYour leader will gain special advancements after each round\, such as stat increases\, access to heroic actions\, access to magic powers and more.\n\n\n\n\n\nDownload Event Pack
URL:https://hullsangels.com/event/the-whitefriargate-opens-gbhl80/
LOCATION:Hull’s Angels Gaming Club\, 4-5 Whitefriargate\, Kingston Upon Hull\, HU1 2ER\, United Kingdom
CATEGORIES:Middle Earth
ATTACH;FMTTYPE=image/png:https://hullsangels.com/wp-content/uploads/2023/12/Generic_Event_images_ME.png
END:VEVENT
BEGIN:VEVENT
DTSTART;TZID=UTC:20240303T090000
DTEND;TZID=UTC:20240303T140000
DTSTAMP:20260419T211059
CREATED:20231231T144301Z
LAST-MODIFIED:20240225T184033Z
UID:338-1709456400-1709474400@hullsangels.com
SUMMARY:Bring and Buy!
DESCRIPTION:Welcome to Hull’s Angels November Tabletop Bring and Buy sale! – Home of all your wargaming bargains.  \n\n\n\nA Warboot is an indoor carboot sale / bring & buy for all things wargaming\, board gaming\, card gaming and modelling. All you do is book a table and you can sell as much as you like! No transaction fees or commission to worry about.  \n\n\n\nIt’s free if you want to come in and look around. \n\n\n\nPrice per 6×4 foot table – £6.00 You can share tables between friends as you like\, as long as everything you have fits on your booked space. If you need to find someone to share with\, please post on our Hull’s Angels Community group on Facebook.  \n\n\n\nTables can be refunded up until 48 hours before the event\, at which point they will be refunded only on the basis that we can sell the table onto someone else. Table space is limited to 18 tables so please book early to avoid disappointment.  \n\n\n\n\nClub opens for sellers set-up: 9:00 am \n\n\n\nClub opens to the public: 10 am \n\n\n\nClub closes approx 2 pm depending on attendance. \n\n\n\n\nRemember: it’s free to come in and look around\, you only need to pay if you are selling.
URL:https://hullsangels.com/event/bring-and-buy/
LOCATION:Hull’s Angels Gaming Club\, 4-5 Whitefriargate\, Kingston Upon Hull\, HU1 2ER\, United Kingdom
ATTACH;FMTTYPE=image/png:https://hullsangels.com/wp-content/uploads/2023/12/Generic_Event_images_BNB.png
END:VEVENT
BEGIN:VEVENT
DTSTART;TZID=UTC:20240225T100000
DTEND;TZID=UTC:20240225T170000
DTSTAMP:20260419T211059
CREATED:20240129T101353Z
LAST-MODIFIED:20240129T101356Z
UID:657-1708855200-1708880400@hullsangels.com
SUMMARY:Open Gaming 25th February
DESCRIPTION:Open for gaming from 10am – 5pm \n\n\n\nPlenty of tables\, so there’s no need to book in advance. \n\n\n\nPlay whatever system you want! \n\n\n\nRegular fees will apply\, so £3.50 for members\, £4.50 for non-members.
URL:https://hullsangels.com/event/open-gaming-25th-february/
LOCATION:Hull’s Angels Gaming Club\, 4-5 Whitefriargate\, Kingston Upon Hull\, HU1 2ER\, United Kingdom
CATEGORIES:Weekend Gaming
ATTACH;FMTTYPE=image/png:https://hullsangels.com/wp-content/uploads/2024/01/Generic_Event_images_Open_Gaming.png
END:VEVENT
BEGIN:VEVENT
DTSTART;TZID=UTC:20240218T100000
DTEND;TZID=UTC:20240218T170000
DTSTAMP:20260419T211059
CREATED:20240129T101213Z
LAST-MODIFIED:20240129T101217Z
UID:654-1708250400-1708275600@hullsangels.com
SUMMARY:Open Gaming 18th February
DESCRIPTION:Open for gaming from 10am – 5pm \n\n\n\nPlenty of tables\, so there’s no need to book in advance. \n\n\n\nPlay whatever system you want! \n\n\n\nRegular fees will apply\, so £3.50 for members\, £4.50 for non-members.
URL:https://hullsangels.com/event/open-gaming-18th-february/
LOCATION:Hull’s Angels Gaming Club\, 4-5 Whitefriargate\, Kingston Upon Hull\, HU1 2ER\, United Kingdom
CATEGORIES:Weekend Gaming
ATTACH;FMTTYPE=image/png:https://hullsangels.com/wp-content/uploads/2024/01/Generic_Event_images_Open_Gaming.png
END:VEVENT
BEGIN:VEVENT
DTSTART;TZID=UTC:20240218T084500
DTEND;TZID=UTC:20240218T175000
DTSTAMP:20260419T211059
CREATED:20231231T125855Z
LAST-MODIFIED:20240213T100024Z
UID:314-1708245900-1708278600@hullsangels.com
SUMMARY:Xandar Open
DESCRIPTION:Welcome to Hull’s Angels MCP Single Affiliation “Xandar Open” Event! \n\n\n\n \n\n\n\nRESTRICTIONS \n\n\n\n\nYou can only use one affiliation for the whole event.\n\n\n\nYou can only use models from that affiliation\, and can only take models from that affiliation in your roster.\n\n\n\nYou may include one Rogue Agent (Winter Soldier or Taskmaster) in your list.\n\n\n\nIf you are playing Wakanda\, Sentinels or Winter Guard\, you can take both Rogue Agents in your list.\n\n\n\nHellfire Club\, Dark Dimension and Unaffiliated rosters are banned.\n\n\n\nSleeper Agent\, The Initiative and Under your Skin are banned.\n\n\n\n\n \n\n\n\nPRIZES \n\n\n\n \n\n\n\n\nEveryone who attends will receive an entry prize!\n\n\n\nPrizes will be awarded for Top 3\n\n\n\nBest Sports\n\n\n\nBest Painted\n\n\n\nMore prizes are available throughout the day with the amazing Hull’s Angels BINGO cards!\n\n\n\n\n \n\n\n\n \n\n\n\nOnce you’ve purchased a ticket\, register on Longshanks and submit your list: \n\n\n\nhttps://www.longshanks.org/event/11928/ \n\n\n\n \n\n\n\nLIST SUBMISSION DEADLINE – 11th February 2024 \n\n\n\n \n\n\n\n\nEVENT TIMINGS\n\nRegistration 0845-0900\n\n\n\nEvent Briefing 0900-0915\n\n\n\nRound 1 0915-1100\n\n\n\nRound 2 1110-1255\n\n\n\nLunch 1255-1340\n\n\n\nRound 3 1340-1525\n\n\n\nRound 4 1535-1720\n\n\n\nPrizes and farewells 1720-1750
URL:https://hullsangels.com/event/xandar-open/
LOCATION:Hull’s Angels Gaming Club\, 4-5 Whitefriargate\, Kingston Upon Hull\, HU1 2ER\, United Kingdom
CATEGORIES:Marvel Crisis Protocol
ATTACH;FMTTYPE=image/png:https://hullsangels.com/wp-content/uploads/2023/12/Generic_Event_images_MCP.png
END:VEVENT
BEGIN:VEVENT
DTSTART;TZID=UTC:20240217T083000
DTEND;TZID=UTC:20240217T193000
DTSTAMP:20260419T211059
CREATED:20231219T102215Z
LAST-MODIFIED:20240209T132934Z
UID:217-1708158600-1708198200@hullsangels.com
SUMMARY:Spring Skirmish - 40k RTT
DESCRIPTION:Hull’s Angels\, in association with Dead Red Gaming\, is hosting a 2000pt\, 3 round\, single day\, RTT. \n\n\n\n \n\n\n\nFull details can be found in the event pack: \n\n\n\n\nDownload Event Pack
URL:https://hullsangels.com/event/spring-skirmish-40k-rtt/
LOCATION:Hull’s Angels Gaming Club\, 4-5 Whitefriargate\, Kingston Upon Hull\, HU1 2ER\, United Kingdom
CATEGORIES:Warhammer 40k
ATTACH;FMTTYPE=image/png:https://hullsangels.com/wp-content/uploads/2023/12/Generic_Event_images_DRG.png
END:VEVENT
BEGIN:VEVENT
DTSTART;TZID=UTC:20240210T090000
DTEND;TZID=UTC:20240210T180000
DTSTAMP:20260419T211059
CREATED:20240109T105405Z
LAST-MODIFIED:20240109T105407Z
UID:440-1707555600-1707588000@hullsangels.com
SUMMARY:Welcome To The Old World
DESCRIPTION:Hull’s Angels is proud to present our first Warhammer The Old World event! This will be a more relaxed event\, with minimal hobby rules\, designed to get you playing in The Old World. \n\n\n\nFull details can be found in the event pack. \n\n\n\n\nDownload Event Pack
URL:https://hullsangels.com/event/welcome-to-the-old-world/
LOCATION:Hull’s Angels Gaming Club\, 4-5 Whitefriargate\, Kingston Upon Hull\, HU1 2ER\, United Kingdom
CATEGORIES:Warhammer The Old World
ATTACH;FMTTYPE=image/png:https://hullsangels.com/wp-content/uploads/2024/01/Generic_Event_images_WHTOW.png
END:VEVENT
BEGIN:VEVENT
DTSTART;TZID=UTC:20240202T080000
DTEND;TZID=UTC:20240202T170000
DTSTAMP:20260419T211059
CREATED:20240202T123618Z
LAST-MODIFIED:20240202T123627Z
UID:756-1706860800-1706893200@hullsangels.com
SUMMARY:Open Gaming 3rd February
DESCRIPTION:Open for gaming from 10am – 5pm \n\n\n\nPlenty of tables\, so there’s no need to book in advance. \n\n\n\nPlay whatever system you want! \n\n\n\nRegular fees will apply\, so £3.50 for members\, £4.50 for non-members.
URL:https://hullsangels.com/event/open-gaming-3rd-february-2/
LOCATION:Hull’s Angels Gaming Club\, 4-5 Whitefriargate\, Kingston Upon Hull\, HU1 2ER\, United Kingdom
CATEGORIES:Weekend Gaming
ATTACH;FMTTYPE=image/png:https://hullsangels.com/wp-content/uploads/2024/01/Generic_Event_images_Open_Gaming.png
END:VEVENT
BEGIN:VEVENT
DTSTART;TZID=UTC:20240127T090000
DTEND;TZID=UTC:20240127T183000
DTSTAMP:20260419T211059
CREATED:20231231T141249Z
LAST-MODIFIED:20231231T141252Z
UID:330-1706346000-1706380200@hullsangels.com
SUMMARY:GBHL80 Thranduil's Hulls
DESCRIPTION:Hull’s Angels is hosting a 500pt 4 round (1 day) GBHL 80 event on 27th January 2024.  \n\n\n\n \n\n\n\nThis is a single-army event therefore you will only need to bring one Good or Evil force. There are no additional restrictions on what you can bring in your army\, so feel free to bring Legendary Legions or funky alliance combos! \n\n\n\nFull details can be found in the below rulepack! \n\n\n\n\nDownload Event Pack\n\n\n\n\nThis event is currently sold out – any additional tickets will be added here!
URL:https://hullsangels.com/event/gbhl80-thranduils-hulls/
LOCATION:Hull’s Angels Gaming Club\, 4-5 Whitefriargate\, Kingston Upon Hull\, HU1 2ER\, United Kingdom
CATEGORIES:Middle Earth
ATTACH;FMTTYPE=image/png:https://hullsangels.com/wp-content/uploads/2023/12/Generic_Event_images_ME.png
END:VEVENT
BEGIN:VEVENT
DTSTART;TZID=UTC:20240121T100000
DTEND;TZID=UTC:20240121T180000
DTSTAMP:20260419T211059
CREATED:20240116T133304Z
LAST-MODIFIED:20240116T133308Z
UID:562-1705831200-1705860000@hullsangels.com
SUMMARY:Sunday Open Gaming
DESCRIPTION:Open for gaming from 10am – 6pm \n\n\n\nPlenty of tables\, so there’s no need to book in advance. \n\n\n\nPlay whatever system you want! \n\n\n\nRegular fees will apply\, so £3.50 for members\, £4.50 for non-members.
URL:https://hullsangels.com/event/sunday-open-gaming/
LOCATION:Hull’s Angels Gaming Club\, 4-5 Whitefriargate\, Kingston Upon Hull\, HU1 2ER\, United Kingdom
CATEGORIES:Weekend Gaming
ATTACH;FMTTYPE=image/png:https://hullsangels.com/wp-content/uploads/2024/01/Generic_Event_images_Open_Gaming.png
END:VEVENT
BEGIN:VEVENT
DTSTART;TZID=UTC:20240121T090000
DTEND;TZID=UTC:20240121T184500
DTSTAMP:20260419T211059
CREATED:20231231T133244Z
LAST-MODIFIED:20240213T141255Z
UID:326-1705827600-1705862700@hullsangels.com
SUMMARY:Skirmish in the North 4
DESCRIPTION:We are back once again with our 1K tournament skirmish in the north series! Great for beginners and experienced players alike\, we hope you can join us for 5 great\, fast and exciting games of age of sigmar! \n\n\n\n \n\n\n\n\nDownload Event Pack
URL:https://hullsangels.com/event/skirmish-in-the-north-4/
LOCATION:Hull’s Angels Gaming Club\, 4-5 Whitefriargate\, Kingston Upon Hull\, HU1 2ER\, United Kingdom
CATEGORIES:Warhammer Age of Sigmar
ATTACH;FMTTYPE=image/png:https://hullsangels.com/wp-content/uploads/2023/12/Generic_Event_images_AoS.png
END:VEVENT
BEGIN:VEVENT
DTSTART;TZID=UTC:20240117T190000
DTEND;TZID=UTC:20240117T220000
DTSTAMP:20260419T211059
CREATED:20240108T125050Z
LAST-MODIFIED:20240108T125054Z
UID:402-1705518000-1705528800@hullsangels.com
SUMMARY:After AGM Open Gaming
DESCRIPTION:Open for gaming from 7pm – 10pm \n\n\n\nPlenty of tables\, so there’s no need to book in advance. \n\n\n\nPlay whatever system you want! \n\n\n\nRegular fees will apply\, so £3.50 for members\, £4.50 for non-members.
URL:https://hullsangels.com/event/after-agm-open-gaming/
LOCATION:Hull’s Angels Gaming Club\, 4-5 Whitefriargate\, Kingston Upon Hull\, HU1 2ER\, United Kingdom
CATEGORIES:Weekend Gaming
ATTACH;FMTTYPE=image/png:https://hullsangels.com/wp-content/uploads/2024/01/Generic_Event_images_Open_Gaming.png
END:VEVENT
BEGIN:VEVENT
DTSTART;TZID=UTC:20240117T180000
DTEND;TZID=UTC:20240117T200000
DTSTAMP:20260419T211059
CREATED:20231231T150935Z
LAST-MODIFIED:20231231T151010Z
UID:361-1705514400-1705521600@hullsangels.com
SUMMARY:Annual General Meeting 2024
DESCRIPTION:We’re thrilled to invite you to our Annual General Meeting (AGM)! \n\n\n\nThis event is a fantastic opportunity for our valued members to come together and reflect on the accomplishments of the past year and for the committee to share exciting updates\, and discuss future plans for the club. \n\n\n\nAn agenda will be shared in due course. In the meantime\, if you have any business that you would like to discuss\, please message the Facebook Page and we’ll add to “Any Other Business”. The deadline for submissions is Wednesday 10th January 2024 at 6pm. \n\n\n\nYour participation and input are invaluable to us as we strive to shape the future of our incredible club. This is a great chance to voice your ideas\, ask questions\, and contribute to the decision-making process. Your insights are crucial in guiding our direction for the upcoming year. \n\n\n\nLet’s come together\, celebrate our achievements\, and chart an inspiring course for the future of Hull’s Angels. \n\n\n\nWe can’t wait to see you there!
URL:https://hullsangels.com/event/annual-general-meeting-2024/
LOCATION:Hull’s Angels Gaming Club\, 4-5 Whitefriargate\, Kingston Upon Hull\, HU1 2ER\, United Kingdom
CATEGORIES:Weekend Gaming
ATTACH;FMTTYPE=image/png:https://hullsangels.com/wp-content/uploads/2023/12/Generic_Event_images_AGM.png
END:VEVENT
BEGIN:VEVENT
DTSTART;TZID=UTC:20240113T110000
DTEND;TZID=UTC:20240113T170000
DTSTAMP:20260419T211059
CREATED:20240108T124854Z
LAST-MODIFIED:20240108T124859Z
UID:399-1705143600-1705165200@hullsangels.com
SUMMARY:Saturday Open Gaming
DESCRIPTION:Open for gaming from 11am – 5pm \n\n\n\nPlenty of tables\, so there’s no need to book in advance. \n\n\n\nPlay whatever system you want! \n\n\n\nRegular fees will apply\, so £3.50 for members\, £4.50 for non-members.
URL:https://hullsangels.com/event/saturday-open-gaming/
LOCATION:Hull’s Angels Gaming Club\, 4-5 Whitefriargate\, Kingston Upon Hull\, HU1 2ER\, United Kingdom
CATEGORIES:Weekend Gaming
ATTACH;FMTTYPE=image/png:https://hullsangels.com/wp-content/uploads/2024/01/Generic_Event_images_Open_Gaming.png
END:VEVENT
END:VCALENDAR