BEGIN:VCALENDAR
VERSION:2.0
PRODID:-//Hull&#039;s Angels Wargaming Club - ECPv6.15.20//NONSGML v1.0//EN
CALSCALE:GREGORIAN
METHOD:PUBLISH
X-ORIGINAL-URL:https://hullsangels.com
X-WR-CALDESC:Events for Hull&#039;s Angels Wargaming Club
REFRESH-INTERVAL;VALUE=DURATION:PT1H
X-Robots-Tag:noindex
X-PUBLISHED-TTL:PT1H
BEGIN:VTIMEZONE
TZID:UTC
BEGIN:STANDARD
TZOFFSETFROM:+0000
TZOFFSETTO:+0000
TZNAME:UTC
DTSTART:20230101T000000
END:STANDARD
END:VTIMEZONE
BEGIN:VTIMEZONE
TZID:Europe/London
BEGIN:DAYLIGHT
TZOFFSETFROM:+0000
TZOFFSETTO:+0100
TZNAME:BST
DTSTART:20230326T010000
END:DAYLIGHT
BEGIN:STANDARD
TZOFFSETFROM:+0100
TZOFFSETTO:+0000
TZNAME:GMT
DTSTART:20231029T010000
END:STANDARD
BEGIN:DAYLIGHT
TZOFFSETFROM:+0000
TZOFFSETTO:+0100
TZNAME:BST
DTSTART:20240331T010000
END:DAYLIGHT
BEGIN:STANDARD
TZOFFSETFROM:+0100
TZOFFSETTO:+0000
TZNAME:GMT
DTSTART:20241027T010000
END:STANDARD
BEGIN:DAYLIGHT
TZOFFSETFROM:+0000
TZOFFSETTO:+0100
TZNAME:BST
DTSTART:20250330T010000
END:DAYLIGHT
BEGIN:STANDARD
TZOFFSETFROM:+0100
TZOFFSETTO:+0000
TZNAME:GMT
DTSTART:20251026T010000
END:STANDARD
END:VTIMEZONE
BEGIN:VEVENT
DTSTART;TZID=UTC:20240601T000000
DTEND;TZID=UTC:20241231T235959
DTSTAMP:20260421T103951
CREATED:20240402T210410Z
LAST-MODIFIED:20241209T160112Z
UID:1233-1717200000-1735689599@hullsangels.com
SUMMARY:Membership 2024
DESCRIPTION:Hull’s Angels is ran by the community for the community. \n\n\n\nThe club is owned by the members\, with the day to day operations ran by an elected group of committee members. \n\n\n\nThe committee members and event organisers are all volunteers\, which helps keep our entry fees low. \n\n\n\nThe club’s goal is to make the gaming community in Hull and East Yorkshire the best it can be\, and offer a safe and comfortable environment for everyone to enjoy with great facilities. \n\n\n\nA Hull’s Angels Membership allows you be part of that journey. \n\n\n\n\n\nMember Benefits\n\n\n\nBeing a member gives you the following benefits for the remainder of 2024: \n\n\n\n \n\n\n\n\nSave £1 on the club entry fee each time you visit – meaning after 3 visits it has paid for itself!\n\n\n\nAccess to a Monthly entry fee (£15) for unlimited visits during that month \n\n\n\nYou’ll be eligible to vote at our Annual General Meetings where we decide the future and direction of the club\n\n\n\n\nEven if you can’t visit that often\, you can still purchase a membership to support the club and access the local business discounts: \n\n\n\n\nDiscounts at local hobby stores and cafes such as Mighty Lancer Games\, Hull Pops\, Bad Wolf Gaming\, and The Game Shack Beverley.\n\n\n\nThe Vanus Temple – save 15% on commissions.\n\n\n\nBattle Prints – save 10% on 3D printed alternative miniatures.\n\n\n\nAnd more to come!\n\n\n\n\nSo\, sign up today and help support Hull’s Angels! \n\n\n\n\nAll memberships expire at the same time\, regardless of when purchased. \n\n\n\nNormally our memberships run for a set 12 month period – to bring this into a simpler format for us to manage and for members to remember\, this membership will be a half-year membership expiring in December 2024\, so from January 2025 we can offer memberships that run the full calendar year of January to December. \n\n\n\n\n2024 membership is now closed. Click here for 2025 membership \n\n\n\n\nMembership Terms and conditions:\n\n\n\n\nYou must be aged 18+ to become a member\n\n\n\nMember Benefits are subject to change at any time\n\n\n\nA full description on what it means to be a member can be found in the club constitution
URL:https://hullsangels.com/event/membership-june-2024/
ATTACH;FMTTYPE=image/png:https://hullsangels.com/wp-content/uploads/2024/04/AF1QipNo27ixbqSeQ73igznk5uiwMoP19pnFoiKRtHrvw6130-h1534.png
END:VEVENT
BEGIN:VEVENT
DTSTART;TZID=UTC:20240910T180000
DTEND;TZID=UTC:20241008T233000
DTSTAMP:20260421T103951
CREATED:20240830T091336Z
LAST-MODIFIED:20240830T095454Z
UID:3184-1725991200-1728430200@hullsangels.com
SUMMARY:WHTOW: Painting Competition - Heroes and Wizards
DESCRIPTION:Take part in our first Warhammer The Old World Painting Competition series! As part of our Rallying Cry! events and meet-ups\, this painting challenge lets you take part even if you don’t play! \n\n\n\n\nThe category for this challenge is Foot Heroes and Wizards! \n\n\n\nFor each challenge in this series there will be a Hull’s Angels trophy up for grabs\, which will be awarded at the Rallying Cry! meet up in December. \n\n\n\nEntry is free\, but to gain access to the online submission portal you will need to register using our ticket system below. Once you’ve registered an email will be sent with a link to the online submission portal. \n\n\n\nRules:\n\n\n\n\nYou must have painted the miniature yourself.\n\n\n\nThe miniature must be Warhammer: The Old World themed.\n\n\n\nAfter the submission deadline the photos will be uploaded to our Facebook page where the public will vote on their favourites – we will include you name alongside your photo.\n\n\n\nThe deadline for this category is October 8th 2024 11:59pm\n\n\n\n\n\n\n\n\n\n\n\n\nThe Painting Corner\n\n\n\n\n\nIf you’re not able to paint at home\, or prefer to paint in the company of others\, then our dedicated painting space is for you!  \n\n\n\nWe have desks\, chairs\, lamps\, water cups and palettes available to use – and at a reduced club entry fee!
URL:https://hullsangels.com/event/whtow-painting-competition-heroes-and-wizards/
CATEGORIES:Painting Competition,Warhammer The Old World
ATTACH;FMTTYPE=image/jpeg:https://hullsangels.com/wp-content/uploads/2024/08/old-world-meet-up2-scaled.jpg
END:VEVENT
BEGIN:VEVENT
DTSTART;TZID=UTC:20241008T080000
DTEND;TZID=UTC:20241112T235900
DTSTAMP:20260421T103951
CREATED:20240830T091336Z
LAST-MODIFIED:20240830T095359Z
UID:3198-1728374400-1731455940@hullsangels.com
SUMMARY:WHTOW: Painting Competition - Banner Bearers
DESCRIPTION:Take part in our first Warhammer The Old World Painting Competition series! As part of our Rallying Cry! events and meet-ups\, this painting challenge lets you take part even if you don’t play! \n\n\n\n\nThe category for this challenge is Banner Bearers! \n\n\n\nFor each challenge in this series there will be a Hull’s Angels trophy up for grabs\, which will be awarded at the Rallying Cry! meet up in December. \n\n\n\nEntry is free\, but to gain access to the online submission portal you will need to register using our ticket system below. Once you’ve registered an email will be sent with a link to the online submission portal. \n\n\n\nRules:\n\n\n\n\nYou must have painted the miniature yourself.\n\n\n\nThe miniature must be Warhammer: The Old World themed.\n\n\n\nAfter the submission deadline the photos will be uploaded to our Facebook page where the public will vote on their favourites – we will include you name alongside your photo.\n\n\n\nThe deadline for this category is November 12th 2024 11:59pm\n\n\n\n\n\n\n\n\n\n\n\n\n\n\n\n\nThe Painting Corner\n\n\n\n\n\nIf you’re not able to paint at home\, or prefer to paint in the company of others\, then our dedicated painting space is for you!  \n\n\n\nWe have desks\, chairs\, lamps\, water cups and palettes available to use – and at a reduced club entry fee!
URL:https://hullsangels.com/event/whtow-painting-competition-banner-bearers/
CATEGORIES:Painting Competition,Warhammer The Old World
ATTACH;FMTTYPE=image/jpeg:https://hullsangels.com/wp-content/uploads/2024/08/old-world-meet-up2-scaled.jpg
END:VEVENT
BEGIN:VEVENT
DTSTART;TZID=UTC:20241008T180000
DTEND;TZID=UTC:20241008T220000
DTSTAMP:20260421T103951
CREATED:20240830T091336Z
LAST-MODIFIED:20240830T091336Z
UID:3175-1728410400-1728424800@hullsangels.com
SUMMARY:WHTOW: Rallying Cry! October
DESCRIPTION:Come along to our welcoming Warhammer The Old World community meet-up happening every second Tuesday of the month! \n\n\n\nA great chance to arrange a game\, talk Old World with some likeminded individuals\, and build lasting friendships. All abilities welcome! \n\n\n\nUse the RSVP feature below to be reminded of the meet-up a few days before. You can also join our Old World Community Chat on Facebook! \n\n\n\nStandard Club Fees apply.
URL:https://hullsangels.com/event/whtow-rallying-cry-october/
LOCATION:Hull’s Angels Gaming Club\, 4-5 Whitefriargate\, Kingston Upon Hull\, HU1 2ER\, United Kingdom
CATEGORIES:Warhammer The Old World
ATTACH;FMTTYPE=image/jpeg:https://hullsangels.com/wp-content/uploads/2024/08/old-world-meet-up-scaled.jpg
END:VEVENT
BEGIN:VEVENT
DTSTART;TZID=UTC:20241012T083000
DTEND;TZID=UTC:20241013T203000
DTSTAMP:20260421T103951
CREATED:20240813T074535Z
LAST-MODIFIED:20240813T074612Z
UID:2953-1728721800-1728851400@hullsangels.com
SUMMARY:The GAF Jamboree 2024
DESCRIPTION:Event Essentials\n\n\n\nThe GAF Jamboree is a 2 day Age of Sigmar event for all the people who don’t take themselves to seriously! Our aim is to create a relaxed\, social event whilst still encouraging spicy competitive play and mixing in whole host of shenanigans!  We have a heavy emphasis on giving out as many prizes and awards to all you lovely folk as possible however lets just say some are much more desirable than others … \n\n\n\nThis isn’t just your standard event with 5 games of Age of Sigmar. We will be causing plenty of mischief in between and during games to keep you all entertained! If taking part in the carnage isnt for you then just sit back and watch the mayham unfold! \n\n\n\nLast year’s Jamboree was an absolute blast! We loved running the event and got a load of great feedback! This year it’s going to be bigger\, better and we will be causing even more carnage!!!
URL:https://hullsangels.com/event/the-gaf-jamboree-2024/
LOCATION:Hull’s Angels Gaming Club\, 4-5 Whitefriargate\, Kingston Upon Hull\, HU1 2ER\, United Kingdom
CATEGORIES:Warhammer Age of Sigmar
ATTACH;FMTTYPE=image/png:https://hullsangels.com/wp-content/uploads/2024/08/Generic_Event_images_GAF.png
END:VEVENT
BEGIN:VEVENT
DTSTART;TZID=Europe/London:20241015T180000
DTEND;TZID=Europe/London:20241015T220000
DTSTAMP:20260421T103951
CREATED:20241007T093359Z
LAST-MODIFIED:20241007T094335Z
UID:3823-1729015200-1729029600@hullsangels.com
SUMMARY:Kill Team Tuesday
DESCRIPTION:Come along to our Kill Team community meet-up happening every 1st and 3rd Tuesday of the month! \n\n\n\nA great chance to arrange a game\, talk Kill Team with some like minded individuals\, and build lasting friendships.  \n\n\n\nAll abilities welcome! \n\n\n\nYou can also join our Kill Team Community Chat on Facebook!
URL:https://hullsangels.com/event/kill-team-tuesday-oct15th/
LOCATION:Hull’s Angels Gaming Club\, 4-5 Whitefriargate\, Kingston Upon Hull\, HU1 2ER\, United Kingdom
CATEGORIES:Kill Team
ATTACH;FMTTYPE=image/png:https://hullsangels.com/wp-content/uploads/2024/10/KTT_fb_banner_13.png
END:VEVENT
BEGIN:VEVENT
DTSTART;TZID=UTC:20241019T090000
DTEND;TZID=UTC:20241019T180000
DTSTAMP:20260421T103951
CREATED:20240205T094643Z
LAST-MODIFIED:20240926T141031Z
UID:770-1729328400-1729360800@hullsangels.com
SUMMARY:Humberside Hostility 2
DESCRIPTION:Almost a year has past since you settled your many beefs. Yeah\, you took a few knocks and stinky Joe don’t walk quite right anymore but you showed ‘em….or so you thought.Rumours are starting\, and so it looks like you will have to show them all who was right….again…and this time its personal!! \n\n\n\nOnce again every game is a chance to put to bed “that” grudge which keeps you and your players up at night. \n\n\n\n\nEvent Essentials\n\n\n\n \n\n\n\n\nA resurrection 7s tournament kindly being hosted at the Hulls Angels Club in the Hull City Centre.\n\n\n\nAll rules from the Deathzone rule book for 7s play.\n\n\n\n5 Games (1 hr 15 min per game)\n\n\n\nRandom 1st game draw\, then Swiss pairing after that.\n\n\n\n18 coaches Max\n\n\n\n\nRoster Creation:\n\n\n\n\nEach team has a budget of 600 GP\n\n\n\n7-11 players (max 4 positional players\, and no more than 2 of any one of them).\n\n\n\nNo purchased re-rolls during roster building.\n\n\n\nNo star players – they are all too self-absorbed to settle any beef with the likes of us – they would just pay someone else to do it (maybe they have).\n\n\n\nInducements from page 93 of the DZ rule book – with the exception of no Desperate Measures\, Special Plays or Mercenaries.\n\n\n\n\nSkills:\n\n\n\nEach team nominates a “captain” and they get “Leader” as a free skill before assigning skills package.Starting skills Package:Tier 1 – 1 primary skill:Amazons\, Chaos Dwarf\, Dark Elf\, Dwarf\, Lizardmen\, Norse\, Undead\, Skaven\, Underworld Alliance\, High Elves\, Wood Elves.Tier 2 – 1 primary\, 1 secondary skill (can be exchanged for primary):Black Orcs\, Chaos Chosen\, Chaos Renegades\, Elven Union\, Humans\, Nobility\, Khorne\, Necromantic Horror\, Nurgle\, Orcs\, Old World Alliance\, Tomb Kings\, Vampires\, Slann.Tier 3 – 2 primary\, 2 secondary skills (can be exchanged for primary):Goblins\, Halflings\, Ogres\, Snotlings \n\n\n\n \n\n\n\nSpecial rules:\n\n\n\nSkill Escalation: End of rounds 1-4\, one random player (inc captain)\, gets 1 random primary skill to keep for the rest of the tournament (rolled for by opponent).Weather: All games will roll on the “coastal weather table” (because its Hull)FEUD!: Each game will use a version of the “Feud!” Game event from the start.• During set up each game\, One random player on each team have beef with each other. When they block or blitz each other they get +2 strength and mighty blow +1.• The feud is “settled” once one of these players is knocked out or better. The victorious coach gets the bonus points and adds 1 to their “feuds settled” tally.• A feud can be settled with a Foul\, so long as the fouling player is the one with the Feud.• A feud cannot be settled with a “Both Down” that results in both players being KO or better – neither player is conscious enough to remember winning that scrap and so the feud remains unsettled. \n\n\n\nPoints:\n\n\n\n \n\n\n\n\nStandard Points\n\n3 pts win\n\n\n\n1 pts draw\n\n\n\n0 pts loss\n\n\n\n\n\nBonus points\n\n1 pts TD (3 or more TDs)\n\n\n\n1 pts Cas (3 or more Cas)\n\n\n\n1 pts Clean Sheet\n\n\n\n2 pts for settling the feud (KO or better on the targeted player).\n\n\n\n\n\n\nOrder of events:\n\n\n\n\n9.00 – 9.30 registration and announcements\n\n\n\n9.30-10.45 Game 1\n\n\n\n15 min break\n\n\n\n11.00-12.15 Game 2\n\n\n\n1 hr lunch\n\n\n\n1.15-2.30 Game 3\n\n\n\n15 min break\n\n\n\n2.45-4.00 Game 4\n\n\n\n15 min break\n\n\n\n4.15-5.30 Game 5\n\n\n\n15 min Break\n\n\n\n5.45-6.00 wrap up and awards.\n\n\n\n\nNumber of Tickets: 18 \n\n\n\nSend completed rosters through to humberside.hostilitybb@yahoo.com no later than 14th October 2023. \n\n\n\n\n\n\nThis is NAF sanctioned event \n\n\n\n\n\n\n\n\n\n\n\n\n\n\nQuestions?\n\n\n\nIf you’ve got any questions about this event that aren’t answered in the event pack or below\, please get in touch! \n\n\n\n\n\nAbout the Venue\n\n\n\nHull’s Angels Tabletop Gaming Club is ran by the community\, for the community. Our committee members and event organisers are all volunteers\, which helps keep our entry fees low.  \n\n\n\nOur goal is the make the gaming community in Hull and East Yorkshire the best it can be\, and offer a safe and comfortable environment for everyone to enjoy with great facilities.  \n\n\n\nFood and Drinks\n\n\n\nFood will not be provided for this event\, however the club is located right in the middle of Hull City Center which is home to all kinds of bars\, restaurants and takeaways.The club has a front counter which sells hot and cold drinks\, snacks\, hobby supplies\, dice\, and sprays! All sales from these help keep the club open. \n\n\n\nAge Restrictions\n\n\n\nTo attend an event you must be 18 or over.  \n\n\n\nDisabled Access\n\n\n\nThe club is situated on the first floor up a flight of stairs. Unfortunately we have no disabled access right now – this is something we’re working on. \n\n\n\nEach of gaming tables are designed to be stood at while playing\, or sat on stools at. If you have accessibility requirements and would prefer a lower table with chairs please let us know and we can provide one for your visit. \n\n\n\nFacilities\n\n\n\nThe club has toilet facilities for both male\, female and disabled visitors. \n\n\n\nWhere to Find Us and Parking\n\n\n\nInformation on the best places to park for the event can be found here \n\n\n\n\n	\n		\n\n	\n\n\n\n\n	\n\n\n\n\nRefund Policy\n\n\n\nTickets can be refunded up to 7 days before the event starts unless the event is cancelled\, where a full refund will be issued. If you turn up after the safety briefing at the start of the event\, you may be turned away without a refund. Hull’s Angels is not responsible for any additional costs (such as travel or accommodation) that may occur if an event is cancelled. To request a refund please contact us.
URL:https://hullsangels.com/event/humberside-hostility-2/
LOCATION:Hull’s Angels Gaming Club\, 4-5 Whitefriargate\, Kingston Upon Hull\, HU1 2ER\, United Kingdom
CATEGORIES:Blood Bowl
ATTACH;FMTTYPE=image/png:https://hullsangels.com/wp-content/uploads/2024/02/Generic_Event_images_hubbl.png
END:VEVENT
BEGIN:VEVENT
DTSTART;TZID=UTC:20241019T100000
DTEND;TZID=UTC:20241019T170000
DTSTAMP:20260421T103951
CREATED:20240926T101833Z
LAST-MODIFIED:20240926T101842Z
UID:3613-1729332000-1729357200@hullsangels.com
SUMMARY:Bolt Action New Edition Gaming Day
DESCRIPTION:To celebrate the new edition of Bolt Action we’ll be holding a Gaming Day where you can come and meet other players\, play some games\, and prepare for our New Edition Map Campaign! \n\n\n\nStandard club fees apply for entry.
URL:https://hullsangels.com/event/bolt-action-new-edition-gaming-day/
LOCATION:Hull’s Angels Gaming Club\, 4-5 Whitefriargate\, Kingston Upon Hull\, HU1 2ER\, United Kingdom
CATEGORIES:Other
ATTACH;FMTTYPE=image/png:https://hullsangels.com/wp-content/uploads/2024/09/Bolt_Action_new_edition_meetup_Banner.png
END:VEVENT
BEGIN:VEVENT
DTSTART;TZID=Europe/London:20241026T100000
DTEND;TZID=Europe/London:20241026T160000
DTSTAMP:20260421T103951
CREATED:20241021T165858Z
LAST-MODIFIED:20241021T170802Z
UID:3920-1729936800-1729958400@hullsangels.com
SUMMARY:Weekend Gaming - Saturday 26th October
DESCRIPTION:The club will be open for gaming! You can play any game using our extensive range of scenery and boards! \n\n\n\nPlease note there may be another event happening at the same time at the club – check our events calendar to see what’s happening. Standard club fees apply.
URL:https://hullsangels.com/event/weekend-gaming-saturday-26th-october/
LOCATION:Hull’s Angels Gaming Club\, 4-5 Whitefriargate\, Kingston Upon Hull\, HU1 2ER\, United Kingdom
CATEGORIES:Weekend Gaming
ATTACH;FMTTYPE=image/png:https://hullsangels.com/wp-content/uploads/2024/08/Event_generic_weekend_gaming.png
END:VEVENT
BEGIN:VEVENT
DTSTART;TZID=UTC:20241027T090000
DTEND;TZID=UTC:20241027T181500
DTSTAMP:20260421T103951
CREATED:20240913T132630Z
LAST-MODIFIED:20241020T101434Z
UID:3415-1730019600-1730052900@hullsangels.com
SUMMARY:Malifaux - Halloween Horrorfaux
DESCRIPTION:Welcome to our Halloween themed Malifaux event! A fun but wyrd day out is ahead of you as instead of playing for podium prizes\, raffle tickets will be up for grabs. So\, not matter your skill\, you have a chance of winning something!  \n\n\n\n\nEvent Essentials\n\n\n\nWhen: Sunday 27th October 2024 from 9:00am \n\n\n\nWhere: Hull’s Angels Tabletop Gaming Club \n\n\n\nGame Format: Malifaux – one keyword and no proxies \n\n\n\nNumber of games: Three \n\n\n\nPainting requirement: No painting requirement but painted preferred \n\n\n\nNumber of Tickets: 16 \n\n\n\nEvent Specific Rules\n\n\n\nThere will be no prizes specifically for podium\, instead raffle tickets will be awarded for the podium so everyone has the chance to win something! This event is more about playing fun themed games and having a great day out!  \n\n\n\n\n1 ticket for being fully painted\n\n\n\n2 tickets for running a Nightmare/Rotten Harvest crew\n\n\n\nIf anyone’s total VPs for the day is 13\, they get 3 tickets \n\n\n\n1 per game played\n\n\n\n1 for being in Keyword\n\n\n\n2 for coming dressed up in a Malifaux theme\n\n\n\n6 for finishing a game at 6 VPs\, 6 models left and one of them with 6 health left\n\n\n\n\nEvent Schedule\n\n\n\nArrival – 09:00Round 1 – 09:30Lunch – 12:40Round 2 – 13:10Round 3 – 13:40Wrap up and prizes – 18:10 \n\n\n\n\n\n\n\n\n\n\n\n\n\nQuestions?\n\n\n\nIf you’ve got any questions about this event that aren’t answered in the event pack or below\, please get in touch! \n\n\n\n\n\nAbout the Venue\n\n\n\nHull’s Angels Tabletop Gaming Club is ran by the community\, for the community. Our committee members and event organisers are all volunteers\, which helps keep our entry fees low.  \n\n\n\nOur goal is the make the gaming community in Hull and East Yorkshire the best it can be\, and offer a safe and comfortable environment for everyone to enjoy with great facilities.  \n\n\n\nFood and Drinks\n\n\n\nFood will not be provided for this event\, however the club is located right in the middle of Hull City Center which is home to all kinds of bars\, restaurants and takeaways.The club has a front counter which sells hot and cold drinks\, snacks\, hobby supplies\, dice\, and sprays! All sales from these help keep the club open. \n\n\n\nAge Restrictions\n\n\n\nTo attend an event you must be 18 or over.  \n\n\n\nDisabled Access\n\n\n\nThe club is situated on the first floor up a flight of stairs. Unfortunately we have no disabled access right now – this is something we’re working on. \n\n\n\nEach of gaming tables are designed to be stood at while playing\, or sat on stools at. If you have accessibility requirements and would prefer a lower table with chairs please let us know and we can provide one for your visit. \n\n\n\nFacilities\n\n\n\nThe club has toilet facilities for both male\, female and disabled visitors. \n\n\n\nWhere to Find Us and Parking\n\n\n\nInformation on the best places to park for the event can be found here \n\n\n\n\n	\n		\n\n	\n\n\n\n\n	\n\n\n\n\nRefund Policy\n\n\n\nTickets can be refunded up to 7 days before the event starts unless the event is cancelled\, where a full refund will be issued. If you turn up after the safety briefing at the start of the event\, you may be turned away without a refund. Hull’s Angels is not responsible for any additional costs (such as travel or accommodation) that may occur if an event is cancelled. To request a refund please contact us.
URL:https://hullsangels.com/event/malifaux-halloween-horrorfaux/
LOCATION:Hull’s Angels Gaming Club\, 4-5 Whitefriargate\, Kingston Upon Hull\, HU1 2ER\, United Kingdom
CATEGORIES:Other
ATTACH;FMTTYPE=image/png:https://hullsangels.com/wp-content/uploads/2024/09/Generic_Event_images_malifaux.png
END:VEVENT
BEGIN:VEVENT
DTSTART;TZID=Europe/London:20241027T110000
DTEND;TZID=Europe/London:20241027T150000
DTSTAMP:20260421T103951
CREATED:20241016T085137Z
LAST-MODIFIED:20241016T085142Z
UID:3905-1730026800-1730041200@hullsangels.com
SUMMARY:Kill Team Beginner's Day
DESCRIPTION:Kill Team is an action-packed skirmish game between small teams of combat specialists\, set in the grim darkness of Warhammer 40\,000. \n\n\n\nKill Teams are tasked with the most dangerous special operations missions\, when deploying an entire army is out of the question. Engaging in intense\, close-combat battles\, they operate in ruined hives\, ancient space hulks\, and anywhere the enemy – or a vital objective – may be found. \n\n\n\nIf this sounds like something you’d enjoy then come along to our Kill Team Beginner’s Day and learn how to take command of an elite squad of specialists! \n\n\n\n\nEvent Essentials\n\n\n\nWhen: Sunday 27th October 2024 from 11am \n\n\n\nWhat you’ll need: Nothing! If you have a Kill Team you want to bring along you can do so\, but we’ll have some Kill Teams available to use on the day. \n\n\n\nCost to take part: Free!
URL:https://hullsangels.com/event/kill-team-beginners-day/
LOCATION:Hull’s Angels Gaming Club\, 4-5 Whitefriargate\, Kingston Upon Hull\, HU1 2ER\, United Kingdom
CATEGORIES:Kill Team
ATTACH;FMTTYPE=image/png:https://hullsangels.com/wp-content/uploads/2024/10/KTT_fb_banner_beginnersday.png
END:VEVENT
END:VCALENDAR