BEGIN:VCALENDAR
VERSION:2.0
PRODID:-//Hull&#039;s Angels Wargaming Club - ECPv6.15.20//NONSGML v1.0//EN
CALSCALE:GREGORIAN
METHOD:PUBLISH
X-ORIGINAL-URL:https://hullsangels.com
X-WR-CALDESC:Events for Hull&#039;s Angels Wargaming Club
REFRESH-INTERVAL;VALUE=DURATION:PT1H
X-Robots-Tag:noindex
X-PUBLISHED-TTL:PT1H
BEGIN:VTIMEZONE
TZID:Europe/London
BEGIN:DAYLIGHT
TZOFFSETFROM:+0000
TZOFFSETTO:+0100
TZNAME:BST
DTSTART:20240331T010000
END:DAYLIGHT
BEGIN:STANDARD
TZOFFSETFROM:+0100
TZOFFSETTO:+0000
TZNAME:GMT
DTSTART:20241027T010000
END:STANDARD
BEGIN:DAYLIGHT
TZOFFSETFROM:+0000
TZOFFSETTO:+0100
TZNAME:BST
DTSTART:20250330T010000
END:DAYLIGHT
BEGIN:STANDARD
TZOFFSETFROM:+0100
TZOFFSETTO:+0000
TZNAME:GMT
DTSTART:20251026T010000
END:STANDARD
BEGIN:DAYLIGHT
TZOFFSETFROM:+0000
TZOFFSETTO:+0100
TZNAME:BST
DTSTART:20260329T010000
END:DAYLIGHT
BEGIN:STANDARD
TZOFFSETFROM:+0100
TZOFFSETTO:+0000
TZNAME:GMT
DTSTART:20261025T010000
END:STANDARD
END:VTIMEZONE
BEGIN:VEVENT
DTSTART;TZID=Europe/London:20250201T084500
DTEND;TZID=Europe/London:20250201T190000
DTSTAMP:20260421T160130
CREATED:20250113T130059Z
LAST-MODIFIED:20250124T144358Z
UID:5177-1738399500-1738436400@hullsangels.com
SUMMARY:Horus Heresy: A Sunset on Semita IV
DESCRIPTION:The fate of Semita IV is sealed\, but the final battle still rages on. Loyalist forces\, at great cost\, have delayed the Forces of the Warmaster and turned what should have been an easy conquest into a gruelling meat grinder. It is time now to decide the last few days of the war\, the last stand of the loyalist defenders. The hives burn\, the forges have been smashed to ruin and the last great hope\, the ancient Ark Mechanicum\, has broken orbit and flees for Sol. \n\n\n\nAll that is left now is to settle the butcher’s tally. \n\n\n\n\nEvent Essentials\n\n\n\nWhen: Saturday 1st February 2025 from 8:45am \n\n\n\nWhere: Hull’s Angels Tabletop Gaming Club \n\n\n\nBattle Size: 2000pts – see List Building Selection for details \n\n\n\nBoard Size: 48” x 72” \n\n\n\nMissions: Revealed on the day  \n\n\n\nNumber of games: Three \n\n\n\nPainting Requirement: No painting requirement \n\n\n\nTicket Price: £15 \n\n\n\n\nDownload Event Pack\n\n\n\n\n\n\n\n\n\n\n\n\nQuestions?\n\n\n\nIf you’ve got any questions about this event that aren’t answered in the event pack or below\, please get in touch! \n\n\n\n\n\nAbout the Venue\n\n\n\nHull’s Angels Tabletop Gaming Club is ran by the community\, for the community. Our committee members and event organisers are all volunteers\, which helps keep our entry fees low.  \n\n\n\nOur goal is the make the gaming community in Hull and East Yorkshire the best it can be\, and offer a safe and comfortable environment for everyone to enjoy with great facilities.  \n\n\n\nFood and Drinks\n\n\n\nFood will not be provided for this event\, however the club is located right in the middle of Hull City Center which is home to all kinds of bars\, restaurants and takeaways.The club has a front counter which sells hot and cold drinks\, snacks\, hobby supplies\, dice\, and sprays! All sales from these help keep the club open. \n\n\n\nAge Restrictions\n\n\n\nTo attend an event you must be 18 or over.  \n\n\n\nDisabled Access\n\n\n\nThe club is situated on the first floor up a flight of stairs. Unfortunately we have no disabled access right now – this is something we’re working on. \n\n\n\nEach of gaming tables are designed to be stood at while playing\, or sat on stools at. If you have accessibility requirements and would prefer a lower table with chairs please let us know and we can provide one for your visit. \n\n\n\nFacilities\n\n\n\nThe club has toilet facilities for both male\, female and disabled visitors. \n\n\n\nWhere to Find Us and Parking\n\n\n\nInformation on the best places to park for the event can be found here \n\n\n\n\n	\n		\n\n	\n\n\n\n\n	\n\n\n\n\nRefund Policy\n\n\n\nTickets can be refunded up to 7 days before the event starts unless the event is cancelled\, where a full refund will be issued. If you turn up after the safety briefing at the start of the event\, you may be turned away without a refund. Hull’s Angels is not responsible for any additional costs (such as travel or accommodation) that may occur if an event is cancelled. To request a refund please contact us.
URL:https://hullsangels.com/event/hh-a-sunset-on-semita-iv/
LOCATION:Hull’s Angels Gaming Club\, 4-5 Whitefriargate\, Kingston Upon Hull\, HU1 2ER\, United Kingdom
CATEGORIES:Horus Heresy
ATTACH;FMTTYPE=image/png:https://hullsangels.com/wp-content/uploads/2025/01/hh-a-sunset-on-semita-iv_bannner_14.png
END:VEVENT
BEGIN:VEVENT
DTSTART;TZID=Europe/London:20250201T100000
DTEND;TZID=Europe/London:20250201T170000
DTSTAMP:20260421T160130
CREATED:20250129T113549Z
LAST-MODIFIED:20250129T113755Z
UID:5495-1738404000-1738429200@hullsangels.com
SUMMARY:Weekend Gaming Saturday 1st Feb
DESCRIPTION:The club will be open for gaming! You can play any game using our extensive range of scenery and boards! \n\n\n\nPlease note there may be another event happening at the same time at the club – check our events calendar to see what’s happening. Standard club fees apply.
URL:https://hullsangels.com/event/weekend-gaming-saturday-1st-february/
LOCATION:Hull’s Angels Gaming Club\, 4-5 Whitefriargate\, Kingston Upon Hull\, HU1 2ER\, United Kingdom
CATEGORIES:Weekend Gaming
ATTACH;FMTTYPE=image/png:https://hullsangels.com/wp-content/uploads/2024/08/Event_generic_weekend_gaming.png
END:VEVENT
BEGIN:VEVENT
DTSTART;TZID=Europe/London:20250204T180000
DTEND;TZID=Europe/London:20250204T220000
DTSTAMP:20260421T160130
CREATED:20250104T114317Z
LAST-MODIFIED:20250104T114322Z
UID:5023-1738692000-1738706400@hullsangels.com
SUMMARY:Kill Team Tuesday
DESCRIPTION:Come along to our Kill Team community meet-up happening every 1st and 3rd Tuesday of the month! \n\n\n\nA great chance to arrange a game\, talk Kill Team with some like minded individuals\, and build lasting friendships.  \n\n\n\nAll abilities welcome! \n\n\n\nYou can also join our Kill Team Community Chat on Facebook!
URL:https://hullsangels.com/event/kill-team-tuesday-feb4th/
LOCATION:Hull’s Angels Gaming Club\, 4-5 Whitefriargate\, Kingston Upon Hull\, HU1 2ER\, United Kingdom
CATEGORIES:Kill Team
ATTACH;FMTTYPE=image/png:https://hullsangels.com/wp-content/uploads/2024/10/KTT_fb_banner_13.png
END:VEVENT
BEGIN:VEVENT
DTSTART;TZID=Europe/London:20250206T180000
DTEND;TZID=Europe/London:20250206T220000
DTSTAMP:20260421T160130
CREATED:20250114T144502Z
LAST-MODIFIED:20250114T144614Z
UID:5235-1738864800-1738879200@hullsangels.com
SUMMARY:MESBG: Beacons Lit
DESCRIPTION:Come along to our welcoming Middle Earth Strategy Battle Game community meet-up happening every first Thursday of the month! \n\n\n\nA great chance to arrange a game\, talk MESBG with some like minded individuals\, and build lasting friendships. \n\n\n\nAll abilities welcome! \n\n\n\nYou can also join our MESBG Community Chat on Facebook. \n\n\n\nStandard Club Fees apply.
URL:https://hullsangels.com/event/mesbg-beacons-lit-feb6th/
LOCATION:Hull’s Angels Gaming Club\, 4-5 Whitefriargate\, Kingston Upon Hull\, HU1 2ER\, United Kingdom
CATEGORIES:Middle Earth
ATTACH;FMTTYPE=image/png:https://hullsangels.com/wp-content/uploads/2025/01/ME_Beacons_Lit_Meetup_banner_33.png
END:VEVENT
BEGIN:VEVENT
DTSTART;TZID=Europe/London:20250208T100000
DTEND;TZID=Europe/London:20250208T170000
DTSTAMP:20260421T160130
CREATED:20250129T143735Z
LAST-MODIFIED:20250129T144122Z
UID:5497-1739008800-1739034000@hullsangels.com
SUMMARY:Weekend Gaming Saturday 8th February
DESCRIPTION:The club will be open for gaming! You can play any game using our extensive range of scenery and boards! \n\n\n\nPlease note there may be another event happening at the same time at the club – check our events calendar to see what’s happening. Standard club fees apply.
URL:https://hullsangels.com/event/weekend-gaming-saturday-8th-february/
LOCATION:Hull’s Angels Gaming Club\, 4-5 Whitefriargate\, Kingston Upon Hull\, HU1 2ER\, United Kingdom
CATEGORIES:Weekend Gaming
ATTACH;FMTTYPE=image/png:https://hullsangels.com/wp-content/uploads/2024/08/Event_generic_weekend_gaming.png
END:VEVENT
BEGIN:VEVENT
DTSTART;TZID=Europe/London:20250211T180000
DTEND;TZID=Europe/London:20250211T220000
DTSTAMP:20260421T160130
CREATED:20250104T112100Z
LAST-MODIFIED:20250104T115915Z
UID:5013-1739296800-1739311200@hullsangels.com
SUMMARY:WHTOW: Rallying Cry! February
DESCRIPTION:Come along to our welcoming Warhammer The Old World community meet-up happening every second Tuesday of the month! \n\n\n\nA great chance to arrange a game\, talk Old World with some like minded individuals\, and build lasting friendships.  \n\n\n\nAll abilities welcome! \n\n\n\nYou can also join our Old World Community Chat on Facebook! \n\n\n\nStandard Club Fees apply.
URL:https://hullsangels.com/event/whtow-rallying-cry-february/
LOCATION:Hull’s Angels Gaming Club\, 4-5 Whitefriargate\, Kingston Upon Hull\, HU1 2ER\, United Kingdom
CATEGORIES:Warhammer The Old World
ATTACH;FMTTYPE=image/png:https://hullsangels.com/wp-content/uploads/2025/01/Generic_Event_images_WHTOW_rallying_cry.png
END:VEVENT
BEGIN:VEVENT
DTSTART;TZID=Europe/London:20250216T100000
DTEND;TZID=Europe/London:20250216T170000
DTSTAMP:20260421T160130
CREATED:20250129T143929Z
LAST-MODIFIED:20250129T144019Z
UID:5499-1739700000-1739725200@hullsangels.com
SUMMARY:Weekend Gaming Sunday 16th February
DESCRIPTION:The club will be open for gaming! You can play any game using our extensive range of scenery and boards! \n\n\n\nPlease note there may be another event happening at the same time at the club – check our events calendar to see what’s happening. Standard club fees apply.
URL:https://hullsangels.com/event/weekend-gaming-sunday-6th-february/
LOCATION:Hull’s Angels Gaming Club\, 4-5 Whitefriargate\, Kingston Upon Hull\, HU1 2ER\, United Kingdom
CATEGORIES:Weekend Gaming
ATTACH;FMTTYPE=image/png:https://hullsangels.com/wp-content/uploads/2024/08/Event_generic_weekend_gaming.png
END:VEVENT
BEGIN:VEVENT
DTSTART;TZID=Europe/London:20250218T180000
DTEND;TZID=Europe/London:20250218T220000
DTSTAMP:20260421T160130
CREATED:20250104T114555Z
LAST-MODIFIED:20250104T114601Z
UID:5025-1739901600-1739916000@hullsangels.com
SUMMARY:Kill Team Tuesday
DESCRIPTION:Come along to our Kill Team community meet-up happening every 1st and 3rd Tuesday of the month! \n\n\n\nA great chance to arrange a game\, talk Kill Team with some like minded individuals\, and build lasting friendships.  \n\n\n\nAll abilities welcome! \n\n\n\nYou can also join our Kill Team Community Chat on Facebook!
URL:https://hullsangels.com/event/kill-team-tuesday-feb18th/
LOCATION:Hull’s Angels Gaming Club\, 4-5 Whitefriargate\, Kingston Upon Hull\, HU1 2ER\, United Kingdom
CATEGORIES:Kill Team
ATTACH;FMTTYPE=image/png:https://hullsangels.com/wp-content/uploads/2024/10/KTT_fb_banner_13.png
END:VEVENT
BEGIN:VEVENT
DTSTART;TZID=Europe/London:20250220T180000
DTEND;TZID=Europe/London:20250220T220000
DTSTAMP:20260421T160130
CREATED:20250114T142135Z
LAST-MODIFIED:20250201T120345Z
UID:5228-1740074400-1740088800@hullsangels.com
SUMMARY:Bolt Action: New Orders!
DESCRIPTION:Come along to our welcoming Bolt Action community meet-up happening every third Thursday of the month! \n\n\n\nA great chance to arrange a game\, talk Bolt Action with some like minded individuals\, and build lasting friendships. \n\n\n\nAll abilities welcome! \n\n\n\nYou can also join our Bolt Action Community Chat on Facebook. \n\n\n\nStandard Club Fees apply.
URL:https://hullsangels.com/event/bolt-action-new-orders-feb20th/
LOCATION:Hull’s Angels Gaming Club\, 4-5 Whitefriargate\, Kingston Upon Hull\, HU1 2ER\, United Kingdom
CATEGORIES:Bolt Action
ATTACH;FMTTYPE=image/png:https://hullsangels.com/wp-content/uploads/2025/01/BA_new_orders_meetup_banner_32.png
END:VEVENT
BEGIN:VEVENT
DTSTART;TZID=Europe/London:20250222T100000
DTEND;TZID=Europe/London:20250222T170000
DTSTAMP:20260421T160130
CREATED:20250129T144242Z
LAST-MODIFIED:20250129T144247Z
UID:5504-1740218400-1740243600@hullsangels.com
SUMMARY:Weekend Gaming Saturday 22nd February
DESCRIPTION:The club will be open for gaming! You can play any game using our extensive range of scenery and boards! \n\n\n\nPlease note there may be another event happening at the same time at the club – check our events calendar to see what’s happening. Standard club fees apply.
URL:https://hullsangels.com/event/weekend-gaming-saturday-22nd-february/
LOCATION:Hull’s Angels Gaming Club\, 4-5 Whitefriargate\, Kingston Upon Hull\, HU1 2ER\, United Kingdom
CATEGORIES:Weekend Gaming
ATTACH;FMTTYPE=image/png:https://hullsangels.com/wp-content/uploads/2024/08/Event_generic_weekend_gaming.png
END:VEVENT
BEGIN:VEVENT
DTSTART;TZID=Europe/London:20250223T084500
DTEND;TZID=Europe/London:20250223T180000
DTSTAMP:20260421T160130
CREATED:20241203T122833Z
LAST-MODIFIED:20250217T082935Z
UID:4351-1740300300-1740333600@hullsangels.com
SUMMARY:The OWEY OC 
DESCRIPTION:The “Old World East Yorkshire One-day Championships” is a one day old world event with a focus on BRUTALITY and speed!  Games will be played and scored with awards for the highest VPs across the table.  It’s all well and good winning 20-0\, but there’s nothing more glorious than being the last hero standing on a battlefield of the dead.  \n\n\n\nWhether you’re a champion of Khorne\, or a dwarf with a slayers vow\, it’s time for you to be the biggest OWEY the Old World has ever seen. \n\n\n\n\nEvent Essentials\n\n\n\nWhen: Sunday 23rd February 2024 from 8:45am \n\n\n\nWhere: Hull’s Angels Tabletop Gaming Club \n\n\n\nBattle Size: 2000pts – see Army Selection for details \n\n\n\nBoard Size: 48” x 72” \n\n\n\nScenarios: Open Battle\, Flank Attack\, and Command & Control  \n\n\n\nNumber of games: Three \n\n\n\nPainting Requirement: Painted \n\n\n\n\nDownload Event Pack\n\n\n\nBCP Registration Link\n\n\n\n\nThe event pack currently says this event is on Saturday 22nd\, this is an error that will be fixed shortly. \n\n\n\n\n\n\n\n\n\n\n\nQuestions?\n\n\n\nIf you’ve got any questions about this event that aren’t answered in the event pack or below\, please get in touch! \n\n\n\n\n\nAbout the Venue\n\n\n\nHull’s Angels Tabletop Gaming Club is ran by the community\, for the community. Our committee members and event organisers are all volunteers\, which helps keep our entry fees low.  \n\n\n\nOur goal is the make the gaming community in Hull and East Yorkshire the best it can be\, and offer a safe and comfortable environment for everyone to enjoy with great facilities.  \n\n\n\nFood and Drinks\n\n\n\nFood will not be provided for this event\, however the club is located right in the middle of Hull City Center which is home to all kinds of bars\, restaurants and takeaways.The club has a front counter which sells hot and cold drinks\, snacks\, hobby supplies\, dice\, and sprays! All sales from these help keep the club open. \n\n\n\nAge Restrictions\n\n\n\nTo attend an event you must be 18 or over.  \n\n\n\nDisabled Access\n\n\n\nThe club is situated on the first floor up a flight of stairs. Unfortunately we have no disabled access right now – this is something we’re working on. \n\n\n\nEach of gaming tables are designed to be stood at while playing\, or sat on stools at. If you have accessibility requirements and would prefer a lower table with chairs please let us know and we can provide one for your visit. \n\n\n\nFacilities\n\n\n\nThe club has toilet facilities for both male\, female and disabled visitors. \n\n\n\nWhere to Find Us and Parking\n\n\n\nInformation on the best places to park for the event can be found here \n\n\n\n\n	\n		\n\n	\n\n\n\n\n	\n\n\n\n\nRefund Policy\n\n\n\nTickets can be refunded up to 7 days before the event starts unless the event is cancelled\, where a full refund will be issued. If you turn up after the safety briefing at the start of the event\, you may be turned away without a refund. Hull’s Angels is not responsible for any additional costs (such as travel or accommodation) that may occur if an event is cancelled. To request a refund please contact us.
URL:https://hullsangels.com/event/the-owey-oc/
LOCATION:Hull’s Angels Gaming Club\, 4-5 Whitefriargate\, Kingston Upon Hull\, HU1 2ER\, United Kingdom
CATEGORIES:Warhammer The Old World
ATTACH;FMTTYPE=image/png:https://hullsangels.com/wp-content/uploads/2024/01/Generic_Event_images_WHTOW.png
END:VEVENT
BEGIN:VEVENT
DTSTART;TZID=Europe/London:20250227T180000
DTEND;TZID=Europe/London:20250227T220000
DTSTAMP:20260421T160130
CREATED:20250210T100034Z
LAST-MODIFIED:20250210T100100Z
UID:5655-1740679200-1740693600@hullsangels.com
SUMMARY:Warhammer Underworlds Rivals Showdown February
DESCRIPTION:Come along to our Warhammer Underworlds community meet-up happening every last Thursday of the Month! \n\n\n\nEach month we either run a mini tournament\, a meetup or something different! This month’s event is a community meetup to try out your new warbands and decks! \n\n\n\nA great chance to arrange a game\, talk Underworlds with some like minded individuals\, and build lasting friendships. \n\n\n\nAll abilities welcome!
URL:https://hullsangels.com/event/whuw-rivals-showdown-feb/
LOCATION:Hull’s Angels Gaming Club\, 4-5 Whitefriargate\, Kingston Upon Hull\, HU1 2ER\, United Kingdom
CATEGORIES:Warhammer Underworlds
ATTACH;FMTTYPE=image/jpeg:https://hullsangels.com/wp-content/uploads/2025/02/WHW_underworlds_rival_showdown_meetup.jpg
END:VEVENT
END:VCALENDAR