BEGIN:VCALENDAR
VERSION:2.0
PRODID:-//Hull&#039;s Angels Wargaming Club - ECPv6.15.20//NONSGML v1.0//EN
CALSCALE:GREGORIAN
METHOD:PUBLISH
X-ORIGINAL-URL:https://hullsangels.com
X-WR-CALDESC:Events for Hull&#039;s Angels Wargaming Club
REFRESH-INTERVAL;VALUE=DURATION:PT1H
X-Robots-Tag:noindex
X-PUBLISHED-TTL:PT1H
BEGIN:VTIMEZONE
TZID:Europe/London
BEGIN:DAYLIGHT
TZOFFSETFROM:+0000
TZOFFSETTO:+0100
TZNAME:BST
DTSTART:20240331T010000
END:DAYLIGHT
BEGIN:STANDARD
TZOFFSETFROM:+0100
TZOFFSETTO:+0000
TZNAME:GMT
DTSTART:20241027T010000
END:STANDARD
BEGIN:DAYLIGHT
TZOFFSETFROM:+0000
TZOFFSETTO:+0100
TZNAME:BST
DTSTART:20250330T010000
END:DAYLIGHT
BEGIN:STANDARD
TZOFFSETFROM:+0100
TZOFFSETTO:+0000
TZNAME:GMT
DTSTART:20251026T010000
END:STANDARD
BEGIN:DAYLIGHT
TZOFFSETFROM:+0000
TZOFFSETTO:+0100
TZNAME:BST
DTSTART:20260329T010000
END:DAYLIGHT
BEGIN:STANDARD
TZOFFSETFROM:+0100
TZOFFSETTO:+0000
TZNAME:GMT
DTSTART:20261025T010000
END:STANDARD
END:VTIMEZONE
BEGIN:VEVENT
DTSTART;TZID=Europe/London:20250501T180000
DTEND;TZID=Europe/London:20250501T220000
DTSTAMP:20260421T195915
CREATED:20250429T080556Z
LAST-MODIFIED:20250429T080604Z
UID:6576-1746122400-1746136800@hullsangels.com
SUMMARY:MESBG: Beacons Lit
DESCRIPTION:Come along to our welcoming Middle Earth Strategy Battle Game community meet-up happening every first Thursday of the month! \n\n\n\nA great chance to arrange a game\, talk MESBG with some like minded individuals\, and build lasting friendships. \n\n\n\nAll abilities welcome! \n\n\n\nYou can also join our MESBG Community Chat on Facebook. \n\n\n\nStandard Club Fees apply.
URL:https://hullsangels.com/event/mesbg-beacons-lit-may1st/
LOCATION:Hull’s Angels Gaming Club\, 4-5 Whitefriargate\, Kingston Upon Hull\, HU1 2ER\, United Kingdom
CATEGORIES:Community Meetups,Middle Earth
ATTACH;FMTTYPE=image/png:https://hullsangels.com/wp-content/uploads/2025/01/ME_Beacons_Lit_Meetup_banner_33.png
END:VEVENT
BEGIN:VEVENT
DTSTART;TZID=Europe/London:20250505T100000
DTEND;TZID=Europe/London:20250505T170000
DTSTAMP:20260421T195915
CREATED:20250501T074827Z
LAST-MODIFIED:20250501T075714Z
UID:6614-1746439200-1746464400@hullsangels.com
SUMMARY:Bank Holiday Gaming Monday 5th May
DESCRIPTION:The club will be open for gaming! You can play any game using our extensive range of scenery and boards! \n\n\n\nPlease note there may be another event happening at the same time at the club – check our events calendar to see what’s happening. Standard club fees apply.
URL:https://hullsangels.com/event/bank-holiday-gaming-monday-5th-may/
LOCATION:Hull’s Angels Gaming Club\, 4-5 Whitefriargate\, Kingston Upon Hull\, HU1 2ER\, United Kingdom
CATEGORIES:Weekend Gaming
ATTACH;FMTTYPE=image/png:https://hullsangels.com/wp-content/uploads/2025/05/Weekend_Gaming_BANK10to5-scaled.png
END:VEVENT
BEGIN:VEVENT
DTSTART;TZID=Europe/London:20250506T180000
DTEND;TZID=Europe/London:20250506T220000
DTSTAMP:20260421T195915
CREATED:20250429T073545Z
LAST-MODIFIED:20250429T073554Z
UID:6556-1746554400-1746568800@hullsangels.com
SUMMARY:Kill Team Tuesday
DESCRIPTION:Come along to our Kill Team community meet-up happening every 1st and 3rd Tuesday of the month! \n\n\n\nA great chance to arrange a game\, talk Kill Team with some like minded individuals\, and build lasting friendships.  \n\n\n\nAll abilities welcome! \n\n\n\nYou can also join our Kill Team Community Chat on Facebook!
URL:https://hullsangels.com/event/kill-team-tuesday-may6th/
LOCATION:Hull’s Angels Gaming Club\, 4-5 Whitefriargate\, Kingston Upon Hull\, HU1 2ER\, United Kingdom
CATEGORIES:Community Meetups,Kill Team
ATTACH;FMTTYPE=image/png:https://hullsangels.com/wp-content/uploads/2024/10/KTT_fb_banner_13.png
END:VEVENT
BEGIN:VEVENT
DTSTART;TZID=Europe/London:20250510T100000
DTEND;TZID=Europe/London:20250510T170000
DTSTAMP:20260421T195915
CREATED:20250331T120728Z
LAST-MODIFIED:20250501T075507Z
UID:6295-1746871200-1746896400@hullsangels.com
SUMMARY:Weekend Gaming Saturday 10th May
DESCRIPTION:The club will be open for gaming! You can play any game using our extensive range of scenery and boards! \n\n\n\nPlease note there may be another event happening at the same time at the club – check our events calendar to see what’s happening. Standard club fees apply.
URL:https://hullsangels.com/event/weekend-gaming-saturday-10th-may/
LOCATION:Hull’s Angels Gaming Club\, 4-5 Whitefriargate\, Kingston Upon Hull\, HU1 2ER\, United Kingdom
CATEGORIES:Weekend Gaming
ATTACH;FMTTYPE=image/png:https://hullsangels.com/wp-content/uploads/2025/03/Weekend_Gaming_SAT10to5-scaled.png
END:VEVENT
BEGIN:VEVENT
DTSTART;TZID=Europe/London:20250513T180000
DTEND;TZID=Europe/London:20250513T220000
DTSTAMP:20260421T195915
CREATED:20250429T075644Z
LAST-MODIFIED:20250429T075719Z
UID:6568-1747159200-1747173600@hullsangels.com
SUMMARY:WHTOW: Rallying Cry! May
DESCRIPTION:Come along to our welcoming Warhammer The Old World community meet-up happening every second Tuesday of the month! \n\n\n\nA great chance to arrange a game\, talk Old World with some like minded individuals\, and build lasting friendships.  \n\n\n\nAll abilities welcome! \n\n\n\nYou can also join our Old World Community Chat on Facebook! \n\n\n\nStandard Club Fees apply.
URL:https://hullsangels.com/event/whtow-rallying-cry-may25/
LOCATION:Hull’s Angels Gaming Club\, 4-5 Whitefriargate\, Kingston Upon Hull\, HU1 2ER\, United Kingdom
CATEGORIES:Community Meetups,Warhammer The Old World
ATTACH;FMTTYPE=image/png:https://hullsangels.com/wp-content/uploads/2025/04/RallyingCry_Meetup_Banner_06-scaled.png
END:VEVENT
BEGIN:VEVENT
DTSTART;TZID=Europe/London:20250515T183000
DTEND;TZID=Europe/London:20250515T220000
DTSTAMP:20260421T195915
CREATED:20250403T100734Z
LAST-MODIFIED:20250403T100740Z
UID:6335-1747333800-1747346400@hullsangels.com
SUMMARY:Warhammer Age of Sigmar Community Meetup - 1000pts
DESCRIPTION:Come along to our welcoming Warhammer Age of Sigmar community meet-up!  \n\n\n\nA great chance to arrange a game\, talk AoS with some like minded individuals\, and build lasting friendships. \n\n\n\nAll abilities welcome! \n\n\n\nYou can also join our AoS Community Chat on Facebook. \n\n\n\nStandard Club Fees apply. \n\n\n\n\n\n\nWhat’s Happening This Month:\n\n\n\nWe’ll be playing 1000pt games – perfect for practicing for our upcoming Doubles event!
URL:https://hullsangels.com/event/warhammer-age-of-sigmar-community-meetup-1000pts/
LOCATION:Hull’s Angels Gaming Club\, 4-5 Whitefriargate\, Kingston Upon Hull\, HU1 2ER\, United Kingdom
CATEGORIES:Warhammer Age of Sigmar
ATTACH;FMTTYPE=image/png:https://hullsangels.com/wp-content/uploads/2025/04/communitymeetup_AoS2.png
END:VEVENT
BEGIN:VEVENT
DTSTART;TZID=Europe/London:20250518T090000
DTEND;TZID=Europe/London:20250518T180000
DTSTAMP:20260421T195915
CREATED:20241111T115252Z
LAST-MODIFIED:20250507T100242Z
UID:4022-1747558800-1747591200@hullsangels.com
SUMMARY:The HABBL Cup MMXXV
DESCRIPTION:The HABBL Cup is a single day Blood Bowl tournament hosted at Hull’s Angels gaming club. Assemble your team and join us for a day of jaw-dropping touchdowns\, bone-breaking blocks and all-round fantasy football enjoyment!At the end of the day the best of the best will be crowned the 2025 champion and their name will be added to a plaque on the base of club trophy and they’ll get to take home a smaller replica! \n\n\n\nSee last years HABBL Cup Hall of Fame! \n\n\n\n\nEvent Essentials\n\n\n\nWhen: Sunday 18th May 2025 from 9:00am \n\n\n\nWhere: Hull’s Angels Tabletop Gaming Club \n\n\n\nOrganiser: TimDaBoss \n\n\n\nGame Format: Blood Bowl 11’s \n\n\n\nTeam Draft Budget: 1.2 Million Gold Pieces \n\n\n\nNumber of games: Three \n\n\n\nPainting requirement: Painted Teams \n\n\n\nNumber of Tickets: 36 44 (+8 added capacity!) \n\n\n\n\nDownload Event Pack\n\n\n\n\n\n\n\n\n\n\n\n\n\n\n\n\nHull’s Angels is home to the Bob Bifford’s Blood Bowl Bingo! This is an optional fun extra at our events that has no impact on the results of the games but can win you some additional swag! \n\n\n\nFor each row you complete you can claim yourself a prize from Bob’s Swag Pile (such as stickers\, art prints\, magnets\, slam coasters) and if you complete the entire sheet you’ll win the top prize – the ogre sized Big Bob Bifford Medal! \n\n\n\n\n			\n				\n			\n		The Big Bob Bifford Medal!\n\n\n\n\n\n			\n				\n			\n		\n\n\n\n\n			\n				\n			\n		\n\n\n\n\n\n\n\nNAF Sanctioned \n\n\n\n\n\n\n\nPart of the East Yorkshire Tournament Series \n\n\n\n\n\n\n\n\n\n\n\n\n\n\n\n\nQuestions?\n\n\n\nIf you’ve got any questions about this event that aren’t answered in the event pack or below\, please get in touch! \n\n\n\n\n\nAbout the Venue\n\n\n\nHull’s Angels Tabletop Gaming Club is ran by the community\, for the community. Our committee members and event organisers are all volunteers\, which helps keep our entry fees low.  \n\n\n\nOur goal is the make the gaming community in Hull and East Yorkshire the best it can be\, and offer a safe and comfortable environment for everyone to enjoy with great facilities.  \n\n\n\nFood and Drinks\n\n\n\nFood will not be provided for this event\, however the club is located right in the middle of Hull City Center which is home to all kinds of bars\, restaurants and takeaways.The club has a front counter which sells hot and cold drinks\, snacks\, hobby supplies\, dice\, and sprays! All sales from these help keep the club open. \n\n\n\nAge Restrictions\n\n\n\nTo attend an event you must be 18 or over.  \n\n\n\nDisabled Access\n\n\n\nThe club is situated on the first floor up a flight of stairs. Unfortunately we have no disabled access right now – this is something we’re working on. \n\n\n\nEach of gaming tables are designed to be stood at while playing\, or sat on stools at. If you have accessibility requirements and would prefer a lower table with chairs please let us know and we can provide one for your visit. \n\n\n\nFacilities\n\n\n\nThe club has toilet facilities for both male\, female and disabled visitors. \n\n\n\nWhere to Find Us and Parking\n\n\n\nInformation on the best places to park for the event can be found here \n\n\n\n\n	\n		\n\n	\n\n\n\n\n	\n\n\n\n\nRefund Policy\n\n\n\nTickets can be refunded up to 7 days before the event starts unless the event is cancelled\, where a full refund will be issued. If you turn up after the safety briefing at the start of the event\, you may be turned away without a refund. Hull’s Angels is not responsible for any additional costs (such as travel or accommodation) that may occur if an event is cancelled. To request a refund please contact us.
URL:https://hullsangels.com/event/the-habbl-cup-mmxxv/
LOCATION:Hull’s Angels Gaming Club\, 4-5 Whitefriargate\, Kingston Upon Hull\, HU1 2ER\, United Kingdom
CATEGORIES:Blood Bowl
ATTACH;FMTTYPE=image/png:https://hullsangels.com/wp-content/uploads/2024/11/HABBLCUP_FBBanner_26.png
END:VEVENT
BEGIN:VEVENT
DTSTART;TZID=Europe/London:20250520T180000
DTEND;TZID=Europe/London:20250520T220000
DTSTAMP:20260421T195915
CREATED:20250429T073745Z
LAST-MODIFIED:20250429T073755Z
UID:6558-1747764000-1747778400@hullsangels.com
SUMMARY:Kill Team Tuesday
DESCRIPTION:Come along to our Kill Team community meet-up happening every 1st and 3rd Tuesday of the month! \n\n\n\nA great chance to arrange a game\, talk Kill Team with some like minded individuals\, and build lasting friendships.  \n\n\n\nAll abilities welcome! \n\n\n\nYou can also join our Kill Team Community Chat on Facebook!
URL:https://hullsangels.com/event/kill-team-tuesday-may20th/
LOCATION:Hull’s Angels Gaming Club\, 4-5 Whitefriargate\, Kingston Upon Hull\, HU1 2ER\, United Kingdom
CATEGORIES:Community Meetups,Kill Team
ATTACH;FMTTYPE=image/png:https://hullsangels.com/wp-content/uploads/2024/10/KTT_fb_banner_13.png
END:VEVENT
BEGIN:VEVENT
DTSTART;TZID=Europe/London:20250526T100000
DTEND;TZID=Europe/London:20250526T170000
DTSTAMP:20260421T195915
CREATED:20250501T075756Z
LAST-MODIFIED:20250501T075804Z
UID:6622-1748253600-1748278800@hullsangels.com
SUMMARY:Bank Holiday Gaming Monday 26th May
DESCRIPTION:The club will be open for gaming! You can play any game using our extensive range of scenery and boards! \n\n\n\nPlease note there may be another event happening at the same time at the club – check our events calendar to see what’s happening. Standard club fees apply.
URL:https://hullsangels.com/event/bank-holiday-gaming-monday-26th-may/
LOCATION:Hull’s Angels Gaming Club\, 4-5 Whitefriargate\, Kingston Upon Hull\, HU1 2ER\, United Kingdom
CATEGORIES:Weekend Gaming
ATTACH;FMTTYPE=image/png:https://hullsangels.com/wp-content/uploads/2025/05/Weekend_Gaming_BANK10to5-scaled.png
END:VEVENT
BEGIN:VEVENT
DTSTART;TZID=Europe/London:20250529T180000
DTEND;TZID=Europe/London:20250529T220000
DTSTAMP:20260421T195915
CREATED:20250429T081629Z
LAST-MODIFIED:20250429T091516Z
UID:6582-1748541600-1748556000@hullsangels.com
SUMMARY:"Other Games" Meetup - May
DESCRIPTION:Too many games to play\, not enough time? Then this meetup is for you!  \n\n\n\nBlow the dust off those “other games” that you own and get playing!  \n\n\n\n\n\nEach month we’ll have a specific theme and there’ll be no more than one league/campaign running at a time for games that fall under this category.  \n\n\n\n\n\nThis Month’s Theme:\n\n\n\n\n\n\n\nMoonstone! \n\n\n\nCheck out the event for more details \n\n\n\nThis month’s theme not for you? Not a problem\, just post in the relevant chat for the game you want to play and see if anyone is available! \n\n\n\n\n\nCommunity Chats\n\n\n\nWe have dedicated chats for a wide variety of games on our Facebook Group:https://www.facebook.com/groups/hullsangels \n\n\n\n\nFrostgrave\n\n\n\nFallout Factions/Wasteland Warfare\n\n\n\nHalo: Flashpoint\n\n\n\nMalifaux\n\n\n\nMarvel Crisis Protocol\n\n\n\nMoonstone\n\n\n\nMordheim\n\n\n\nNecromunda\n\n\n\nStar Wars Shatterpoint\n\n\n\nTrench Crusade\n\n\n\nWarhammer Underworlds\n\n\n\n\nIf the game you want to play is not on the list\, or you’re interested in running/demoing something that you think would fit into this category\, please get in touch! We’re more than happy to help new and existing games flourish.
URL:https://hullsangels.com/event/other-games-meetup-may-2025/
LOCATION:Hull’s Angels Gaming Club\, 4-5 Whitefriargate\, Kingston Upon Hull\, HU1 2ER\, United Kingdom
CATEGORIES:Community Meetups,Other Games
ATTACH;FMTTYPE=image/png:https://hullsangels.com/wp-content/uploads/2025/04/generic_Othergames_44.png
END:VEVENT
BEGIN:VEVENT
DTSTART;TZID=Europe/London:20250529T180000
DTEND;TZID=Europe/London:20250529T220000
DTSTAMP:20260421T195915
CREATED:20250429T090502Z
LAST-MODIFIED:20250429T090507Z
UID:6585-1748541600-1748556000@hullsangels.com
SUMMARY:Moonstone Demo Evening and Community Meetup!
DESCRIPTION:What is it?\n\n\n\nMoonstone is an award winning fantasy skirmish game for 2-4 players\, which sees you leading fairytale inspired characters in search of precious Moonstones. It uses unique card mechanics where players predict\, misdirect and bluff their way to victory.   \n\n\n\nFind out more about Moonstone on the Goblin King Games website:https://www.moonstonethegame.com/about \n\n\n\n\n\n\n\n\n\nDemos!\n\n\n\nWant to give it a go? We’ll have a starter set on hand to run you through the basics of the game!  \n\n\n\nExisting Player?\n\n\n\nPop a message in the Facebook Community Chat that you’ll be coming along!
URL:https://hullsangels.com/event/moonstone-demo-evening-and-community-meetup/
LOCATION:Hull’s Angels Gaming Club\, 4-5 Whitefriargate\, Kingston Upon Hull\, HU1 2ER\, United Kingdom
CATEGORIES:Other Games
ATTACH;FMTTYPE=image/png:https://hullsangels.com/wp-content/uploads/2025/04/Moonstone_Meetup_May_2025_45.png
END:VEVENT
BEGIN:VEVENT
DTSTART;TZID=Europe/London:20250531T100000
DTEND;TZID=Europe/London:20250531T170000
DTSTAMP:20260421T195915
CREATED:20250501T080306Z
LAST-MODIFIED:20250501T083606Z
UID:6625-1748685600-1748710800@hullsangels.com
SUMMARY:Weekend Gaming Saturday 31st May
DESCRIPTION:The club will be open for gaming! You can play any game using our extensive range of scenery and boards! \n\n\n\nPlease note there may be another event happening at the same time at the club – check our events calendar to see what’s happening. Standard club fees apply.
URL:https://hullsangels.com/event/weekend-gaming-saturday-31st-may/
LOCATION:Hull’s Angels Gaming Club\, 4-5 Whitefriargate\, Kingston Upon Hull\, HU1 2ER\, United Kingdom
CATEGORIES:Weekend Gaming
ATTACH;FMTTYPE=image/png:https://hullsangels.com/wp-content/uploads/2025/03/Weekend_Gaming_SAT10to5-scaled.png
END:VEVENT
END:VCALENDAR