BEGIN:VCALENDAR
VERSION:2.0
PRODID:-//Hull&#039;s Angels Wargaming Club - ECPv6.15.20//NONSGML v1.0//EN
CALSCALE:GREGORIAN
METHOD:PUBLISH
X-WR-CALNAME:Hull&#039;s Angels Wargaming Club
X-ORIGINAL-URL:https://hullsangels.com
X-WR-CALDESC:Events for Hull&#039;s Angels Wargaming Club
REFRESH-INTERVAL;VALUE=DURATION:PT1H
X-Robots-Tag:noindex
X-PUBLISHED-TTL:PT1H
BEGIN:VTIMEZONE
TZID:Europe/London
BEGIN:DAYLIGHT
TZOFFSETFROM:+0000
TZOFFSETTO:+0100
TZNAME:BST
DTSTART:20240331T010000
END:DAYLIGHT
BEGIN:STANDARD
TZOFFSETFROM:+0100
TZOFFSETTO:+0000
TZNAME:GMT
DTSTART:20241027T010000
END:STANDARD
BEGIN:DAYLIGHT
TZOFFSETFROM:+0000
TZOFFSETTO:+0100
TZNAME:BST
DTSTART:20250330T010000
END:DAYLIGHT
BEGIN:STANDARD
TZOFFSETFROM:+0100
TZOFFSETTO:+0000
TZNAME:GMT
DTSTART:20251026T010000
END:STANDARD
BEGIN:DAYLIGHT
TZOFFSETFROM:+0000
TZOFFSETTO:+0100
TZNAME:BST
DTSTART:20260329T010000
END:DAYLIGHT
BEGIN:STANDARD
TZOFFSETFROM:+0100
TZOFFSETTO:+0000
TZNAME:GMT
DTSTART:20261025T010000
END:STANDARD
END:VTIMEZONE
BEGIN:VEVENT
DTSTART;TZID=Europe/London:20250701T180000
DTEND;TZID=Europe/London:20250701T220000
DTSTAMP:20260421T232749
CREATED:20250429T074358Z
LAST-MODIFIED:20250429T074404Z
UID:6564-1751392800-1751407200@hullsangels.com
SUMMARY:Kill Team Tuesday
DESCRIPTION:Come along to our Kill Team community meet-up happening every 1st and 3rd Tuesday of the month! \n\n\n\nA great chance to arrange a game\, talk Kill Team with some like minded individuals\, and build lasting friendships.  \n\n\n\nAll abilities welcome! \n\n\n\nYou can also join our Kill Team Community Chat on Facebook!
URL:https://hullsangels.com/event/kill-team-tuesday-july1st/
LOCATION:Hull’s Angels Gaming Club\, 4-5 Whitefriargate\, Kingston Upon Hull\, HU1 2ER\, United Kingdom
CATEGORIES:Community Meetups,Kill Team
ATTACH;FMTTYPE=image/png:https://hullsangels.com/wp-content/uploads/2024/10/KTT_fb_banner_13.png
END:VEVENT
BEGIN:VEVENT
DTSTART;TZID=Europe/London:20250703T180000
DTEND;TZID=Europe/London:20250703T220000
DTSTAMP:20260421T232749
CREATED:20250429T080856Z
LAST-MODIFIED:20250429T080903Z
UID:6580-1751565600-1751580000@hullsangels.com
SUMMARY:MESBG: Beacons Lit
DESCRIPTION:Come along to our welcoming Middle Earth Strategy Battle Game community meet-up happening every first Thursday of the month! \n\n\n\nA great chance to arrange a game\, talk MESBG with some like minded individuals\, and build lasting friendships. \n\n\n\nAll abilities welcome! \n\n\n\nYou can also join our MESBG Community Chat on Facebook. \n\n\n\nStandard Club Fees apply.
URL:https://hullsangels.com/event/mesbg-beacons-lit-july3rd/
LOCATION:Hull’s Angels Gaming Club\, 4-5 Whitefriargate\, Kingston Upon Hull\, HU1 2ER\, United Kingdom
CATEGORIES:Community Meetups,Middle Earth
ATTACH;FMTTYPE=image/png:https://hullsangels.com/wp-content/uploads/2025/01/ME_Beacons_Lit_Meetup_banner_33.png
END:VEVENT
BEGIN:VEVENT
DTSTART;TZID=Europe/London:20250705T080000
DTEND;TZID=Europe/London:20250705T200000
DTSTAMP:20260421T232749
CREATED:20250521T130625Z
LAST-MODIFIED:20250521T130634Z
UID:6805-1751702400-1751745600@hullsangels.com
SUMMARY:Apocalypse: The Reclamation
DESCRIPTION:The sixth event in our ‘Big Game’ series. A custom narrative Warhammer 40\,000 Apocalypse game for crazy people with huge armies. Continue the story of Sephirus and impact what happens in our next narrative campaign day event. \n\n\n\n\nEvent Essentials\n\n\n\nWhen: Saturday 5th July 2025 from 8:00am \n\n\n\nWhere: Hull’s Angels Tabletop Gaming Club \n\n\n\nBattle Size: 4000-5000 points \n\n\n\nBoard Size: Huge! \n\n\n\nMission: Revealed on the day  \n\n\n\nNumber of games: One really big one! \n\n\n\nPainting Requirement: Fully painted armies \n\n\n\nOrganiser: Tom H \n\n\n\n\nDownload Event Pack\n\n\n\n\n\n\n\n\n\n\n\n\n\n\n\n\n\n\n\n\nQuestions?\n\n\n\nIf you’ve got any questions about this event that aren’t answered in the event pack or below\, please get in touch! \n\n\n\n\n\nAbout the Venue\n\n\n\nHull’s Angels Tabletop Gaming Club is ran by the community\, for the community. Our committee members and event organisers are all volunteers\, which helps keep our entry fees low.  \n\n\n\nOur goal is the make the gaming community in Hull and East Yorkshire the best it can be\, and offer a safe and comfortable environment for everyone to enjoy with great facilities.  \n\n\n\nFood and Drinks\n\n\n\nFood will not be provided for this event\, however the club is located right in the middle of Hull City Center which is home to all kinds of bars\, restaurants and takeaways.The club has a front counter which sells hot and cold drinks\, snacks\, hobby supplies\, dice\, and sprays! All sales from these help keep the club open. \n\n\n\nAge Restrictions\n\n\n\nTo attend an event you must be 18 or over.  \n\n\n\nDisabled Access\n\n\n\nThe club is situated on the first floor up a flight of stairs. Unfortunately we have no disabled access right now – this is something we’re working on. \n\n\n\nEach of gaming tables are designed to be stood at while playing\, or sat on stools at. If you have accessibility requirements and would prefer a lower table with chairs please let us know and we can provide one for your visit. \n\n\n\nFacilities\n\n\n\nThe club has toilet facilities for both male\, female and disabled visitors. \n\n\n\nWhere to Find Us and Parking\n\n\n\nInformation on the best places to park for the event can be found here \n\n\n\n\n	\n		\n\n	\n\n\n\n\n	\n\n\n\n\nRefund Policy\n\n\n\nTickets can be refunded up to 7 days before the event starts unless the event is cancelled\, where a full refund will be issued. If you turn up after the safety briefing at the start of the event\, you may be turned away without a refund. Hull’s Angels is not responsible for any additional costs (such as travel or accommodation) that may occur if an event is cancelled. To request a refund please contact us.
URL:https://hullsangels.com/event/apocalypse-reclamation/
LOCATION:Hull’s Angels Gaming Club\, 4-5 Whitefriargate\, Kingston Upon Hull\, HU1 2ER\, United Kingdom
CATEGORIES:Warhammer 40k
ATTACH;FMTTYPE=image/png:https://hullsangels.com/wp-content/uploads/2025/05/apoc_6_banner_43-scaled.png
END:VEVENT
BEGIN:VEVENT
DTSTART;TZID=Europe/London:20250707T080000
DTEND;TZID=Europe/London:20250707T170000
DTSTAMP:20260421T232749
CREATED:20250707T094301Z
LAST-MODIFIED:20250707T094312Z
UID:7349-1751875200-1751907600@hullsangels.com
SUMMARY:Weekend Gaming Sunday 13th July
DESCRIPTION:The club will be open for gaming! You can play any game using our extensive range of scenery and boards! \n\n\n\nPlease note there may be another event happening at the same time at the club – check our events calendar to see what’s happening. Standard club fees apply.
URL:https://hullsangels.com/event/weekend-gaming-sunday-13th-july/
LOCATION:Hull’s Angels Gaming Club\, 4-5 Whitefriargate\, Kingston Upon Hull\, HU1 2ER\, United Kingdom
CATEGORIES:Weekend Gaming
ATTACH;FMTTYPE=image/png:https://hullsangels.com/wp-content/uploads/2025/07/Weekend_Gaming_SUN10to5png-scaled.png
END:VEVENT
BEGIN:VEVENT
DTSTART;TZID=Europe/London:20250708T180000
DTEND;TZID=Europe/London:20250708T220000
DTSTAMP:20260421T232749
CREATED:20250429T080109Z
LAST-MODIFIED:20250429T080117Z
UID:6574-1751997600-1752012000@hullsangels.com
SUMMARY:WHTOW: Rallying Cry! July
DESCRIPTION:Come along to our welcoming Warhammer The Old World community meet-up happening every second Tuesday of the month! \n\n\n\nA great chance to arrange a game\, talk Old World with some like minded individuals\, and build lasting friendships.  \n\n\n\nAll abilities welcome! \n\n\n\nYou can also join our Old World Community Chat on Facebook! \n\n\n\nStandard Club Fees apply.
URL:https://hullsangels.com/event/whtow-rallying-cry-july-2025/
LOCATION:Hull’s Angels Gaming Club\, 4-5 Whitefriargate\, Kingston Upon Hull\, HU1 2ER\, United Kingdom
CATEGORIES:Community Meetups,Warhammer The Old World
ATTACH;FMTTYPE=image/png:https://hullsangels.com/wp-content/uploads/2025/04/RallyingCry_Meetup_Banner_06-scaled.png
END:VEVENT
BEGIN:VEVENT
DTSTART;TZID=Europe/London:20250713T090000
DTEND;TZID=Europe/London:20250713T180000
DTSTAMP:20260421T232749
CREATED:20241111T125124Z
LAST-MODIFIED:20250521T135719Z
UID:4028-1752397200-1752429600@hullsangels.com
SUMMARY:The HABBL Stunty Cup 2025
DESCRIPTION:The HABBL Stunty Cup is a one day Blood Bowl tournament hosted at Hull’s Angels gaming club.The Stunty Cup is a special event where only players with the Stunty rule are allowed – and of course their muscle\, the Big Guys! \n\n\n\nSee last years HABBL Stunty Cup Hall of Fame! \n\n\n\n\nEvent Essentials\n\n\n\nWhen: Sunday 13th July 2025 from 9:00am \n\n\n\nWhere: Hull’s Angels Tabletop Gaming Club \n\n\n\nOrganiser: TimDaBoss \n\n\n\nTeam Draft Budget: TV110 (1.1 million gold crowns) \n\n\n\nTeam Selection: Stunty teams only – see Event Pack! \n\n\n\nNumber of games: Three – we will be providing pitches! \n\n\n\n\nDownload Event Pack\n\n\n\n\n\n\n\n\n\n\n\n\n\n\n\n\nHull’s Angels is home to the Bob Bifford’s Blood Bowl Bingo! This is an optional fun extra at our events that has no impact on the results of the games but can win you some additional swag! \n\n\n\nFor each row you complete you can claim yourself a prize from Bob’s Swag Pile (such as stickers\, art prints\, magnets\, slam coasters) and if you complete the entire sheet you’ll win the top prize – the ogre sized Big Bob Bifford Medal! \n\n\n\n\n			\n				\n			\n		The Big Bob Bifford Medal!\n\n\n\n\n\n			\n				\n			\n		\n\n\n\n\n			\n				\n			\n		\n\n\n\n\n\n\n\nNAF Sanctioned! \n\n\n\n\n\n\n\nPart of the East Yorkshire Tournament Series \n\n\n\n\n\n\n\n\n\n\n\n\nQuestions?\n\n\n\nIf you’ve got any questions about this event that aren’t answered in the event pack or below\, please get in touch! \n\n\n\n\n\nAbout the Venue\n\n\n\nHull’s Angels Tabletop Gaming Club is ran by the community\, for the community. Our committee members and event organisers are all volunteers\, which helps keep our entry fees low.  \n\n\n\nOur goal is the make the gaming community in Hull and East Yorkshire the best it can be\, and offer a safe and comfortable environment for everyone to enjoy with great facilities.  \n\n\n\nFood and Drinks\n\n\n\nFood will not be provided for this event\, however the club is located right in the middle of Hull City Center which is home to all kinds of bars\, restaurants and takeaways.The club has a front counter which sells hot and cold drinks\, snacks\, hobby supplies\, dice\, and sprays! All sales from these help keep the club open. \n\n\n\nAge Restrictions\n\n\n\nTo attend an event you must be 18 or over.  \n\n\n\nDisabled Access\n\n\n\nThe club is situated on the first floor up a flight of stairs. Unfortunately we have no disabled access right now – this is something we’re working on. \n\n\n\nEach of gaming tables are designed to be stood at while playing\, or sat on stools at. If you have accessibility requirements and would prefer a lower table with chairs please let us know and we can provide one for your visit. \n\n\n\nFacilities\n\n\n\nThe club has toilet facilities for both male\, female and disabled visitors. \n\n\n\nWhere to Find Us and Parking\n\n\n\nInformation on the best places to park for the event can be found here \n\n\n\n\n	\n		\n\n	\n\n\n\n\n	\n\n\n\n\nRefund Policy\n\n\n\nTickets can be refunded up to 7 days before the event starts unless the event is cancelled\, where a full refund will be issued. If you turn up after the safety briefing at the start of the event\, you may be turned away without a refund. Hull’s Angels is not responsible for any additional costs (such as travel or accommodation) that may occur if an event is cancelled. To request a refund please contact us.
URL:https://hullsangels.com/event/the-habbl-stunty-cup-2025/
LOCATION:Hull’s Angels Gaming Club\, 4-5 Whitefriargate\, Kingston Upon Hull\, HU1 2ER\, United Kingdom
CATEGORIES:Blood Bowl
ATTACH;FMTTYPE=image/png:https://hullsangels.com/wp-content/uploads/2024/11/Stunty-Cup-2025_banner_29-scaled.png
END:VEVENT
BEGIN:VEVENT
DTSTART;TZID=Europe/London:20250715T180000
DTEND;TZID=Europe/London:20250715T220000
DTSTAMP:20260421T232749
CREATED:20250429T074527Z
LAST-MODIFIED:20250429T074532Z
UID:6566-1752602400-1752616800@hullsangels.com
SUMMARY:Kill Team Tuesday
DESCRIPTION:Come along to our Kill Team community meet-up happening every 1st and 3rd Tuesday of the month! \n\n\n\nA great chance to arrange a game\, talk Kill Team with some like minded individuals\, and build lasting friendships.  \n\n\n\nAll abilities welcome! \n\n\n\nYou can also join our Kill Team Community Chat on Facebook!
URL:https://hullsangels.com/event/kill-team-tuesday-july15th/
LOCATION:Hull’s Angels Gaming Club\, 4-5 Whitefriargate\, Kingston Upon Hull\, HU1 2ER\, United Kingdom
CATEGORIES:Community Meetups,Kill Team
ATTACH;FMTTYPE=image/png:https://hullsangels.com/wp-content/uploads/2024/10/KTT_fb_banner_13.png
END:VEVENT
BEGIN:VEVENT
DTSTART;TZID=Europe/London:20250719T100000
DTEND;TZID=Europe/London:20250719T170000
DTSTAMP:20260421T232749
CREATED:20250627T140826Z
LAST-MODIFIED:20250627T140838Z
UID:7182-1752919200-1752944400@hullsangels.com
SUMMARY:Weekend Gaming Saturday 19th July
DESCRIPTION:The club will be open for gaming! You can play any game using our extensive range of scenery and boards! \n\n\n\nPlease note there may be another event happening at the same time at the club – check our events calendar to see what’s happening. Standard club fees apply.
URL:https://hullsangels.com/event/weekend-gaming-saturday-19th-july/
LOCATION:Hull’s Angels Gaming Club\, 4-5 Whitefriargate\, Kingston Upon Hull\, HU1 2ER\, United Kingdom
CATEGORIES:Weekend Gaming
ATTACH;FMTTYPE=image/png:https://hullsangels.com/wp-content/uploads/2025/03/Weekend_Gaming_SAT10to5-scaled.png
END:VEVENT
BEGIN:VEVENT
DTSTART;TZID=Europe/London:20250720T090000
DTEND;TZID=Europe/London:20250720T194500
DTSTAMP:20260421T232749
CREATED:20250429T093359Z
LAST-MODIFIED:20250429T093404Z
UID:6592-1753002000-1753040700@hullsangels.com
SUMMARY:Warhammer 40\,000 July RTT
DESCRIPTION:Carnage return to Hull’s Angels for a single day 2K 40k ITC RTT! \n\n\n\n\n\n\n\n\nThis is an external event hosted at Hull’s Angels ran and organised by Carnage Leagues and Tournaments. \n\n\n\nFor more information and to get tickets please visit their website.
URL:https://hullsangels.com/event/warhammer-40000-july-rtt/
LOCATION:Hull’s Angels Gaming Club\, 4-5 Whitefriargate\, Kingston Upon Hull\, HU1 2ER\, United Kingdom
CATEGORIES:Warhammer 40k
ATTACH;FMTTYPE=image/png:https://hullsangels.com/wp-content/uploads/2024/02/Generic_Event_images_40k_carnage.png
END:VEVENT
BEGIN:VEVENT
DTSTART;TZID=Europe/London:20250727T100000
DTEND;TZID=Europe/London:20250727T130000
DTSTAMP:20260421T232749
CREATED:20250422T081426Z
LAST-MODIFIED:20250724T163232Z
UID:6518-1753610400-1753621200@hullsangels.com
SUMMARY:Bring and Buy July 2025
DESCRIPTION:Welcome to Hull’s Angels July Tabletop Bring and Buy sale! – Home of all your wargaming bargains. \n\n\n\nA Warboot is an indoor carboot sale / bring & buy for all things wargaming\, board gaming\, card gaming and modelling.  \n\n\n\n\nBuyers Information and RSVP\n\n\n\nEntry for buyers: Free! \n\n\n\nIt’s free to come in and look around\, you only need to pay if you are selling – click the RSVP below to be sent an email reminder closer to the event date! \n\n\n\n\nClub opens to the public from 10:00 am\n\n\n\nClub closes approx 1:30 pm depending on attendance\n\n\n\n\n\n\nWe won’t use your email for anything other than this Bring and Buy \n\n\n\n\n\n\n\n\n\nSellers Information and Tickets\n\n\n\nPrice per 6×4 foot table: £7.00 \n\n\n\nBook a table and you can sell as much as you like! No transaction fees or commission to worry about!  \n\n\n\nYou can share tables between friends as long as everything you have fits on your booked space. If you need to find someone to share with\, please post on our Hull’s Angels Community group on Facebook.Tables can be refunded up until 48 hours before the event\, at which point they will be refunded only on the basis that we can sell the table onto someone else. Table space is limited to 18 tables so please book early to avoid disappointment. \n\n\n\n\nClub opens for sellers set-up: 9:00 am\n\n\n\nClub closes approx 1:30 pm depending on attendance
URL:https://hullsangels.com/event/bring-and-buy-july-2025/
LOCATION:Hull’s Angels Gaming Club\, 4-5 Whitefriargate\, Kingston Upon Hull\, HU1 2ER\, United Kingdom
CATEGORIES:Other
ATTACH;FMTTYPE=image/png:https://hullsangels.com/wp-content/uploads/2025/04/July_bringandbuy.png
END:VEVENT
BEGIN:VEVENT
DTSTART;TZID=Europe/London:20250729T180000
DTEND;TZID=Europe/London:20250729T220000
DTSTAMP:20260421T232749
CREATED:20250711T150622Z
LAST-MODIFIED:20250711T150636Z
UID:7403-1753812000-1753826400@hullsangels.com
SUMMARY:Horus Heresy: Saturnine -Community Deep Dive
DESCRIPTION:Join us for the first club night of Third Edition! We’ll be digging through the rulebooks and figuring out the new changes\, seeing how 2.0 lists could work in 3.0 and trying out some 500pt games!  \n\n\n\nYou can organise a game ahead of time or grab a game on the night with anyone else. The focus is on learning the new rules & figuring out how the changes work. Or just come in and chat with other Heresy gamers about the new edition and help each other learn the new edition!  \n\n\n\n \n\n\n\nWhat you should bring: \n\n\n\n\nYour rulebooks\,\n\n\n\nA 500pt list\,\n\n\n\nCopies of old lists from the previous edition.
URL:https://hullsangels.com/event/horus-heresy-saturnine-community-deep-dive/
LOCATION:Hull’s Angels Gaming Club\, 4-5 Whitefriargate\, Kingston Upon Hull\, HU1 2ER\, United Kingdom
CATEGORIES:Horus Heresy
ATTACH;FMTTYPE=image/png:https://hullsangels.com/wp-content/uploads/2025/07/THH_community_Banner_03.png
END:VEVENT
BEGIN:VEVENT
DTSTART;TZID=Europe/London:20250731T180000
DTEND;TZID=Europe/London:20250731T220000
DTSTAMP:20260421T232749
CREATED:20250703T074820Z
LAST-MODIFIED:20250703T074836Z
UID:7293-1753984800-1753999200@hullsangels.com
SUMMARY:Mordheim Community Meetup
DESCRIPTION:A chance to blow off the cobwebs before our Mordheim City of the Damned event! Or\, if you’re not coming to the event\, a chance to meet some other players mad enough to wander into the destroyed city. \n\n\n\nThis is a free event (other than standard club fees) but to allow us to know how much terrain to set up\, please grab an entry ticket below:
URL:https://hullsangels.com/event/mordheim-community-meetup/
LOCATION:Hull’s Angels Gaming Club\, 4-5 Whitefriargate\, Kingston Upon Hull\, HU1 2ER\, United Kingdom
CATEGORIES:Other Games
ATTACH;FMTTYPE=image/png:https://hullsangels.com/wp-content/uploads/2025/07/community_meetup_Mordheim_01.png
END:VEVENT
BEGIN:VEVENT
DTSTART;TZID=Europe/London:20250731T180000
DTEND;TZID=Europe/London:20250731T220000
DTSTAMP:20260421T232749
CREATED:20250703T074941Z
LAST-MODIFIED:20250703T075013Z
UID:7290-1753984800-1753999200@hullsangels.com
SUMMARY:Other Games Meetup - July
DESCRIPTION:Too many games to play\, not enough time? Then this meetup is for you!  \n\n\n\nBlow the dust off those “other games” that you own and get playing!  \n\n\n\n\n\nEach month we’ll have a specific theme and there’ll be no more than one league/campaign running at a time for games that fall under this category.  \n\n\n\n\n\nThis Month’s Theme:\n\n\n\n\n\n\n\nMordheim \n\n\n\nCheck out the event for more details \n\n\n\nThis month’s theme not for you? Not a problem\, just post in the relevant chat for the game you want to play and see if anyone is available! \n\n\n\n\n\nCommunity Chats\n\n\n\nWe have dedicated chats for a wide variety of games on our Facebook Group:https://www.facebook.com/groups/hullsangels \n\n\n\n\nFrostgrave\n\n\n\nFallout Factions/Wasteland Warfare\n\n\n\nHalo: Flashpoint\n\n\n\nMalifaux\n\n\n\nMarvel Crisis Protocol\n\n\n\nMoonstone\n\n\n\nMordheim\n\n\n\nNecromunda\n\n\n\nStar Wars Shatterpoint\n\n\n\nTrench Crusade\n\n\n\nWarhammer Underworlds\n\n\n\n\nIf the game you want to play is not on the list\, or you’re interested in running/demoing something that you think would fit into this category\, please get in touch! We’re more than happy to help new and existing games flourish.
URL:https://hullsangels.com/event/other-games-meetup-july/
LOCATION:Hull’s Angels Gaming Club\, 4-5 Whitefriargate\, Kingston Upon Hull\, HU1 2ER\, United Kingdom
CATEGORIES:Other Games
ATTACH;FMTTYPE=image/png:https://hullsangels.com/wp-content/uploads/2025/04/generic_Othergames_44.png
END:VEVENT
END:VCALENDAR