BEGIN:VCALENDAR
VERSION:2.0
PRODID:-//Hull&#039;s Angels Wargaming Club - ECPv6.15.20//NONSGML v1.0//EN
CALSCALE:GREGORIAN
METHOD:PUBLISH
X-WR-CALNAME:Hull&#039;s Angels Wargaming Club
X-ORIGINAL-URL:https://hullsangels.com
X-WR-CALDESC:Events for Hull&#039;s Angels Wargaming Club
REFRESH-INTERVAL;VALUE=DURATION:PT1H
X-Robots-Tag:noindex
X-PUBLISHED-TTL:PT1H
BEGIN:VTIMEZONE
TZID:Europe/London
BEGIN:DAYLIGHT
TZOFFSETFROM:+0000
TZOFFSETTO:+0100
TZNAME:BST
DTSTART:20240331T010000
END:DAYLIGHT
BEGIN:STANDARD
TZOFFSETFROM:+0100
TZOFFSETTO:+0000
TZNAME:GMT
DTSTART:20241027T010000
END:STANDARD
BEGIN:DAYLIGHT
TZOFFSETFROM:+0000
TZOFFSETTO:+0100
TZNAME:BST
DTSTART:20250330T010000
END:DAYLIGHT
BEGIN:STANDARD
TZOFFSETFROM:+0100
TZOFFSETTO:+0000
TZNAME:GMT
DTSTART:20251026T010000
END:STANDARD
BEGIN:DAYLIGHT
TZOFFSETFROM:+0000
TZOFFSETTO:+0100
TZNAME:BST
DTSTART:20260329T010000
END:DAYLIGHT
BEGIN:STANDARD
TZOFFSETFROM:+0100
TZOFFSETTO:+0000
TZNAME:GMT
DTSTART:20261025T010000
END:STANDARD
END:VTIMEZONE
BEGIN:VEVENT
DTSTART;TZID=Europe/London:20250907T083000
DTEND;TZID=Europe/London:20250907T184500
DTSTAMP:20260422T022858
CREATED:20250718T131135Z
LAST-MODIFIED:20250718T131208Z
UID:7497-1757233800-1757270700@hullsangels.com
SUMMARY:WHTOW: A New Dawn
DESCRIPTION:Join us for our first Warhammer: The Old World tournament using the brand-new Matched Play Guide. Three games. One brutal day. Glory awaits.  \n\n\n\nBring your steel\, your spells\, and your best painted banners — the Old World is calling. \n\n\n\n\nEvent Essentials\n\n\n\nSystem: Warhammer: The Old World \n\n\n\nWhen: Sunday 7th September 2025 from 8:30am \n\n\n\nWhere: Hull’s Angels Tabletop Gaming Club \n\n\n\nBattle Size: 2000pts \n\n\n\nBoard Size: 6×4 \n\n\n\nScenarios: Matched Play Guide  \n\n\n\nNumber of games: 3 \n\n\n\nPainting Requirement: Fully painted and based \n\n\n\n\nDownload Event Pack\n\n\n\n\n\n\nIncluded With Your Ticket:\n\n\n\n\nSecret Mission Card Deck\n\n\n\nReusable Scoring Sheet\n\n\n\n\n\n\n\n\n\n\n\n\nQuestions?\n\n\n\nIf you’ve got any questions about this event that aren’t answered in the event pack or below\, please get in touch! \n\n\n\n\n\nAbout the Venue\n\n\n\nHull’s Angels Tabletop Gaming Club is ran by the community\, for the community. Our committee members and event organisers are all volunteers\, which helps keep our entry fees low.  \n\n\n\nOur goal is the make the gaming community in Hull and East Yorkshire the best it can be\, and offer a safe and comfortable environment for everyone to enjoy with great facilities.  \n\n\n\nFood and Drinks\n\n\n\nFood will not be provided for this event\, however the club is located right in the middle of Hull City Center which is home to all kinds of bars\, restaurants and takeaways.The club has a front counter which sells hot and cold drinks\, snacks\, hobby supplies\, dice\, and sprays! All sales from these help keep the club open. \n\n\n\nAge Restrictions\n\n\n\nTo attend an event you must be 18 or over.  \n\n\n\nDisabled Access\n\n\n\nThe club is situated on the first floor up a flight of stairs. Unfortunately we have no disabled access right now – this is something we’re working on. \n\n\n\nEach of gaming tables are designed to be stood at while playing\, or sat on stools at. If you have accessibility requirements and would prefer a lower table with chairs please let us know and we can provide one for your visit. \n\n\n\nFacilities\n\n\n\nThe club has toilet facilities for both male\, female and disabled visitors. \n\n\n\nWhere to Find Us and Parking\n\n\n\nInformation on the best places to park for the event can be found here \n\n\n\n\n	\n		\n\n	\n\n\n\n\n	\n\n\n\n\nRefund Policy\n\n\n\nTickets can be refunded up to 7 days before the event starts unless the event is cancelled\, where a full refund will be issued. If you turn up after the safety briefing at the start of the event\, you may be turned away without a refund. Hull’s Angels is not responsible for any additional costs (such as travel or accommodation) that may occur if an event is cancelled. To request a refund please contact us.
URL:https://hullsangels.com/event/a-new-dawn/
CATEGORIES:Warhammer The Old World
ATTACH;FMTTYPE=image/png:https://hullsangels.com/wp-content/uploads/2025/07/Old_World_September_2025_banner_01.png
END:VEVENT
BEGIN:VEVENT
DTSTART;TZID=Europe/London:20250907T100000
DTEND;TZID=Europe/London:20250907T170000
DTSTAMP:20260422T022858
CREATED:20250901T092249Z
LAST-MODIFIED:20250901T092300Z
UID:7868-1757239200-1757264400@hullsangels.com
SUMMARY:Weekend Gaming Sunday 7th September
DESCRIPTION:The club will be open for gaming! You can play any game using our extensive range of scenery and boards! \n\n\n\nPlease note there may be another event happening at the same time at the club – check our events calendar to see what’s happening. Standard club fees apply.
URL:https://hullsangels.com/event/weekend-gaming-sunday-7th-september/
LOCATION:Hull’s Angels Gaming Club\, 4-5 Whitefriargate\, Kingston Upon Hull\, HU1 2ER\, United Kingdom
CATEGORIES:Weekend Gaming
ATTACH;FMTTYPE=image/png:https://hullsangels.com/wp-content/uploads/2025/07/Weekend_Gaming_SUN10to5png-scaled.png
END:VEVENT
BEGIN:VEVENT
DTSTART;TZID=Europe/London:20250914T090000
DTEND;TZID=Europe/London:20250914T180000
DTSTAMP:20260422T022858
CREATED:20241111T131435Z
LAST-MODIFIED:20250715T081119Z
UID:4032-1757840400-1757872800@hullsangels.com
SUMMARY:HABBL Super Sevens Tournament 2025
DESCRIPTION:Blood Bowl 7’s is a variant of the traditional 11’s game\, played on a smaller pitch and with only 7 players. However\, compared to standard 7’s this event promises to be bloodier\, more brutal\, and present a different challenge for both new and experienced coaches.  \n\n\n\nWe will be providing pitches so all you need to bring is your team and some luck! \n\n\n\nSee last years HABBL Super Sevens Hall of Fame! \n\n\n\n\nEvent Essentials\n\n\n\nWhen: Sunday 14th September 2025 from 9:00am \n\n\n\nWhere: Hull’s Angels Tabletop Gaming Club \n\n\n\nOrganiser: TimDaBoss \n\n\n\nGame Format: Blood Bowl Sevens \n\n\n\nTeam Draft Budget: Draft your team as per the standardexhibition Blood Bowl 7’s rules found in Deathzone with the following changes: \n\n\n\n\nEach team has a draft budget of 750\,000 gold pieces\n\n\n\nInstead of up to 4 players that are not Linemen\, you may have up to 5!\n\n\n\n\n \n\n\n\nSkill Selection: All teams will be allowed to give their players a number of additional skills as listed below. These skills do not affect Team Value in any way. \n\n\n\n\nTier 1: 2 Primary Skills\n\n\n\nTier 2: 2 Primary Skills and 1 Secondary Skill\n\n\n\nTier 3: 2 Primary Skills and 2 Secondary Skills\n\n\n\nNotes:\n\nNo player may receive more than 1 Skill\n\n\n\nA Primary Skill may be selected instead of a Secondary\n\n\n\n\n\n\nNumber of games: Five \n\n\n\nPainting requirement: Painted Teams \n\n\n\n\nDownload Event Pack\n\n\n\n\n\n\n\n\n\n\n\n\n\n\n\n\nHull’s Angels is home to the Bob Bifford’s Blood Bowl Bingo! This is an optional fun extra at our events that has no impact on the results of the games but can win you some additional swag! \n\n\n\nFor each row you complete you can claim yourself a prize from Bob’s Swag Pile (such as stickers\, art prints\, magnets\, slam coasters) and if you complete the entire sheet you’ll win the top prize – the ogre sized Big Bob Bifford Medal! \n\n\n\n\n			\n				\n			\n		The Big Bob Bifford Medal!\n\n\n\n\n\n			\n				\n			\n		\n\n\n\n\n			\n				\n			\n		\n\n\n\n\n\n\n\nNAF Sanctioned! \n\n\n\n\n\n\n\n\n\n\n\n\nQuestions?\n\n\n\nIf you’ve got any questions about this event that aren’t answered in the event pack or below\, please get in touch! \n\n\n\n\n\nAbout the Venue\n\n\n\nHull’s Angels Tabletop Gaming Club is ran by the community\, for the community. Our committee members and event organisers are all volunteers\, which helps keep our entry fees low.  \n\n\n\nOur goal is the make the gaming community in Hull and East Yorkshire the best it can be\, and offer a safe and comfortable environment for everyone to enjoy with great facilities.  \n\n\n\nFood and Drinks\n\n\n\nFood will not be provided for this event\, however the club is located right in the middle of Hull City Center which is home to all kinds of bars\, restaurants and takeaways.The club has a front counter which sells hot and cold drinks\, snacks\, hobby supplies\, dice\, and sprays! All sales from these help keep the club open. \n\n\n\nAge Restrictions\n\n\n\nTo attend an event you must be 18 or over.  \n\n\n\nDisabled Access\n\n\n\nThe club is situated on the first floor up a flight of stairs. Unfortunately we have no disabled access right now – this is something we’re working on. \n\n\n\nEach of gaming tables are designed to be stood at while playing\, or sat on stools at. If you have accessibility requirements and would prefer a lower table with chairs please let us know and we can provide one for your visit. \n\n\n\nFacilities\n\n\n\nThe club has toilet facilities for both male\, female and disabled visitors. \n\n\n\nWhere to Find Us and Parking\n\n\n\nInformation on the best places to park for the event can be found here \n\n\n\n\n	\n		\n\n	\n\n\n\n\n	\n\n\n\n\nRefund Policy\n\n\n\nTickets can be refunded up to 7 days before the event starts unless the event is cancelled\, where a full refund will be issued. If you turn up after the safety briefing at the start of the event\, you may be turned away without a refund. Hull’s Angels is not responsible for any additional costs (such as travel or accommodation) that may occur if an event is cancelled. To request a refund please contact us.
URL:https://hullsangels.com/event/habbl-super7s-2025/
CATEGORIES:Blood Bowl
ATTACH;FMTTYPE=image/png:https://hullsangels.com/wp-content/uploads/2024/11/HABBL_Super_Sevens_2025_banner_01.png
END:VEVENT
BEGIN:VEVENT
DTSTART;TZID=Europe/London:20250914T100000
DTEND;TZID=Europe/London:20250914T170000
DTSTAMP:20260422T022858
CREATED:20250901T092705Z
LAST-MODIFIED:20250901T092904Z
UID:7870-1757844000-1757869200@hullsangels.com
SUMMARY:Weekend Opening Sunday 14th September
DESCRIPTION:The club will be open for gaming! You can play any game using our extensive range of scenery and boards! \n\n\n\nPlease note there may be another event happening at the same time at the club – check our events calendar to see what’s happening. Standard club fees apply.
URL:https://hullsangels.com/event/weekend-opening-sunday-14th-september/
LOCATION:Hull’s Angels Gaming Club\, 4-5 Whitefriargate\, Kingston Upon Hull\, HU1 2ER\, United Kingdom
CATEGORIES:Weekend Gaming
ATTACH;FMTTYPE=image/png:https://hullsangels.com/wp-content/uploads/2025/07/Weekend_Gaming_SUN10to5png-scaled.png
END:VEVENT
BEGIN:VEVENT
DTSTART;TZID=Europe/London:20250921T100000
DTEND;TZID=Europe/London:20250921T170000
DTSTAMP:20260422T022858
CREATED:20250902T074111Z
LAST-MODIFIED:20250902T074125Z
UID:7883-1758448800-1758474000@hullsangels.com
SUMMARY:Weekend Gaming Sunday 21st September
DESCRIPTION:The club will be open for gaming! You can play any game using our extensive range of scenery and boards! \n\n\n\nPlease note there may be another event happening at the same time at the club – check our events calendar to see what’s happening. Standard club fees apply.
URL:https://hullsangels.com/event/weekend-gaming-sunday-21st-september/
LOCATION:Hull’s Angels Gaming Club\, 4-5 Whitefriargate\, Kingston Upon Hull\, HU1 2ER\, United Kingdom
CATEGORIES:Weekend Gaming
ATTACH;FMTTYPE=image/png:https://hullsangels.com/wp-content/uploads/2025/07/Weekend_Gaming_SUN10to5png-scaled.png
END:VEVENT
BEGIN:VEVENT
DTSTART;TZID=Europe/London:20250927T084500
DTEND;TZID=Europe/London:20250927T184500
DTSTAMP:20260422T022858
CREATED:20250705T094235Z
LAST-MODIFIED:20250916T165851Z
UID:7319-1758962700-1758998700@hullsangels.com
SUMMARY:The Shattered Crown Narrative Event
DESCRIPTION:In the realm of Shyish\, something ancient stirs. The Shattered Crown—an artefact of terrible power\, once lost to death and time—has begun to call out across the Mortal Realms.  \n\n\n\nJoin us at Hull’s Angels gaming club for a fun-filled day of narrative gaming and unlock the mysteries of The Shattered Crown! \n\n\n\n\nEvent Essentials\n\n\n\nSystem: Warhammer Age of Sigmar \n\n\n\nWhen: Saturday 27th September 2025 from 8:45am \n\n\n\nWhere: Hull’s Angels Tabletop Gaming Club \n\n\n\nBattle Size: 1000pts and 2000pts \n\n\n\nBoard Size: 60”x44” \n\n\n\nBattleplans: Revealed on the day  \n\n\n\nNumber of games: Revealed on the day \n\n\n\nPainting Requirement: Fully painted and based \n\n\n\nTicket Price: £20 \n\n\n\n\nDownload Event Pack\n\n\n\n\n\n\n\n\n\n\n\n\n\n\n\n\n\n\n\n\n\n\n\n\nQuestions?\n\n\n\nIf you’ve got any questions about this event that aren’t answered in the event pack or below\, please get in touch! \n\n\n\n\n\nAbout the Venue\n\n\n\nHull’s Angels Tabletop Gaming Club is ran by the community\, for the community. Our committee members and event organisers are all volunteers\, which helps keep our entry fees low.  \n\n\n\nOur goal is the make the gaming community in Hull and East Yorkshire the best it can be\, and offer a safe and comfortable environment for everyone to enjoy with great facilities.  \n\n\n\nFood and Drinks\n\n\n\nFood will not be provided for this event\, however the club is located right in the middle of Hull City Center which is home to all kinds of bars\, restaurants and takeaways.The club has a front counter which sells hot and cold drinks\, snacks\, hobby supplies\, dice\, and sprays! All sales from these help keep the club open. \n\n\n\nAge Restrictions\n\n\n\nTo attend an event you must be 18 or over.  \n\n\n\nDisabled Access\n\n\n\nThe club is situated on the first floor up a flight of stairs. Unfortunately we have no disabled access right now – this is something we’re working on. \n\n\n\nEach of gaming tables are designed to be stood at while playing\, or sat on stools at. If you have accessibility requirements and would prefer a lower table with chairs please let us know and we can provide one for your visit. \n\n\n\nFacilities\n\n\n\nThe club has toilet facilities for both male\, female and disabled visitors. \n\n\n\nWhere to Find Us and Parking\n\n\n\nInformation on the best places to park for the event can be found here \n\n\n\n\n	\n		\n\n	\n\n\n\n\n	\n\n\n\n\nRefund Policy\n\n\n\nTickets can be refunded up to 7 days before the event starts unless the event is cancelled\, where a full refund will be issued. If you turn up after the safety briefing at the start of the event\, you may be turned away without a refund. Hull’s Angels is not responsible for any additional costs (such as travel or accommodation) that may occur if an event is cancelled. To request a refund please contact us.
URL:https://hullsangels.com/event/shatter-crown-narrative-event/
CATEGORIES:Warhammer Age of Sigmar
ATTACH;FMTTYPE=image/png:https://hullsangels.com/wp-content/uploads/2025/06/Aos_Narrative_2025_Banner_20-scaled.png
END:VEVENT
BEGIN:VEVENT
DTSTART;TZID=Europe/London:20250927T100000
DTEND;TZID=Europe/London:20250927T170000
DTSTAMP:20260422T022858
CREATED:20250923T084207Z
LAST-MODIFIED:20250923T084216Z
UID:8035-1758967200-1758992400@hullsangels.com
SUMMARY:Weekend Gaming Saturday 27th September
DESCRIPTION:The club will be open for gaming! You can play any game using our extensive range of scenery and boards! \n\n\n\nPlease note there may be another event happening at the same time at the club – check our events calendar to see what’s happening. Standard club fees apply.
URL:https://hullsangels.com/event/weekend-gaming-saturday-27th-september/
LOCATION:Hull’s Angels Gaming Club\, 4-5 Whitefriargate\, Kingston Upon Hull\, HU1 2ER\, United Kingdom
CATEGORIES:Weekend Gaming
ATTACH;FMTTYPE=image/png:https://hullsangels.com/wp-content/uploads/2025/03/Weekend_Gaming_SAT10to5-scaled.png
END:VEVENT
END:VCALENDAR