BEGIN:VCALENDAR
VERSION:2.0
PRODID:-//Hull&#039;s Angels Wargaming Club - ECPv6.15.20//NONSGML v1.0//EN
CALSCALE:GREGORIAN
METHOD:PUBLISH
X-WR-CALNAME:Hull&#039;s Angels Wargaming Club
X-ORIGINAL-URL:https://hullsangels.com
X-WR-CALDESC:Events for Hull&#039;s Angels Wargaming Club
REFRESH-INTERVAL;VALUE=DURATION:PT1H
X-Robots-Tag:noindex
X-PUBLISHED-TTL:PT1H
BEGIN:VTIMEZONE
TZID:Europe/London
BEGIN:DAYLIGHT
TZOFFSETFROM:+0000
TZOFFSETTO:+0100
TZNAME:BST
DTSTART:20240331T010000
END:DAYLIGHT
BEGIN:STANDARD
TZOFFSETFROM:+0100
TZOFFSETTO:+0000
TZNAME:GMT
DTSTART:20241027T010000
END:STANDARD
BEGIN:DAYLIGHT
TZOFFSETFROM:+0000
TZOFFSETTO:+0100
TZNAME:BST
DTSTART:20250330T010000
END:DAYLIGHT
BEGIN:STANDARD
TZOFFSETFROM:+0100
TZOFFSETTO:+0000
TZNAME:GMT
DTSTART:20251026T010000
END:STANDARD
BEGIN:DAYLIGHT
TZOFFSETFROM:+0000
TZOFFSETTO:+0100
TZNAME:BST
DTSTART:20260329T010000
END:DAYLIGHT
BEGIN:STANDARD
TZOFFSETFROM:+0100
TZOFFSETTO:+0000
TZNAME:GMT
DTSTART:20261025T010000
END:STANDARD
END:VTIMEZONE
BEGIN:VEVENT
DTSTART;TZID=Europe/London:20251102T100000
DTEND;TZID=Europe/London:20251102T130000
DTSTAMP:20260422T053343
CREATED:20250923T083230Z
LAST-MODIFIED:20251027T180140Z
UID:8029-1762077600-1762088400@hullsangels.com
SUMMARY:Bring and Buy November 2025
DESCRIPTION:Welcome to Hull’s Angels November Tabletop Bring and Buy sale! – Home of all your wargaming bargains. \n\n\n\nA Warboot is an indoor carboot sale / bring & buy for all things wargaming\, board gaming\, card gaming and modelling.  \n\n\n\n\nBuyers Information and RSVP\n\n\n\nEntry for buyers: Free! \n\n\n\nIt’s free to come in and look around\, you only need to pay if you are selling – click the RSVP below to be sent an email reminder closer to the event date! \n\n\n\n\nClub opens to the public from 10:00 am\n\n\n\nClub closes approx 1:30 pm depending on attendance\n\n\n\n\n\n\nWe won’t use your email for anything other than this Bring and Buy \n\n\n\n\n\n\n\n\n\nSellers Information and Tickets\n\n\n\nPrice per 6×4 foot table: £7.00 \n\n\n\nBook a table and you can sell as much as you like! No transaction fees or commission to worry about!  \n\n\n\nYou can share tables between friends as long as everything you have fits on your booked space. If you need to find someone to share with\, please post on our Hull’s Angels Community group on Facebook.Tables can be refunded up until 48 hours before the event\, at which point they will be refunded only on the basis that we can sell the table onto someone else. Table space is limited to 18 tables so please book early to avoid disappointment. \n\n\n\n\nClub opens for sellers set-up: 9:00 am\n\n\n\nClub closes approx 1:30 pm depending on attendance
URL:https://hullsangels.com/event/bring-and-buy-nov-2025/
LOCATION:Hull’s Angels Gaming Club\, 4-5 Whitefriargate\, Kingston Upon Hull\, HU1 2ER\, United Kingdom
CATEGORIES:Bring and Buy
ATTACH;FMTTYPE=image/png:https://hullsangels.com/wp-content/uploads/2025/09/Nov_bringandbuy_10.png
END:VEVENT
BEGIN:VEVENT
DTSTART;TZID=Europe/London:20251115T090000
DTEND;TZID=Europe/London:20251115T190000
DTSTAMP:20260422T053343
CREATED:20250904T091909Z
LAST-MODIFIED:20251023T155209Z
UID:7909-1763197200-1763233200@hullsangels.com
SUMMARY:MESBG: One Does Not Simply Walk Into Hull
DESCRIPTION:Join us again at Hull’s Angels for another jaunt through Middle Earth. We’ll be playing 3 games at 1000 points. Perfect for getting Thorin’s Company or the Black Riders out in all their glory\, or 77 wargs if you’re feeling that way inclined! \n\n\n\n\nEvent Essentials\n\n\n\nSystem: Middle Earth Strategy Battle Game (GBHL90) \n\n\n\nWhen: Saturday 15th November \n\n\n\nWhere: Hull’s Angels Tabletop Gaming Club \n\n\n\nBattle Size: 1000pts \n\n\n\nBoard Size: 6×4 \n\n\n\nScenarios: Matched Play Guide  \n\n\n\nNumber of games: 3 \n\n\n\nPainting Requirement: Fully painted and based \n\n\n\n\nDownload Event Pack\n\n\n\n\n\nLongshanks Links\n\n\n\n\n\n\n\n\n\n\n\n\nAdditional Sunday Gaming\n\n\n\nThe club will also be open from 10:00-17:00 on Sunday for gaming. If you’re staying over Saturday night\, come by for some extra MESBG (or any other system that tickles your fancy). You can arrange games with folks during the event\, via our Facebook event\, our community chats on Facebook\, or just rock up on the day! (Standard Club fees apply) \n\n\n\n\n\nAlcohol at this Event\n\n\n\nTo raise some additional funds for the club\, there will be an alcohol licence in place for this event.  \n\n\n\nWe will have a selection of lagers and ciders available. If there is something specific that you’d like us to stock\, please let us know.  \n\n\n\nPlease refrain from bringing external alcoholic drinks into the venue. We reserve the right to refuse to serve someone alcohol. \n\n\n\n\n\nQuestions?\n\n\n\nIf you’ve got any questions about this event that aren’t answered in the event pack or below\, please get in touch! \n\n\n\n\n\nAbout the Venue\n\n\n\nHull’s Angels Tabletop Gaming Club is ran by the community\, for the community. Our committee members and event organisers are all volunteers\, which helps keep our entry fees low.  \n\n\n\nOur goal is the make the gaming community in Hull and East Yorkshire the best it can be\, and offer a safe and comfortable environment for everyone to enjoy with great facilities.  \n\n\n\nFood and Drinks\n\n\n\nFood will not be provided for this event\, however the club is located right in the middle of Hull City Center which is home to all kinds of bars\, restaurants and takeaways.The club has a front counter which sells hot and cold drinks\, snacks\, hobby supplies\, dice\, and sprays! All sales from these help keep the club open. \n\n\n\nAge Restrictions\n\n\n\nTo attend an event you must be 18 or over.  \n\n\n\nDisabled Access\n\n\n\nThe club is situated on the first floor up a flight of stairs. Unfortunately we have no disabled access right now – this is something we’re working on. \n\n\n\nEach of gaming tables are designed to be stood at while playing\, or sat on stools at. If you have accessibility requirements and would prefer a lower table with chairs please let us know and we can provide one for your visit. \n\n\n\nFacilities\n\n\n\nThe club has toilet facilities for both male\, female and disabled visitors. \n\n\n\nWhere to Find Us and Parking\n\n\n\nInformation on the best places to park for the event can be found here \n\n\n\n\n	\n		\n\n	\n\n\n\n\n	\n\n\n\n\nRefund Policy\n\n\n\nTickets can be refunded up to 7 days before the event starts unless the event is cancelled\, where a full refund will be issued. If you turn up after the safety briefing at the start of the event\, you may be turned away without a refund. Hull’s Angels is not responsible for any additional costs (such as travel or accommodation) that may occur if an event is cancelled. To request a refund please contact us.
URL:https://hullsangels.com/event/mesbg-one-does-not-simply-walk/
CATEGORIES:Middle Earth
ATTACH;FMTTYPE=image/png:https://hullsangels.com/wp-content/uploads/2025/09/ME_Nov_1day_09.png
END:VEVENT
BEGIN:VEVENT
DTSTART;TZID=Europe/London:20251116T100000
DTEND;TZID=Europe/London:20251116T170000
DTSTAMP:20260422T053343
CREATED:20251110T090416Z
LAST-MODIFIED:20251110T090432Z
UID:8524-1763287200-1763312400@hullsangels.com
SUMMARY:Weekend Gaming Sunday 16th November
DESCRIPTION:The club will be open for gaming! You can play any game using our extensive range of scenery and boards! \n\n\n\nPlease note there may be another event happening at the same time at the club – check our events calendar to see what’s happening. Standard club fees apply.
URL:https://hullsangels.com/event/weekend-gaming-sunday-16th-november/
CATEGORIES:Weekend Gaming
ATTACH;FMTTYPE=image/png:https://hullsangels.com/wp-content/uploads/2025/07/Weekend_Gaming_SUN10to5png-scaled.png
END:VEVENT
BEGIN:VEVENT
DTSTART;TZID=Europe/London:20251120T183000
DTEND;TZID=Europe/London:20251120T220000
DTSTAMP:20260422T053343
CREATED:20251027T174004Z
LAST-MODIFIED:20251120T080043Z
UID:8336-1763663400-1763676000@hullsangels.com
SUMMARY:Blood Bowl Training Camp
DESCRIPTION:Blood Bowl is a tabletop game of fantasy football set in an alternative version of Warhammer’s Old World. Take on the role of coach for a motley team of miniatures from races including Humans\, Orcs\, Elves\, Dwarfs\, Ogres\, and the Undead. Lead your team to victory through scoring touchdowns and if the ref isn’t looking\, the odd foul! \n\n\n\nJoin us for our “Blood Bowl Training Camp”\, which is a chance to get a demo game of the new edition\, or simply meet up with some of the community. So whether you’re a seasoned veteran or still need to grow into your boots\, feel free to come along!Season Five of our Blood Bowl League kicks off in January\, so this is the perfect chance to try out the new edition rules and prep your team for their upcoming glory!
URL:https://hullsangels.com/event/blood-bowl-training-camp/
LOCATION:Hull’s Angels Gaming Club\, 4-5 Whitefriargate\, Kingston Upon Hull\, HU1 2ER\, United Kingdom
CATEGORIES:Blood Bowl
ATTACH;FMTTYPE=image/png:https://hullsangels.com/wp-content/uploads/2025/10/training-camp_13.png
END:VEVENT
BEGIN:VEVENT
DTSTART;TZID=Europe/London:20251122T083000
DTEND;TZID=Europe/London:20251122T181500
DTSTAMP:20260422T053343
CREATED:20251006T090426Z
LAST-MODIFIED:20251006T091608Z
UID:8150-1763800200-1763835300@hullsangels.com
SUMMARY:Onslaught Tournament
DESCRIPTION:Join us for something a bit different and take part in five 500pt games of fast paced\, brutal Warhammer 40\,000 action! With list restrictions and different missions to normal\, this event is sure to test your skills as a worthy general! \n\n\n\n\nEvent Essentials\n\n\n\nSystem: Warhammer 40\,000 \n\n\n\nWhen: Saturday 22nd November 2025 from 8:30am \n\n\n\nWhere: Hull’s Angels Tabletop Gaming Club \n\n\n\nBattle Size: 500pts – see list restrictions \n\n\n\nBoard Size: 30”x44” \n\n\n\nMissions: Combat Patrol Missions (but not rules) \n\n\n\nNumber of games: 5 \n\n\n\nPainting Requirement: Fully painted and based \n\n\n\nOrganiser: Paul H \n\n\n\n\nDownload Event Pack\n\n\n\n\n\n\nList Building Restrictions\n\n\n\nMust include at least one character who is designated to be your Warlord. \n\n\n\nNo epic heroes. \n\n\n\nMust include two battleline units. These units gain “Objective Secured” as per the rules in Combat Patrol (see right). \n\n\n\nAll units must be toughness 9 or lower. \n\n\n\nDetachments and Enhancements are allowed. \n\n\n\nAll other standard list building rules for a Warhammer 40\,000 Matched Play Game apply. \n\n\n\nSee the event pack for the missions being used. \n\n\n\n\n\nPremium Ticket!\n\n\n\nUpgrade your experience with a Hull’s Angels Premium Ticket! Only a single Premium ticket is available per event!  \n\n\n\n\nA set table all day – no moving your stuff around between games! The Event Organiser will make any necessary table changes between rounds for you.\n\n\n\nSide table for your stuff – Extra space to put your miniatures and books during the game.\n\n\n\n3 Free Drinks – one free hot or cold drink* per round.*not energy drinks or alcohol\n\n\n\n\n\n\n\n\n\n\n\n\n\n\n\n\nQuestions?\n\n\n\nIf you’ve got any questions about this event that aren’t answered in the event pack or below\, please get in touch! \n\n\n\n\n\nAbout the Venue\n\n\n\nHull’s Angels Tabletop Gaming Club is ran by the community\, for the community. Our committee members and event organisers are all volunteers\, which helps keep our entry fees low.  \n\n\n\nOur goal is the make the gaming community in Hull and East Yorkshire the best it can be\, and offer a safe and comfortable environment for everyone to enjoy with great facilities.  \n\n\n\nFood and Drinks\n\n\n\nFood will not be provided for this event\, however the club is located right in the middle of Hull City Center which is home to all kinds of bars\, restaurants and takeaways.The club has a front counter which sells hot and cold drinks\, snacks\, hobby supplies\, dice\, and sprays! All sales from these help keep the club open. \n\n\n\nAge Restrictions\n\n\n\nTo attend an event you must be 18 or over.  \n\n\n\nDisabled Access\n\n\n\nThe club is situated on the first floor up a flight of stairs. Unfortunately we have no disabled access right now – this is something we’re working on. \n\n\n\nEach of gaming tables are designed to be stood at while playing\, or sat on stools at. If you have accessibility requirements and would prefer a lower table with chairs please let us know and we can provide one for your visit. \n\n\n\nFacilities\n\n\n\nThe club has toilet facilities for both male\, female and disabled visitors. \n\n\n\nWhere to Find Us and Parking\n\n\n\nInformation on the best places to park for the event can be found here \n\n\n\n\n	\n		\n\n	\n\n\n\n\n	\n\n\n\n\nRefund Policy\n\n\n\nTickets can be refunded up to 7 days before the event starts unless the event is cancelled\, where a full refund will be issued. If you turn up after the safety briefing at the start of the event\, you may be turned away without a refund. Hull’s Angels is not responsible for any additional costs (such as travel or accommodation) that may occur if an event is cancelled. To request a refund please contact us.
URL:https://hullsangels.com/event/onslaught-tournament-2025/
CATEGORIES:Warhammer 40k
ATTACH;FMTTYPE=image/png:https://hullsangels.com/wp-content/uploads/2025/10/40k-500pts-Nov-2025_banner_04.png
END:VEVENT
BEGIN:VEVENT
DTSTART;TZID=Europe/London:20251129T090000
DTEND;TZID=Europe/London:20251129T181500
DTSTAMP:20260422T053343
CREATED:20250903T141131Z
LAST-MODIFIED:20251123T200407Z
UID:7891-1764406800-1764440100@hullsangels.com
SUMMARY:Fallout Factions - Uranium Fever
DESCRIPTION:Fallout: Factions is a two-player skirmish wargame set in the post-nuclear playground of the Wasteland. Assemble your crew of scrappy survivors\, shady mercs\, or mutated misfits and dive headfirst into a radioactive turf war where bottle caps are currency and loyalty is negotiable. In a land ruled by chaos and broken dreams\, everyone’s chasing power\, glory or just a half-decent meal — whatever it takes to matter in a world that forgot it ended. \n\n\n\nWar never changes. But the Wasteland? That’s up for grabs. \n\n\n\n\nEvent Essentials\n\n\n\nSystem: Fallout Factions \n\n\n\nWhen: Saturday November 29th 2025 from 9:00am \n\n\n\nWhere: Hull’s Angels Tabletop Gaming Club \n\n\n\nBattle Size: 250 Rating + 20 Cap basic chem budget \n\n\n\nBoard Size: 2’ x 3’ \n\n\n\nScenarios: C.O.M.P Pack Scenarios \n\n\n\nNumber of games: 5 \n\n\n\nPainting Requirement: Fully painted and based \n\n\n\n\nDownload Event Pack\n\n\n\nDownload C.O.M.P. Kit\n\n\n\nLongshanks Link\n\n\n\n\n\n\nPermitted Crews and Legends\n\n\n\nThe lists below is based on current availability and will be updated if there are releases from Modiphius before the event. \n\n\n\nUpdated Sunday 23rd November. Changes are in italic. \n\n\n\nPermitted Crews \n\n\n\n\nDisciples\n\n\n\nOperators\n\n\n\nPack\n\n\n\nBrotherhood of Steel\n\n\n\nSuper Mutants\n\n\n\nSurvivors\n\n\n\nWasteland Raiders\n\n\n\nGunners Get You By List\n\n\n\nZetans\n\n\n\nCult of the Mothman\n\n\n\nChildren of Atom\n\n\n\n\nAdditional Models can be included in your crew from: \n\n\n\n\nHollywood Heroes\n\n\n\nHollywood Icons\n\n\n\nBottle and Cappy\n\n\n\nLegends of the Wasteland featured in the Fallout: Factions Rulebook\n\n\n\nThe Companion Supplement for fielding Animal and Robot companions\n\n\n\nSpooktober 2 Supplement\n\n\n\n\nLegends of the Wasteland Restrictions \n\n\n\nFor this event we’ve decided to restrict what Legends can join which crews: \n\n\n\n\nKing of the Park – Wasteland Raiders\, Pack\, Disciples\, Operators\n\n\n\nRedeye – Wasteland Raiders\, Pack\, Disciples\, Operators\n\n\n\nMason – Pack\n\n\n\nMags Black – Operators\n\n\n\nNisha – Disciples\n\n\n\nColter – Wasteland Raiders\, Pack\, Disciples\, Operators\n\n\n\nNick Valentine – Survivors\n\n\n\nDanse – BOS & Survivors\n\n\n\nFist – Super Mutants\n\n\n\nBottle & Cappy – All crews\n\n\n\nLucy\, Hollywood Heroes or Hollywood Icons – Survivors\n\n\n\nMaximus\, Hollywood Heroes or Hollywood Icons  – BoS\, Surviviors\n\n\n\nLucy – Survivors\n\n\n\nMaximus – BoS\, Surviviors\n\n\n\nGhoul – Wasteland Raiders\, Survivors\, Gunners\n\n\n\nCX-404 – Survivors\n\n\n\nLorenzo Cabot – Wasteland Raiders\, Survivors\, Gunners\n\n\n\nMarcus – Super Mutants\, Survivors\n\n\n\nLily Bowen – Super Mutants\, Survivors\n\n\n\nLee Moldaver – Survivors\, Wasteland Raiders\n\n\n\nThaddeus – Brotherhood of Steel\n\n\n\nHank – Survivors\n\n\n\n\n\n\n\n\n\n\n\n\nQuestions?\n\n\n\nIf you’ve got any questions about this event that aren’t answered in the event pack or below\, please get in touch! \n\n\n\n\n\nAbout the Venue\n\n\n\nHull’s Angels Tabletop Gaming Club is ran by the community\, for the community. Our committee members and event organisers are all volunteers\, which helps keep our entry fees low.  \n\n\n\nOur goal is the make the gaming community in Hull and East Yorkshire the best it can be\, and offer a safe and comfortable environment for everyone to enjoy with great facilities.  \n\n\n\nFood and Drinks\n\n\n\nFood will not be provided for this event\, however the club is located right in the middle of Hull City Center which is home to all kinds of bars\, restaurants and takeaways.The club has a front counter which sells hot and cold drinks\, snacks\, hobby supplies\, dice\, and sprays! All sales from these help keep the club open. \n\n\n\nAge Restrictions\n\n\n\nTo attend an event you must be 18 or over.  \n\n\n\nDisabled Access\n\n\n\nThe club is situated on the first floor up a flight of stairs. Unfortunately we have no disabled access right now – this is something we’re working on. \n\n\n\nEach of gaming tables are designed to be stood at while playing\, or sat on stools at. If you have accessibility requirements and would prefer a lower table with chairs please let us know and we can provide one for your visit. \n\n\n\nFacilities\n\n\n\nThe club has toilet facilities for both male\, female and disabled visitors. \n\n\n\nWhere to Find Us and Parking\n\n\n\nInformation on the best places to park for the event can be found here \n\n\n\n\n	\n		\n\n	\n\n\n\n\n	\n\n\n\n\nRefund Policy\n\n\n\nTickets can be refunded up to 7 days before the event starts unless the event is cancelled\, where a full refund will be issued. If you turn up after the safety briefing at the start of the event\, you may be turned away without a refund. Hull’s Angels is not responsible for any additional costs (such as travel or accommodation) that may occur if an event is cancelled. To request a refund please contact us.
URL:https://hullsangels.com/event/fallout-factions-uranium-fever-2025/
CATEGORIES:Other Games
ATTACH;FMTTYPE=image/png:https://hullsangels.com/wp-content/uploads/2025/09/Fallout_Event__nov_2025_07.png
END:VEVENT
BEGIN:VEVENT
DTSTART;TZID=Europe/London:20251129T100000
DTEND;TZID=Europe/London:20251129T170000
DTSTAMP:20260422T053343
CREATED:20251128T081214Z
LAST-MODIFIED:20251128T082953Z
UID:8630-1764410400-1764435600@hullsangels.com
SUMMARY:Weekend Gaming Saturday 29th November
DESCRIPTION:The club will be open for gaming! You can play any game using our extensive range of scenery and boards! \n\n\n\nPlease note there may be another event happening at the same time at the club – check our events calendar to see what’s happening. Standard club fees apply.
URL:https://hullsangels.com/event/weekend-gaming-saturday-29th-november/
LOCATION:Hull’s Angels Gaming Club\, 4-5 Whitefriargate\, Kingston Upon Hull\, HU1 2ER\, United Kingdom
CATEGORIES:Weekend Gaming
ATTACH;FMTTYPE=image/png:https://hullsangels.com/wp-content/uploads/2025/03/Weekend_Gaming_SAT10to5-scaled.png
END:VEVENT
END:VCALENDAR