BEGIN:VCALENDAR
VERSION:2.0
PRODID:-//Hull&#039;s Angels Wargaming Club - ECPv6.15.20//NONSGML v1.0//EN
CALSCALE:GREGORIAN
METHOD:PUBLISH
X-ORIGINAL-URL:https://hullsangels.com
X-WR-CALDESC:Events for Hull&#039;s Angels Wargaming Club
REFRESH-INTERVAL;VALUE=DURATION:PT1H
X-Robots-Tag:noindex
X-PUBLISHED-TTL:PT1H
BEGIN:VTIMEZONE
TZID:Europe/London
BEGIN:DAYLIGHT
TZOFFSETFROM:+0000
TZOFFSETTO:+0100
TZNAME:BST
DTSTART:20250330T010000
END:DAYLIGHT
BEGIN:STANDARD
TZOFFSETFROM:+0100
TZOFFSETTO:+0000
TZNAME:GMT
DTSTART:20251026T010000
END:STANDARD
BEGIN:DAYLIGHT
TZOFFSETFROM:+0000
TZOFFSETTO:+0100
TZNAME:BST
DTSTART:20260329T010000
END:DAYLIGHT
BEGIN:STANDARD
TZOFFSETFROM:+0100
TZOFFSETTO:+0000
TZNAME:GMT
DTSTART:20261025T010000
END:STANDARD
BEGIN:DAYLIGHT
TZOFFSETFROM:+0000
TZOFFSETTO:+0100
TZNAME:BST
DTSTART:20270328T010000
END:DAYLIGHT
BEGIN:STANDARD
TZOFFSETFROM:+0100
TZOFFSETTO:+0000
TZNAME:GMT
DTSTART:20271031T010000
END:STANDARD
END:VTIMEZONE
BEGIN:VEVENT
DTSTART;TZID=Europe/London:20260101T000000
DTEND;TZID=Europe/London:20261230T235959
DTSTAMP:20260422T032029
CREATED:20251212T091513Z
LAST-MODIFIED:20260113T154913Z
UID:8779-1767225600-1798675199@hullsangels.com
SUMMARY:Membership 2026
DESCRIPTION:Hull’s Angels is ran by the community for the community. \n\n\n\nThe club is owned by the members\, with the day to day operations ran by an elected group of committee members. \n\n\n\nThe committee members and event organisers are all volunteers\, which helps keep our entry fees low. \n\n\n\nThe club’s goal is to make the gaming community in Hull and East Yorkshire the best it can be\, and offer a safe and comfortable environment for everyone to enjoy with great facilities. \n\n\n\nA Hull’s Angels Membership allows you be part of that journey. \n\n\n\n\n\nBecome a Member\n\n\n\nBy becoming a member you help support the club and gain access to our member benefits. You’ll receive an email with a link to your member benefits after purchasing a membership. \n\n\n\n\nMember Benefits\n\n\n\n\nSave £1 on the club entry fee each time you visit – which means after 6 visits it has paid for itself!\n\n\n\nAccess to a Monthly entry fee (£15) for unlimited visits during that month\n\n\n\nYou’ll be eligible to vote at our Annual General Meetings where we decide the future and direction of the club\n\n\n\n\nEven if you can’t visit that often\, you can still purchase a membership to support the club and access the local business discounts: \n\n\n\n\nDiscounts at local hobby stores and cafes such as Mighty Lancer Games\, Hull Pops\, and The Game Shack Beverley.\n\n\n\n\n\n\n\n\n\n\n\n\n\n\nMembership Terms and conditions:\n\n\n\n\nYou must be aged 18+ to become a member\n\n\n\nMember Benefits are subject to change at any time\n\n\n\nA full description on what it means to be a member can be found in the club constitution\n\n\n\nAll memberships expire at the same time (Dec 31st 2026)\, regardless of when purchased
URL:https://hullsangels.com/event/membership-2026/
CATEGORIES:Other,Weekend Gaming
ATTACH;FMTTYPE=image/png:https://hullsangels.com/wp-content/uploads/2024/04/AF1QipNo27ixbqSeQ73igznk5uiwMoP19pnFoiKRtHrvw6130-h1534.png
END:VEVENT
BEGIN:VEVENT
DTSTART;TZID=Europe/London:20260303T080000
DTEND;TZID=Europe/London:20260630T170000
DTSTAMP:20260422T032029
CREATED:20260210T195640Z
LAST-MODIFIED:20260302T183220Z
UID:9498-1772524800-1782838800@hullsangels.com
SUMMARY:Horus Heresy: Scourge of The Pale Stars 2K League
DESCRIPTION:Join us for a 4 round Horus Heresy League! \n\n\n\nThe Pale Stars\, a dark and cursed cluster of planetary systems surrounding the Maelstrom. Their sickly light reflects the traitors that have taken hold there. Communications have ceased from the few loyalists still in the system\, trapped upon the planet Umbra Noxis.  \n\n\n\nThis silence must be investigated\, fresh orders from Terra demand answers: will you stand in the Emperor’s light and bring deliverance or will you cast a shadow at the behest of The Warmaster? \n\n\n\nJoin us and become part of the story as we fight over this forsaken void whether it be for the future of mankind or to herald the laughter of insatiable gods… \n\n\n\n\nLeague Essentials\n\n\n\nSystem: Warhammer Age of Darkness: Horus Heresy \n\n\n\nWhen: March to June 2026 \n\n\n\nWhere: Hull’s Angels Tabletop Gaming Club \n\n\n\nBattle Size: 2000pts \n\n\n\nBoard Size: 60”x44” \n\n\n\nBattleplans: All publications \n\n\n\nNumber of games: 4 games over 4 months \n\n\n\n\n\n\n\n\n\nWatch the Narrative Unfold!\n\n\n\nAs this is a Narrative Campaign we would like to hear the background of your force. This will help us to cement your warriors into the story as they battle in the Pale Stars. It can be as little as a synopsis of your Commander or as vast as a full catalogue of force composition. \n\n\n\nThe choice is all in your hands to show off your company/cohort or host. \n\n\n\nPlease share information in the Hull’s Angels Facebook Group / Chats to help write the narrative! \n\n\n\n\n\n\n\n\n\nMissions & Opponents\n\n\n\nYou will be randomly assigned opponents throughout the league and be given a mission to play. Keep an eye on your emails at the start of each round. \n\n\n\nThroughout the course of this Narrative Campaign missions from across the various publications will be used\, mission rules will be provided by the club for you to use\, these include: \n\n\n\nCore Missions- Core Rules. \n\n\n\nRelic Hunts Missions- Skitarii\, The Steel Hand of Mars. \n\n\n\nOnslaught Missions- The Forges of Saturn. \n\n\n\n\n\n\n\n\n\n\n\n\n\n\n\n\n\n\n\nQuestions?\n\n\n\nIf you’ve got any questions about this league please get in touch! \n\n\n\n\n\nAbout the Venue\n\n\n\nHull’s Angels Tabletop Gaming Club is ran by the community\, for the community. Our committee members and event organisers are all volunteers\, which helps keep our entry fees low.  \n\n\n\nOur goal is the make the gaming community in Hull and East Yorkshire the best it can be\, and offer a safe and comfortable environment for everyone to enjoy with great facilities.  \n\n\n\nFood and Drinks\n\n\n\nThe club has a front counter which sells hot and cold drinks\, snacks\, hobby supplies\, dice\, and sprays! All sales from these help keep the club open. \n\n\n\nAge Restrictions\n\n\n\nLeagues follow our standard club night restrictions on ages. \n\n\n\nDisabled Access\n\n\n\nThe club is situated on the first floor up a flight of stairs. Unfortunately we have no disabled access right now – this is something we’re working on. \n\n\n\nEach of gaming tables are designed to be stood at while playing\, or sat on stools at. If you have accessibility requirements and would prefer a lower table with chairs please let us know and we can provide one for your visit. \n\n\n\nFacilities\n\n\n\nThe club has toilet facilities for both male\, female and disabled visitors. \n\n\n\nWhere to Find Us and Parking\n\n\n\nInformation on the best places to park can be found here \n\n\n\n\n	\n		\n\n	\n\n\n\n\n	\n\n\n\n\nRefund Policy\n\n\n\nTickets can be refunded up to 7 days before the league starts unless the league is cancelled\, where a full refund will be issued. Hull’s Angels is not responsible for any additional costs (such as travel or accommodation) that may occur if an event is cancelled. To request a refund please contact us.
URL:https://hullsangels.com/event/horus-heresy-scourge-of-the-pale-stars-2k-league/
ATTACH;FMTTYPE=image/png:https://hullsangels.com/wp-content/uploads/2026/02/Horus-Heresy-Template.png
END:VEVENT
BEGIN:VEVENT
DTSTART;TZID=Europe/London:20260516T090000
DTEND;TZID=Europe/London:20260516T183000
DTSTAMP:20260422T032029
CREATED:20260415T194446Z
LAST-MODIFIED:20260415T194448Z
UID:9839-1778922000-1778956200@hullsangels.com
SUMMARY:Fallout Factions - Into the Wasteland
DESCRIPTION:Fallout: Factions is a two-player skirmish wargame set in the post-nuclear playground of the Wasteland. Assemble your crew of survivors\, mercenaries\, mutants\, or zealots and step out into a world where every decision matters and every scrap might be worth fighting over. \n\n\n\nWhether you’re fresh out of the Vault or a seasoned raider\, this event is your chance to carve out your place. The Wasteland is as unforgiving as ever—but there’s opportunity out there for those willing to take it. \n\n\n\nExpect tense skirmishes\, hard-fought victories\, and the kind of moments that only the Wasteland can deliver. Territory\, supplies\, reputation… it’s all up for grabs. \n\n\n\nWar… war never changes.But how you survive it? That’s up to you. \n\n\n\n\nEvent Essentials\n\n\n\nSystem: Fallout Factions \n\n\n\nWhen: Saturday 16th May 2026 from 9am \n\n\n\nWhere: Hull’s Angels Tabletop Gaming Club \n\n\n\nBattle Size: 250 rating + 20 Cap basic chem budget \n\n\n\nBoard Size: 2’ x 3’ \n\n\n\nScenarios: C.O.M.P Pack Scenarios \n\n\n\nNumber of games: 5 \n\n\n\nPainting Requirement: Fully painted and based \n\n\n\nNumber of Tickets: 36 \n\n\n\nOrganiser: MattBCP/Longshanks Link: TBC \n\n\n\n\n\n\n\n\n\nEvent Schedule\n\n\n\n09:00 – 09:20 Registration \n\n\n\n09:20 – 09:30 Pre-event announcements \n\n\n\n09:30 – 11:00 Round 1 (90 mins) \n\n\n\n11:15 – 12:30 Round 2 (75 mins) \n\n\n\n12:30 – 13:30 Lunch & Best Painted Crew Voting \n\n\n\n13:30 – 14:45 Round 3 (75 mins) \n\n\n\n15:00 – 16:15 Round 4 (75 mins) \n\n\n\n16:30 – 17:45 Round 5 (75 mins) \n\n\n\n17:45 – 18:00 Break \n\n\n\n18:00 – 18:15 Awards \n\n\n\n\n\n\n\n\n\nRules Changes\n\n\n\nAs per Page 4 of the  Fallout: Factions Tournament Booklet C.O.M.P. Kit. \n\n\n\nA Crew may take a maximum of 3 models armed with Combat Rifles \n\n\n\nIf the Target for an Open Fire action is Engaged\, the associated S.P.E.C.I.A.L test is Unlucky. \n\n\n\nIf a model uses the Back Off action\, any Open Fire action in the same Turn will count the associated S.P.E.C.I.A.L test as Unlucky. Weapons with the CQB rule and models with the parting shot perk\, ignore this effect. \n\n\n\nReplace Four Leaf Clover perk description (Page 107) with the following: \n\n\n\n“During the Fortune Smiles Step of a S.P.E.C.I.A.L. Test\, this model rolls an additional 2 Standard Dice if any Luck dice triggers Fortune Smiles.” \n\n\n\n\n\nPermitted Crews and Legends:\n\n\n\nThe Operators (Folio List) \n\n\n\nThe Pack  (Folio List) \n\n\n\nThe Disciples  (Folio List) \n\n\n\nBrotherhood of Steel \n\n\n\nSuper Mutants \n\n\n\nSurvivors \n\n\n\nWasteland Raiders \n\n\n\nThe Gunners \n\n\n\nFollowers of the Winged One (Additional house rules TBC) \n\n\n\nZetans \n\n\n\nChildren of Atom \n\n\n\nTrappers \n\n\n\nAutomatrons \n\n\n\nThe Institute \n\n\n\nThe Railroad \n\n\n\nThe Minutemen \n\n\n\nCeaser’s Legion (Unofficial List – Unofficial New Vegas Fallout Factions Lists – Google Sheets) \n\n\n\nNCR – Unofficial New Vegas Fallout Factions Lists – Google Sheets) \n\n\n\nAdditional Models can be included in your crew from: \n\n\n\nHollywood Heroes \n\n\n\nHollywood Icons \n\n\n\nBottle and Cappy(BOTTLE & CAPPY\, ALL FIZZED UP! supplement) \n\n\n\nLegends of the Wasteland featured in the Fallout: Factions Rulebook & Fallout: Factions Crew Folio (Further restrictions below) \n\n\n\nAnimal and Robot companions from the Fallout: Factions Crew Folio \n\n\n\nCompanions and Legends of the Wasteland from the Spooktober 2 SupplementLegends of the Wasteland Restrictions \n\n\n\nFor this event we’ve decided to restrict what Legends can join which crews: \n\n\n\nStrong – Super Mutants\, Survivors\, The Minutemen \n\n\n\nKing of the Park – Wasteland Raiders\, Pack\, Disciples\, Operators \n\n\n\nRedeye – Wasteland Raiders\, Pack\, Disciples\, Operators \n\n\n\nMason – Pack \n\n\n\nMags Black – Operators \n\n\n\nNisha – Disciples \n\n\n\nColter – Wasteland Raiders\, Pack\, Disciples\, Operators \n\n\n\nNick Valentine – Survivors \n\n\n\nDanse – BOS & Survivors \n\n\n\nFist – Super Mutants \n\n\n\nBottle & Cappy – All crews \n\n\n\nLucy\, Hollywood Heroes or Hollywood Icons – Survivors \n\n\n\nMaximus\, Hollywood Heroes or Hollywood Icons  – BoS\, Survivors \n\n\n\nThe Ghoul – Wasteland Raiders\, Survivors\, Gunners \n\n\n\nCX-404 – Survivors \n\n\n\nLorenzo Cabot – Wasteland Raiders\, Survivors\, Gunners \n\n\n\nMarcus – Super Mutants\, Survivors \n\n\n\nLily Bowen – Super Mutants\, Survivors \n\n\n\nLee Moldaver – Survivors\, Wasteland Raiders \n\n\n\nThaddeus – Brotherhood of Steel\, Survivors \n\n\n\nHank – Survivors \n\n\n\nThe Rogue Knight – Brotherhood of Steel\, Survivors\, Gunners \n\n\n\nPack Hounds – The Pack \n\n\n\nWilliam Black – The Operators \n\n\n\nDixie – The Disciples \n\n\n\nOld Longfellow – Survivors \n\n\n\nBilge – Trappers \n\n\n\nHigh Confessor Tektus – Children of Atom \n\n\n\nGrand Zealot Richter – Children of Atom \n\n\n\nADA –  All Crews \n\n\n\nThe Black Devil – Survivors\, The Minutemen \n\n\n\nRobert Maccready – Brotherhood of Steel\, Survivors\, Gunners\, The Minutemen \n\n\n\nX6-88 – Institute\, Survivors \n\n\n\nHancock – Survivors\,The Minutemen \n\n\n\nPiper Wright – Survivors\, The Minutemen \n\n\n\nCait – Survivors\, The Minutemen\, Raiders \n\n\n\n\n\n\n\n\n\n\n\n\n\n\n\nQuestions?\n\n\n\nIf you’ve got any questions about this event that aren’t answered in the event pack or below\, please get in touch! \n\n\n\n\n\nAbout the Venue\n\n\n\nHull’s Angels Tabletop Gaming Club is ran by the community\, for the community. Our committee members and event organisers are all volunteers\, which helps keep our entry fees low.  \n\n\n\nOur goal is the make the gaming community in Hull and East Yorkshire the best it can be\, and offer a safe and comfortable environment for everyone to enjoy with great facilities.  \n\n\n\nFood and Drinks\n\n\n\nFood will not be provided for this event\, however the club is located right in the middle of Hull City Center which is home to all kinds of bars\, restaurants and takeaways.The club has a front counter which sells hot and cold drinks\, snacks\, hobby supplies\, dice\, and sprays! All sales from these help keep the club open. \n\n\n\nAge Restrictions\n\n\n\nTo attend an event you must be 18 or over.  \n\n\n\nDisabled Access\n\n\n\nThe club is situated on the first floor up a flight of stairs. Unfortunately we have no disabled access right now – this is something we’re working on. \n\n\n\nEach of gaming tables are designed to be stood at while playing\, or sat on stools at. If you have accessibility requirements and would prefer a lower table with chairs please let us know and we can provide one for your visit. \n\n\n\nFacilities\n\n\n\nThe club has toilet facilities for both male\, female and disabled visitors. \n\n\n\nWhere to Find Us and Parking\n\n\n\nInformation on the best places to park for the event can be found here \n\n\n\n\n	\n		\n\n	\n\n\n\n\n	\n\n\n\n\nRefund Policy\n\n\n\nTickets can be refunded up to 7 days before the event starts unless the event is cancelled\, where a full refund will be issued. If you turn up after the safety briefing at the start of the event\, you may be turned away without a refund. Hull’s Angels is not responsible for any additional costs (such as travel or accommodation) that may occur if an event is cancelled. To request a refund please contact us.
URL:https://hullsangels.com/event/fallout-factions-into-the-wasteland/
CATEGORIES:Fallout: Factions
ATTACH;FMTTYPE=image/png:https://hullsangels.com/wp-content/uploads/2026/04/Fallout-Event.png
END:VEVENT
BEGIN:VEVENT
DTSTART;TZID=Europe/London:20260523T083000
DTEND;TZID=Europe/London:20260524T193000
DTSTAMP:20260422T032029
CREATED:20260222T171806Z
LAST-MODIFIED:20260302T213935Z
UID:9552-1779525000-1779651000@hullsangels.com
SUMMARY:The Fall of Sephirius: A Warhammer 40\,000 Narrative Campaign Weekend
DESCRIPTION:For four years war has been raging on Sephirius. The Saint has been killed. The demon lord is unleashed. Millions have died. It has been decided: Sephirius must be destroyed! Join us to determine the fate of a planet and end our four year long narrative! \n\n\n\n\nEvent Essentials\n\n\n\nSystem: Warhammer 40\,000 \n\n\n\nWhen: 23rd & 24th May 2026 \n\n\n\nWhere: Hull’s Angels Tabletop Gaming Club \n\n\n\nBattle Size: 2000 points \n\n\n\nBoard Size: 6 x 4 \n\n\n\nMissions: Custom Narrative Missions \n\n\n\nNumber of games: 5 \n\n\n\nPainting Requirement: Fully painted and based \n\n\n\nNumber of Tickets: 16 \n\n\n\nOrganiser: Tom HBCP/Longshanks Link: TBC \n\n\n\n\n\n\n\n\n\nEvent Schedule\n\n\n\nDay 1 \n\n\n\n8:30 Registration\, meet your teams and story set up \n\n\n\n9:00 – 12:00 Round 1 \n\n\n\n12:00 – 12:45 Lunch \n\n\n\n12:45 – 15:45 Round 2 \n\n\n\n15:45 – 16:00 Break \n\n\n\n16:00 – 19:00 Round 3 \n\n\n\nDay 2 \n\n\n\n9:00 – 12:00 Round 4 \n\n\n\n12:00 – 12:45 Lunch \n\n\n\n12:45 – 16.30 Round 5 \n\n\n\n16.30 – 17:30 Prizes and story wrap up \n\n\n\n\n\n\n\n\n\nPrizes\n\n\n\nThis is a narrative event and there are no prizes for winning games. \n\n\n\nPrizes are for the following: \n\n\n\n\nBest Sport (the player people enjoyed playing against the most)\n\n\n\nBest Army (the most well modelled and painted army)\n\n\n\nBest Theme (the player that brought the most thematic army choices)\n\n\n\nMost Narrative player (the player that played to their army’s theme)\n\n\n\nBest Custom Character (see below)\n\n\n\n\nThere will also be a series of other prizes\, including spot prizes every round. \n\n\n\n\n\n\n\n\n\nRules\n\n\n\nArmy: \n\n\n\nYou will need a 2000 point army. \n\n\n\nYou may not include any named epic heroes (E.g. no Calgar\, no Swarmlord etc) \n\n\n\nInstead you are heavily encouraged to use the new Custom Character generation that can be found in The Maelstrom: Crucible of Champions book. However\, this must be a model specifically built to look like a unique champion – not a model you already have that just uses new rules. For example: if you have a T’au broadside commander then he should look very different to other broadsides. \n\n\n\nThe event is a narrative event and thus you may have extra alterations to your army from the GM as the story develops. \n\n\n\nHobby Rules: \n\n\n\nTo keep the narrative as engaging as possible all models in your army should be fully painted and based. \n\n\n\nConversions\, kitbashes etc are encouraged but they must be recognisable and hold the same attributes as the model they represent (e.g. roughly the same size\, on the same base etc). \n\n\n\n\n\n\n\n\n\n\n\n\n\n\n\n\n\n\n\nQuestions?\n\n\n\nIf you’ve got any questions about this event that aren’t answered in the event pack or below\, please get in touch! \n\n\n\n\n\nAbout the Venue\n\n\n\nHull’s Angels Tabletop Gaming Club is ran by the community\, for the community. Our committee members and event organisers are all volunteers\, which helps keep our entry fees low.  \n\n\n\nOur goal is the make the gaming community in Hull and East Yorkshire the best it can be\, and offer a safe and comfortable environment for everyone to enjoy with great facilities.  \n\n\n\nFood and Drinks\n\n\n\nFood will not be provided for this event\, however the club is located right in the middle of Hull City Center which is home to all kinds of bars\, restaurants and takeaways.The club has a front counter which sells hot and cold drinks\, snacks\, hobby supplies\, dice\, and sprays! All sales from these help keep the club open. \n\n\n\nAge Restrictions\n\n\n\nTo attend an event you must be 18 or over.  \n\n\n\nDisabled Access\n\n\n\nThe club is situated on the first floor up a flight of stairs. Unfortunately we have no disabled access right now – this is something we’re working on. \n\n\n\nEach of gaming tables are designed to be stood at while playing\, or sat on stools at. If you have accessibility requirements and would prefer a lower table with chairs please let us know and we can provide one for your visit. \n\n\n\nFacilities\n\n\n\nThe club has toilet facilities for both male\, female and disabled visitors. \n\n\n\nWhere to Find Us and Parking\n\n\n\nInformation on the best places to park for the event can be found here \n\n\n\n\n	\n		\n\n	\n\n\n\n\n	\n\n\n\n\nRefund Policy\n\n\n\nTickets can be refunded up to 7 days before the event starts unless the event is cancelled\, where a full refund will be issued. If you turn up after the safety briefing at the start of the event\, you may be turned away without a refund. Hull’s Angels is not responsible for any additional costs (such as travel or accommodation) that may occur if an event is cancelled. To request a refund please contact us.
URL:https://hullsangels.com/event/the-fall-of-sephirius-a-warhammer-40000-narrative-campaign-weekend/
CATEGORIES:Warhammer 40k
ATTACH;FMTTYPE=image/webp:https://hullsangels.com/wp-content/uploads/2026/02/sephirius.webp
END:VEVENT
END:VCALENDAR